{"text_format":"1","workbook":"xlsx","n_sheets":31,"sheets":["Etappe","Controle","Teams","Tijden","1L","2M","3K","4E","5N","6T","7U","8E","9C","10R","11B","12E","Einduitslag","Digilink","N1L","N2M","N3K","N4E","N5N","N6T","N7U","N8E","N9C","N10R","N11B","N12E","Sheet1"],"not_rendered":{"charts":0,"images":0,"macros":1,"external_links":0,"defined_names":49,"comments":0,"pivot_tables":0},"unopened":[],"bounds":{"document_bytes":16777216,"sheet_cells":100000,"rows_first":2000,"rows_last":500,"rows_between":2000,"halvings":0,"cell_chars":16384,"cell_head_chars":4096},"cells_cut":0,"cells_raw":0,"read":"whole","date_system":"1900"}

{"sheet":"Etappe","index":0,"n_rows":39,"n_cols":25,"rows_kept":39,"cut":false,"hidden":false,"merged":[]}
["Nr","Etappe","afstand(km)",null,null,"km"]
[1,"Emmeloord - Luttelgeest",11.34,{"$f":"COUNTA(A2:A14)","v":13}]
[2,"Luttelgeest - Marknesse",4.7]
[3,"Marknesse - Kraggenburg",5.72]
[4,"Kraggenburg - Ens",6.34,null,null,null,null,null,"A","B","C",null,"D"]
[5,"Ens - Nagele",7.78,null,null,null,null,"Gegevens op deze pagina worden gebruikt voor de koppen van de uitslagen."]
[6,"Nagele - Tollebeek",5.31,null,null,null,null,"Daarom:"]
[7,"Tollebeek - Urk",5,null,null,null,null,"regel 1","Nr","Etappe","afstand(km)",null,"km"]
[8,"Urk - Espel",7.8]
[9,"Espel - Creil",4.63,null,null,null,null,"regel 2","Het nr van de etappe, de etappenaam en de afstand"]
[10,"Creil - Rutten",5.44,null,null,null,null,"t/m","vb:"]
[11,"Rutten - Bant",7.05,null,null,null,null,"regel 12",3,"Marknesse - Kraggenburg",5.72]
[12,"Bant - Emmeloord",5.93]
["Datum:","2018-04-14",null,null,null,null,null,"regel 14","kolom 2 ","de datum"]
["m",1]
["v",0.9,null,null,null,null,null,"regel 15","de facor voor de mannen vb:",null,null,"m",1]
[null,"Voorhuys 12-dorpenloop",null,null,null,null,null,"regel 16","de facor voor de vrouwen vb:",null,null,"v",0.9]
[null,"Etappeuitslag Voorhuys 12-dorpenloop AV NOP 2 april 2022"]
[null,"Uitslag van deze etappe. De tijd is de brutotijd",null,null,null,null,null,"regel 17","kolom 2 ","De naam voor de loop vb 11 dorpenloop"]
[null,"Uitslag t/m deze etappe. De tijd is de som van de nettotijden."]
[null,"Einduitslag Voorhuys12-dorpenloop 2022 AV NOP. De tijden zijn netto tijden",null,null,null,null,null,"regel 18","kolom 2 ","De kop boven de etappeuitslag"]
[null,null,null,null,null,null,null,null,"vb:","Etappeuitslag 11 dorpenloop AV NOP 8 april 2017"]
["nr","nr"]
["team","team",null,null,null,null,null,"regel 19","kolom 2 ","Komt links boven de etappeuitslag vb:",null,null,"Uitslag van deze etappe. De tijd is de brutotijd"]
["Teamnaam","Naam loper",null,null,null,null,null,"regel 20","kolom 2 ","Komt rechts boven de etappeuitslag vb:",null,null,"Uitslag t/m deze etappe. De tijd is de som van de nettotijden"]
[1,"Tijd"]
[2,null,null,null,null,null,null,"regel 21","kolom 2 ","Komt boven de einduitslag vb: ",null,null,"Einduitslag 11dorpenloop 2017 AV NOP. De tijden zijn netto tijden"]
[3,"km/h"]
[4,null,null,null,null,null,null,"regel 23",null,"tabelkop boven de einduitslag"]
[5,"nr ",null,null,null,null,null,"t/m","kolom 1","vb:"]
[6,"team",null,null,null,null,null,"regel 37",null,"nr","team","teamnaam",1,2,3,4,5,6,7,8,9,10,11,"Totaal","∆"]
[7,"Teamnaam"]
[8,"Tijd",null,null,null,null,null,"regel 23",null,"tabelkop boven etappeuitslagen"]
[9,"∆",null,null,null,null,null,"t/m","kolom 2 ","vb:"]
[10,null,null,null,null,null,null,"regel 34",null,"nr","team","teamnaam","Tijd",null,"km/h",null,"nr ","stnr","Ploeg","Tijd","∆"]
[11]
[12]
["Totaal"]
["∆"]

{"sheet":"Controle","index":1,"n_rows":82,"n_cols":13,"rows_kept":82,"cut":false,"hidden":true,"merged":[]}
[null,null,"niets : goed",null,"0: er mist een tijd",null,"2 of meer : er zijn bij deze etappe te veel tijden ingevoerd"]
[null,1,2,3,4,5,6,7,8,9,10,11,12]
[1,null,null,null,null,0,0,0,0,0,0,0,0]
[2,null,null,null,null,0,0,0,0,0,0,0,0]
[3,null,null,null,null,0,0,0,0,0,0,0,0]
[4,null,null,null,null,0,0,0,0,0,0,0,0]
[5,null,null,null,null,0,0,0,0,0,0,0,0]
[6,null,null,null,null,0,0,0,0,0,0,0,0]
[7,null,null,null,null,0,0,0,0,0,0,0,0]
[8,null,null,null,null,0,0,0,0,0,0,0,0]
[9,null,null,null,null,0,0,0,0,0,0,0,0]
[10,null,null,null,null,0,0,0,0,0,0,0,0]
[11,null,null,null,null,0,0,0,0,0,0,0,0]
[12,null,null,null,null,0,0,0,0,0,0,0,0]
[13,null,null,null,null,0,0,0,0,0,0,0,0]
[14,null,null,null,null,0,0,0,0,0,0,0,0]
[15,null,null,null,null,0,0,0,0,0,0,0,0]
[16,null,null,null,null,0,0,0,0,0,0,0,0]
[17,null,null,null,null,0,0,0,0,0,0,0,0]
[18,null,null,null,null,0,0,0,0,0,0,0,0]
[19,null,null,null,null,0,0,0,0,0,0,0,0]
[20,null,null,null,null,0,0,0,0,0,0,0,0]
[21,null,null,null,null,0,0,0,0,0,0,0,0]
[22,null,null,null,null,0,0,0,0,0,0,0,0]
[23,null,null,null,null,0,0,0,0,0,0,0,0]
[24,null,null,null,null,0,0,0,0,0,0,0,0]
[25,null,null,null,null,0,0,0,0,0,0,0,0]
[26,null,null,null,null,0,0,0,0,0,0,0,0]
[27,null,null,null,null,0,0,0,0,0,0,0,0]
[28,null,null,null,null,0,0,0,0,0,0,0,0]
[29,null,null,null,null,0,0,0,0,0,0,0,0]
[30,null,null,null,null,0,0,0,0,0,0,0,0]
[31,null,null,null,null,0,0,0,0,0,0,0,0]
[32,null,null,null,null,0,0,0,0,0,0,0,0]
[33,null,null,null,null,0,0,0,0,0,0,0,0]
[34,null,null,null,null,0,0,0,0,0,0,0,0]
[35,0,0,0,0,0,0,0,0,0,0,0,0]
[36,null,null,null,null,0,0,0,0,0,0,0,0]
[37,null,null,null,null,0,0,0,0,0,0,0,0]
[38,null,null,null,null,0,0,0,0,0,0,0,0]
[39,null,null,null,null,0,0,0,0,0,0,0,0]
[40,null,null,null,null,0,0,0,0,0,0,0,0]
[41,null,null,null,null,0,0,0,0,0,0,0,0]
[42,null,null,null,null,0,0,0,0,0,0,0,0]
[43,null,null,null,null,0,0,0,0,0,0,0,0]
[44,null,null,null,null,0,0,0,0,0,0,0,0]
[45,null,null,null,null,0,0,0,0,0,0,0,0]
[46,null,null,null,null,0,0,0,0,0,0,0,0]
[47,null,null,null,null,0,0,0,0,0,0,0,0]
[48,0,0,0,0,0,0,0,0,0,0,0,0]
[49,null,null,null,null,0,0,0,0,0,0,0,0]
[50,null,null,null,null,0,0,0,0,0,0,0,0]
[51,null,null,null,null,0,0,0,0,0,0,0,0]
[52,null,null,null,null,0,0,0,0,0,0,0,0]
[53,null,null,null,null,0,0,0,0,0,0,0,0]
[54,null,null,null,null,0,0,0,0,0,0,0,0]
[55,null,null,null,null,0,0,0,0,0,0,0,0]
[56,null,null,null,2,0,0,0,0,0,0,0,0]
[57,null,null,null,null,0,0,0,0,0,0,0,0]
[58,null,null,null,null,0,0,0,0,0,0,0,0]
[59,null,null,null,null,0,0,0,0,0,0,0,0]
[60,null,null,null,null,0,0,0,0,0,0,0,0]
[61,null,null,null,null,0,0,0,0,0,0,0,0]
[62,null,null,null,null,0,0,0,0,0,0,0,0]
[63,null,null,null,null,0,0,0,0,0,0,0,0]
[64,null,null,null,null,0,0,0,0,0,0,0,0]
[65,null,null,null,0,0,0,0,0,0,0,0,0]
[66,null,null,null,null,0,0,0,0,0,0,0,0]
[67,null,null,null,null,0,0,0,0,0,0,0,0]
[68,null,null,null,null,0,0,0,0,0,0,0,0]
[69,null,null,null,null,0,0,0,0,0,0,0,0]
[70,null,null,null,null,0,0,0,0,0,0,0,0]
[71,null,null,null,null,0,0,0,0,0,0,0,0]
[72,null,null,null,null,0,0,0,0,0,0,0,0]
[73,null,null,null,null,0,0,0,0,0,0,0,0]
[74,null,null,null,null,0,0,0,0,0,0,0,0]
[75,null,null,null,null,0,0,0,0,0,0,0,0]
[76,null,null,null,null,0,0,0,0,0,0,0,0]
[77,null,null,null,null,0,0,0,0,0,0,0,0]
[78,null,null,null,null,0,0,0,0,0,0,0,0]
[79,0,0,0,0,0,0,0,0,0,0,0,0]
[80,null,null,null,null,0,0,0,0,0,0,0,0]

{"sheet":"Teams","index":2,"n_rows":188,"n_cols":5,"rows_kept":188,"cut":false,"hidden":false,"merged":[]}
["Strtnr","Naam","Controle\naantal\ntijden","aantal\nploegen","hoogste\nstart-\nnummer"]
[1,"De Corner",null,{"$f":"COUNTA(A2:A147)","v":54},{"$f":"MAX(A2:A147)","v":56}]
[2,"hardloopbegeleidingopmaat/klif 18"]
[3,"Quick Jewels"]
[4,"Klif 18"]
[5,"Dujob"]
[6,"Running Ruijters"]
[7,"ASV Rutten"]
[8,"Hardloopteam Bant"]
[9,"VAN BLOOIS SPORTADVIES"]
[10,"RUN TEAM MARKNESSE"]
[11,"Kraggenburg 4"]
[12,"Hekwerkwebshop.nl"]
[13,"KLIF18 ladies"]
[14,"Vivan komt dr’an"]
[15,"Aves"]
[16,"Team Nagele"]
[17,"SAMEN ONDER WEG"]
[18,"Fit Fun/ Anytime"]
[19,"STC Rutten"]
[20,"Creil"]
[21,"050media"]
[22,"Tollebeek in beweging"]
[23,"Seaconcept"]
[24,"Ter Haar Family & Friends"]
[25,"Hardloop groep Ens"]
[26,"van Vilsteren Marknesse.nl"]
[27,"Running Team Espel"]
[28,"Waterman Onions 1"]
[29,"Waterman Onions Pink Ladies"]
[30,"Autofirst Minnaard "]
[31,"fam.Dekker Draaft Door"]
[32,"Ber-di-do"]
[33,"woensdagavondlopers"]
[34,"Team 't Voorhuys"]
[35,"Waterman Onions 2"]
[36,"Schol op Urk"]
[37,"Van Staveren"]
[38,"Vegterlopers"]
[39,"Suplacon"]
[40,"Mercatus, lopen op z’n best"]
[41,"Advies en Kies en Runners"]
[42,"Kinderopvang Pipo"]
[43,"Lerøy Seafood NL"]
[44,"Tafelronde Noordoostpolder"]
[45,"Berechja College "]
[46,"Hoekstra Assurantie B.V."]
[47,"CrossFit Urk"]
[49,"Flynth"]
[50,"Nick & de rest"]
[51,"Van Urk voeding"]
[52,"Pool-der run4fun"]
[54,"De Dijkies"]
[55,"Fifty-Five"]
[56,"De Broodlopers"]
[]
[]
[]
[]
[]
[]
[]
[]
[]
[]
[]
[]
[]
[]
[]
[]
[]
[]
[]
[]
[]
[null,null,{"$f":"IF(A77<>0,COUNTIF(Tijden!B$2:B$1500,Teams!A77),\"\")","v":""}]
[null,null,{"$f":"IF(A78<>0,COUNTIF(Tijden!B$2:B$1500,Teams!A78),\"\")","v":""}]
[null,null,{"$f":"IF(A79<>0,COUNTIF(Tijden!B$2:B$1500,Teams!A79),\"\")","v":""}]
[null,null,{"$f":"IF(A80<>0,COUNTIF(Tijden!B$2:B$1500,Teams!A80),\"\")","v":""}]
[null,null,{"$f":"IF(A81<>0,COUNTIF(Tijden!B$2:B$1500,Teams!A81),\"\")","v":""}]
[null,null,{"$f":"IF(A82<>0,COUNTIF(Tijden!B$2:B$1500,Teams!A82),\"\")","v":""}]
[null,null,{"$f":"IF(A83<>0,COUNTIF(Tijden!B$2:B$1500,Teams!A83),\"\")","v":""}]
[null,null,{"$f":"IF(A84<>0,COUNTIF(Tijden!B$2:B$1500,Teams!A84),\"\")","v":""}]
[null,null,{"$f":"IF(A85<>0,COUNTIF(Tijden!B$2:B$1500,Teams!A85),\"\")","v":""}]
[null,null,{"$f":"IF(A86<>0,COUNTIF(Tijden!B$2:B$1500,Teams!A86),\"\")","v":""}]
[null,null,{"$f":"IF(A87<>0,COUNTIF(Tijden!B$2:B$1500,Teams!A87),\"\")","v":""}]
[null,null,{"$f":"IF(A88<>0,COUNTIF(Tijden!B$2:B$1500,Teams!A88),\"\")","v":""}]
[null,null,{"$f":"IF(A89<>0,COUNTIF(Tijden!B$2:B$1500,Teams!A89),\"\")","v":""}]
[null,null,{"$f":"IF(A90<>0,COUNTIF(Tijden!B$2:B$1500,Teams!A90),\"\")","v":""}]
[null,null,{"$f":"IF(A91<>0,COUNTIF(Tijden!B$2:B$1500,Teams!A91),\"\")","v":""}]
[null,null,{"$f":"IF(A92<>0,COUNTIF(Tijden!B$2:B$1500,Teams!A92),\"\")","v":""}]
[null,null,{"$f":"IF(A93<>0,COUNTIF(Tijden!B$2:B$1500,Teams!A93),\"\")","v":""}]
[null,null,{"$f":"IF(A94<>0,COUNTIF(Tijden!B$2:B$1500,Teams!A94),\"\")","v":""}]
[null,null,{"$f":"IF(A95<>0,COUNTIF(Tijden!B$2:B$1500,Teams!A95),\"\")","v":""}]
[null,null,{"$f":"IF(A96<>0,COUNTIF(Tijden!B$2:B$1500,Teams!A96),\"\")","v":""}]
[null,null,{"$f":"IF(A97<>0,COUNTIF(Tijden!B$2:B$1500,Teams!A97),\"\")","v":""}]
[null,null,{"$f":"IF(A98<>0,COUNTIF(Tijden!B$2:B$1500,Teams!A98),\"\")","v":""}]
[null,null,{"$f":"IF(A99<>0,COUNTIF(Tijden!B$2:B$1500,Teams!A99),\"\")","v":""}]
[null,null,{"$f":"IF(A100<>0,COUNTIF(Tijden!B$2:B$1500,Teams!A100),\"\")","v":""}]
[null,null,{"$f":"IF(A101<>0,COUNTIF(Tijden!B$2:B$1500,Teams!A101),\"\")","v":""}]
[null,null,{"$f":"IF(A102<>0,COUNTIF(Tijden!B$2:B$1500,Teams!A102),\"\")","v":""}]
[null,null,{"$f":"IF(A103<>0,COUNTIF(Tijden!B$2:B$1500,Teams!A103),\"\")","v":""}]
[null,null,{"$f":"IF(A104<>0,COUNTIF(Tijden!B$2:B$1500,Teams!A104),\"\")","v":""}]
[null,null,{"$f":"IF(A105<>0,COUNTIF(Tijden!B$2:B$1500,Teams!A105),\"\")","v":""}]
[null,null,{"$f":"IF(A106<>0,COUNTIF(Tijden!B$2:B$1500,Teams!A106),\"\")","v":""}]
[null,null,{"$f":"IF(A107<>0,COUNTIF(Tijden!B$2:B$1500,Teams!A107),\"\")","v":""}]
[null,null,{"$f":"IF(A108<>0,COUNTIF(Tijden!B$2:B$1500,Teams!A108),\"\")","v":""}]
[null,null,{"$f":"IF(A109<>0,COUNTIF(Tijden!B$2:B$1500,Teams!A109),\"\")","v":""}]
[null,null,{"$f":"IF(A110<>0,COUNTIF(Tijden!B$2:B$1500,Teams!A110),\"\")","v":""}]
[null,null,{"$f":"IF(A111<>0,COUNTIF(Tijden!B$2:B$1500,Teams!A111),\"\")","v":""}]
[null,null,{"$f":"IF(A112<>0,COUNTIF(Tijden!B$2:B$1500,Teams!A112),\"\")","v":""}]
[null,null,{"$f":"IF(A113<>0,COUNTIF(Tijden!B$2:B$1500,Teams!A113),\"\")","v":""}]
[null,null,{"$f":"IF(A114<>0,COUNTIF(Tijden!B$2:B$1500,Teams!A114),\"\")","v":""}]
[null,null,{"$f":"IF(A115<>0,COUNTIF(Tijden!B$2:B$1500,Teams!A115),\"\")","v":""}]
[null,null,{"$f":"IF(A116<>0,COUNTIF(Tijden!B$2:B$1500,Teams!A116),\"\")","v":""}]
[null,null,{"$f":"IF(A117<>0,COUNTIF(Tijden!B$2:B$1500,Teams!A117),\"\")","v":""}]
[null,null,{"$f":"IF(A118<>0,COUNTIF(Tijden!B$2:B$1500,Teams!A118),\"\")","v":""}]
[null,null,{"$f":"IF(A119<>0,COUNTIF(Tijden!B$2:B$1500,Teams!A119),\"\")","v":""}]
[null,null,{"$f":"IF(A120<>0,COUNTIF(Tijden!B$2:B$1500,Teams!A120),\"\")","v":""}]
[null,null,{"$f":"IF(A121<>0,COUNTIF(Tijden!B$2:B$1500,Teams!A121),\"\")","v":""}]
[null,null,{"$f":"IF(A122<>0,COUNTIF(Tijden!B$2:B$1500,Teams!A122),\"\")","v":""}]
[null,null,{"$f":"IF(A123<>0,COUNTIF(Tijden!B$2:B$1500,Teams!A123),\"\")","v":""}]
[null,null,{"$f":"IF(A124<>0,COUNTIF(Tijden!B$2:B$1500,Teams!A124),\"\")","v":""}]
[null,null,{"$f":"IF(A125<>0,COUNTIF(Tijden!B$2:B$1500,Teams!A125),\"\")","v":""}]
[null,null,{"$f":"IF(A126<>0,COUNTIF(Tijden!B$2:B$1500,Teams!A126),\"\")","v":""}]
[null,null,{"$f":"IF(A127<>0,COUNTIF(Tijden!B$2:B$1500,Teams!A127),\"\")","v":""}]
[null,null,{"$f":"IF(A128<>0,COUNTIF(Tijden!B$2:B$1500,Teams!A128),\"\")","v":""}]
[null,null,{"$f":"IF(A129<>0,COUNTIF(Tijden!B$2:B$1500,Teams!A129),\"\")","v":""}]
[null,null,{"$f":"IF(A130<>0,COUNTIF(Tijden!B$2:B$1500,Teams!A130),\"\")","v":""}]
[null,null,{"$f":"IF(A131<>0,COUNTIF(Tijden!B$2:B$1500,Teams!A131),\"\")","v":""}]
[null,null,{"$f":"IF(A132<>0,COUNTIF(Tijden!B$2:B$1500,Teams!A132),\"\")","v":""}]
[null,null,{"$f":"IF(A133<>0,COUNTIF(Tijden!B$2:B$1500,Teams!A133),\"\")","v":""}]
[null,null,{"$f":"IF(A134<>0,COUNTIF(Tijden!B$2:B$1500,Teams!A134),\"\")","v":""}]
[null,null,{"$f":"IF(A135<>0,COUNTIF(Tijden!B$2:B$1500,Teams!A135),\"\")","v":""}]
[null,null,{"$f":"IF(A136<>0,COUNTIF(Tijden!B$2:B$1500,Teams!A136),\"\")","v":""}]
[null,null,{"$f":"IF(A137<>0,COUNTIF(Tijden!B$2:B$1500,Teams!A137),\"\")","v":""}]
[null,null,{"$f":"IF(A138<>0,COUNTIF(Tijden!B$2:B$1500,Teams!A138),\"\")","v":""}]
[null,null,{"$f":"IF(A139<>0,COUNTIF(Tijden!B$2:B$1500,Teams!A139),\"\")","v":""}]
[null,null,{"$f":"IF(A140<>0,COUNTIF(Tijden!B$2:B$1500,Teams!A140),\"\")","v":""}]
[null,null,{"$f":"IF(A141<>0,COUNTIF(Tijden!B$2:B$1500,Teams!A141),\"\")","v":""}]
[null,null,{"$f":"IF(A142<>0,COUNTIF(Tijden!B$2:B$1500,Teams!A142),\"\")","v":""}]
[null,null,{"$f":"IF(A143<>0,COUNTIF(Tijden!B$2:B$1500,Teams!A143),\"\")","v":""}]
[null,null,{"$f":"IF(A144<>0,COUNTIF(Tijden!B$2:B$1500,Teams!A144),\"\")","v":""}]
[null,null,{"$f":"IF(A145<>0,COUNTIF(Tijden!B$2:B$1500,Teams!A145),\"\")","v":""}]
[null,null,{"$f":"IF(A146<>0,COUNTIF(Tijden!B$2:B$1500,Teams!A146),\"\")","v":""}]
[null,null,{"$f":"IF(A147<>0,COUNTIF(Tijden!B$2:B$1500,Teams!A147),\"\")","v":""}]
[null,null,{"$f":"IF(A148<>0,COUNTIF(Tijden!B$2:B$1500,Teams!A148),\"\")","v":""}]
[null,null,{"$f":"IF(A149<>0,COUNTIF(Tijden!B$2:B$1500,Teams!A149),\"\")","v":""}]
[null,null,{"$f":"IF(A150<>0,COUNTIF(Tijden!B$2:B$1500,Teams!A150),\"\")","v":""}]
[null,null,{"$f":"IF(A151<>0,COUNTIF(Tijden!B$2:B$1500,Teams!A151),\"\")","v":""}]
[null,null,{"$f":"IF(A152<>0,COUNTIF(Tijden!B$2:B$1500,Teams!A152),\"\")","v":""}]
[null,null,{"$f":"IF(A153<>0,COUNTIF(Tijden!B$2:B$1500,Teams!A153),\"\")","v":""}]
[null,null,{"$f":"IF(A154<>0,COUNTIF(Tijden!B$2:B$1500,Teams!A154),\"\")","v":""}]
[null,null,{"$f":"IF(A155<>0,COUNTIF(Tijden!B$2:B$1500,Teams!A155),\"\")","v":""}]
[null,null,{"$f":"IF(A156<>0,COUNTIF(Tijden!B$2:B$1500,Teams!A156),\"\")","v":""}]
[null,null,{"$f":"IF(A157<>0,COUNTIF(Tijden!B$2:B$1500,Teams!A157),\"\")","v":""}]
[null,null,{"$f":"IF(A158<>0,COUNTIF(Tijden!B$2:B$1500,Teams!A158),\"\")","v":""}]
[null,null,{"$f":"IF(A159<>0,COUNTIF(Tijden!B$2:B$1500,Teams!A159),\"\")","v":""}]
[null,null,{"$f":"IF(A160<>0,COUNTIF(Tijden!B$2:B$1500,Teams!A160),\"\")","v":""}]
[null,null,{"$f":"IF(A161<>0,COUNTIF(Tijden!B$2:B$1500,Teams!A161),\"\")","v":""}]
[null,null,{"$f":"IF(A162<>0,COUNTIF(Tijden!B$2:B$1500,Teams!A162),\"\")","v":""}]
[null,null,{"$f":"IF(A163<>0,COUNTIF(Tijden!B$2:B$1500,Teams!A163),\"\")","v":""}]
[null,null,{"$f":"IF(A164<>0,COUNTIF(Tijden!B$2:B$1500,Teams!A164),\"\")","v":""}]
[null,null,{"$f":"IF(A165<>0,COUNTIF(Tijden!B$2:B$1500,Teams!A165),\"\")","v":""}]
[null,null,{"$f":"IF(A166<>0,COUNTIF(Tijden!B$2:B$1500,Teams!A166),\"\")","v":""}]
[null,null,{"$f":"IF(A167<>0,COUNTIF(Tijden!B$2:B$1500,Teams!A167),\"\")","v":""}]
[null,null,{"$f":"IF(A168<>0,COUNTIF(Tijden!B$2:B$1500,Teams!A168),\"\")","v":""}]
[null,null,{"$f":"IF(A169<>0,COUNTIF(Tijden!B$2:B$1500,Teams!A169),\"\")","v":""}]
[null,null,{"$f":"IF(A170<>0,COUNTIF(Tijden!B$2:B$1500,Teams!A170),\"\")","v":""}]
[null,null,{"$f":"IF(A171<>0,COUNTIF(Tijden!B$2:B$1500,Teams!A171),\"\")","v":""}]
[null,null,{"$f":"IF(A172<>0,COUNTIF(Tijden!B$2:B$1500,Teams!A172),\"\")","v":""}]
[null,null,{"$f":"IF(A173<>0,COUNTIF(Tijden!B$2:B$1500,Teams!A173),\"\")","v":""}]
[null,null,{"$f":"IF(A174<>0,COUNTIF(Tijden!B$2:B$1500,Teams!A174),\"\")","v":""}]
[null,null,{"$f":"IF(A175<>0,COUNTIF(Tijden!B$2:B$1500,Teams!A175),\"\")","v":""}]
[null,null,{"$f":"IF(A176<>0,COUNTIF(Tijden!B$2:B$1500,Teams!A176),\"\")","v":""}]
[null,null,{"$f":"IF(A177<>0,COUNTIF(Tijden!B$2:B$1500,Teams!A177),\"\")","v":""}]
[null,null,{"$f":"IF(A178<>0,COUNTIF(Tijden!B$2:B$1500,Teams!A178),\"\")","v":""}]
[null,null,{"$f":"IF(A179<>0,COUNTIF(Tijden!B$2:B$1500,Teams!A179),\"\")","v":""}]
[null,null,{"$f":"IF(A180<>0,COUNTIF(Tijden!B$2:B$1500,Teams!A180),\"\")","v":""}]
[null,null,{"$f":"IF(A181<>0,COUNTIF(Tijden!B$2:B$1500,Teams!A181),\"\")","v":""}]
[null,null,{"$f":"IF(A182<>0,COUNTIF(Tijden!B$2:B$1500,Teams!A182),\"\")","v":""}]
[null,null,{"$f":"IF(A183<>0,COUNTIF(Tijden!B$2:B$1500,Teams!A183),\"\")","v":""}]
[null,null,{"$f":"IF(A184<>0,COUNTIF(Tijden!B$2:B$1500,Teams!A184),\"\")","v":""}]
[null,null,{"$f":"IF(A185<>0,COUNTIF(Tijden!B$2:B$1500,Teams!A185),\"\")","v":""}]
[null,null,{"$f":"IF(A186<>0,COUNTIF(Tijden!B$2:B$1500,Teams!A186),\"\")","v":""}]
[null,null,{"$f":"IF(A187<>0,COUNTIF(Tijden!B$2:B$1500,Teams!A187),\"\")","v":""}]
[null,null,{"$f":"IF(A188<>0,COUNTIF(Tijden!B$2:B$1500,Teams!A188),\"\")","v":""}]

{"sheet":"Tijden","index":3,"n_rows":1500,"n_cols":8,"rows_kept":1500,"cut":false,"hidden":false,"merged":[]}
["Etappe","team"," m/v","bruto tijd","netto tijd","teamnaam","etappenaam",{"$f":"COUNTA(A:A)-1","v":648}]
[1,2,null,2.631944444444444E-2,{"$f":"IF(ISBLANK(A2),\"\",IF(C2=\"v\",0.9*D2,D2))","v":2.631944444444444E-2},{"$f":"IF( ISBLANK(A2),\"\",IF(ISBLANK(B2),\"\",VLOOKUP(B2,Teams!A$2:B$95,2,0)))","v":"hardloopbegeleidingopmaat/klif 18"},{"$f":"IF(ISBLANK(A2),\"\",VLOOKUP(A2,Etappe!A$2:B$13,2,FALSE))","v":"Emmeloord - Luttelgeest"}]
[1,1,null,3.0028009259259258E-2,{"$f":"IF(ISBLANK(A3),\"\",IF(C3=\"v\",0.9*D3,D3))","v":3.0028009259259258E-2},{"$f":"IF( ISBLANK(A3),\"\",IF(ISBLANK(B3),\"\",VLOOKUP(B3,Teams!A$2:B$95,2,0)))","v":"De Corner"},{"$f":"IF(ISBLANK(A3),\"\",VLOOKUP(A3,Etappe!A$2:B$13,2,FALSE))","v":"Emmeloord - Luttelgeest"}]
[1,5,null,3.0492476851851847E-2,3.0492476851851847E-2,{"$f":"IF( ISBLANK(A4),\"\",IF(ISBLANK(B4),\"\",VLOOKUP(B4,Teams!A$2:B$95,2,0)))","v":"Dujob"},{"$f":"IF(ISBLANK(A4),\"\",VLOOKUP(A4,Etappe!A$2:B$13,2,FALSE))","v":"Emmeloord - Luttelgeest"}]
[1,3,null,3.0528240740740741E-2,3.0528240740740741E-2,{"$f":"IF( ISBLANK(A5),\"\",IF(ISBLANK(B5),\"\",VLOOKUP(B5,Teams!A$2:B$95,2,0)))","v":"Quick Jewels"},{"$f":"IF(ISBLANK(A5),\"\",VLOOKUP(A5,Etappe!A$2:B$13,2,FALSE))","v":"Emmeloord - Luttelgeest"}]
[1,52,null,3.0885648148148148E-2,3.0885648148148148E-2,{"$f":"IF( ISBLANK(A6),\"\",IF(ISBLANK(B6),\"\",VLOOKUP(B6,Teams!A$2:B$95,2,0)))","v":"Pool-der run4fun"},{"$f":"IF(ISBLANK(A6),\"\",VLOOKUP(A6,Etappe!A$2:B$13,2,FALSE))","v":"Emmeloord - Luttelgeest"}]
[1,34,null,3.0955439814814814E-2,3.0955439814814814E-2,{"$f":"IF( ISBLANK(A7),\"\",IF(ISBLANK(B7),\"\",VLOOKUP(B7,Teams!A$2:B$95,2,0)))","v":"Team 't Voorhuys"},{"$f":"IF(ISBLANK(A7),\"\",VLOOKUP(A7,Etappe!A$2:B$13,2,FALSE))","v":"Emmeloord - Luttelgeest"}]
[1,4,"v",3.1946875E-2,2.8752187500000002E-2,{"$f":"IF( ISBLANK(A8),\"\",IF(ISBLANK(B8),\"\",VLOOKUP(B8,Teams!A$2:B$95,2,0)))","v":"Klif 18"},{"$f":"IF(ISBLANK(A8),\"\",VLOOKUP(A8,Etappe!A$2:B$13,2,FALSE))","v":"Emmeloord - Luttelgeest"}]
[1,22,null,3.2293634259259262E-2,3.2293634259259262E-2,{"$f":"IF( ISBLANK(A9),\"\",IF(ISBLANK(B9),\"\",VLOOKUP(B9,Teams!A$2:B$95,2,0)))","v":"Tollebeek in beweging"},{"$f":"IF(ISBLANK(A9),\"\",VLOOKUP(A9,Etappe!A$2:B$13,2,FALSE))","v":"Emmeloord - Luttelgeest"}]
[1,14,null,3.2724074074074079E-2,3.2724074074074079E-2,{"$f":"IF( ISBLANK(A10),\"\",IF(ISBLANK(B10),\"\",VLOOKUP(B10,Teams!A$2:B$95,2,0)))","v":"Vivan komt dr’an"},{"$f":"IF(ISBLANK(A10),\"\",VLOOKUP(A10,Etappe!A$2:B$13,2,FALSE))","v":"Emmeloord - Luttelgeest"}]
[1,21,null,3.2797106481481479E-2,3.2797106481481479E-2,{"$f":"IF( ISBLANK(A11),\"\",IF(ISBLANK(B11),\"\",VLOOKUP(B11,Teams!A$2:B$95,2,0)))","v":"050media"},{"$f":"IF(ISBLANK(A11),\"\",VLOOKUP(A11,Etappe!A$2:B$13,2,FALSE))","v":"Emmeloord - Luttelgeest"}]
[1,9,null,3.3185300925925927E-2,3.3185300925925927E-2,{"$f":"IF( ISBLANK(A12),\"\",IF(ISBLANK(B12),\"\",VLOOKUP(B12,Teams!A$2:B$95,2,0)))","v":"VAN BLOOIS SPORTADVIES"},{"$f":"IF(ISBLANK(A12),\"\",VLOOKUP(A12,Etappe!A$2:B$13,2,FALSE))","v":"Emmeloord - Luttelgeest"}]
[1,20,"v",3.4379166666666669E-2,3.0941250000000003E-2,{"$f":"IF( ISBLANK(A13),\"\",IF(ISBLANK(B13),\"\",VLOOKUP(B13,Teams!A$2:B$95,2,0)))","v":"Creil"},{"$f":"IF(ISBLANK(A13),\"\",VLOOKUP(A13,Etappe!A$2:B$13,2,FALSE))","v":"Emmeloord - Luttelgeest"}]
[1,6,null,3.4441782407407411E-2,3.4441782407407411E-2,{"$f":"IF( ISBLANK(A14),\"\",IF(ISBLANK(B14),\"\",VLOOKUP(B14,Teams!A$2:B$95,2,0)))","v":"Running Ruijters"},{"$f":"IF(ISBLANK(A14),\"\",VLOOKUP(A14,Etappe!A$2:B$13,2,FALSE))","v":"Emmeloord - Luttelgeest"}]
[1,46,null,3.4583217592592592E-2,3.4583217592592592E-2,{"$f":"IF( ISBLANK(A15),\"\",IF(ISBLANK(B15),\"\",VLOOKUP(B15,Teams!A$2:B$95,2,0)))","v":"Hoekstra Assurantie B.V."},{"$f":"IF(ISBLANK(A15),\"\",VLOOKUP(A15,Etappe!A$2:B$13,2,FALSE))","v":"Emmeloord - Luttelgeest"}]
[1,25,null,3.4673611111111106E-2,3.4673611111111106E-2,{"$f":"IF( ISBLANK(A16),\"\",IF(ISBLANK(B16),\"\",VLOOKUP(B16,Teams!A$2:B$95,2,0)))","v":"Hardloop groep Ens"},{"$f":"IF(ISBLANK(A16),\"\",VLOOKUP(A16,Etappe!A$2:B$13,2,FALSE))","v":"Emmeloord - Luttelgeest"}]
[1,10,null,3.4679398148148147E-2,3.4679398148148147E-2,{"$f":"IF( ISBLANK(A17),\"\",IF(ISBLANK(B17),\"\",VLOOKUP(B17,Teams!A$2:B$95,2,0)))","v":"RUN TEAM MARKNESSE"},{"$f":"IF(ISBLANK(A17),\"\",VLOOKUP(A17,Etappe!A$2:B$13,2,FALSE))","v":"Emmeloord - Luttelgeest"}]
[1,55,null,3.4685532407407411E-2,3.4685532407407411E-2,{"$f":"IF( ISBLANK(A18),\"\",IF(ISBLANK(B18),\"\",VLOOKUP(B18,Teams!A$2:B$95,2,0)))","v":"Fifty-Five"},{"$f":"IF(ISBLANK(A18),\"\",VLOOKUP(A18,Etappe!A$2:B$13,2,FALSE))","v":"Emmeloord - Luttelgeest"}]
[1,37,null,3.470798611111111E-2,3.470798611111111E-2,{"$f":"IF( ISBLANK(A19),\"\",IF(ISBLANK(B19),\"\",VLOOKUP(B19,Teams!A$2:B$95,2,0)))","v":"Van Staveren"},{"$f":"IF(ISBLANK(A19),\"\",VLOOKUP(A19,Etappe!A$2:B$13,2,FALSE))","v":"Emmeloord - Luttelgeest"}]
[1,56,null,3.5214351851851851E-2,3.5214351851851851E-2,{"$f":"IF( ISBLANK(A20),\"\",IF(ISBLANK(B20),\"\",VLOOKUP(B20,Teams!A$2:B$95,2,0)))","v":"De Broodlopers"},{"$f":"IF(ISBLANK(A20),\"\",VLOOKUP(A20,Etappe!A$2:B$13,2,FALSE))","v":"Emmeloord - Luttelgeest"}]
[1,36,null,3.5316319444444445E-2,3.5316319444444445E-2,{"$f":"IF( ISBLANK(A21),\"\",IF(ISBLANK(B21),\"\",VLOOKUP(B21,Teams!A$2:B$95,2,0)))","v":"Schol op Urk"},{"$f":"IF(ISBLANK(A21),\"\",VLOOKUP(A21,Etappe!A$2:B$13,2,FALSE))","v":"Emmeloord - Luttelgeest"}]
[1,32,null,3.5398379629629627E-2,3.5398379629629627E-2,{"$f":"IF( ISBLANK(A22),\"\",IF(ISBLANK(B22),\"\",VLOOKUP(B22,Teams!A$2:B$95,2,0)))","v":"Ber-di-do"},{"$f":"IF(ISBLANK(A22),\"\",VLOOKUP(A22,Etappe!A$2:B$13,2,FALSE))","v":"Emmeloord - Luttelgeest"}]
[1,26,"v",3.5512037037037036E-2,3.1960833333333334E-2,{"$f":"IF( ISBLANK(A23),\"\",IF(ISBLANK(B23),\"\",VLOOKUP(B23,Teams!A$2:B$95,2,0)))","v":"van Vilsteren Marknesse.nl"},{"$f":"IF(ISBLANK(A23),\"\",VLOOKUP(A23,Etappe!A$2:B$13,2,FALSE))","v":"Emmeloord - Luttelgeest"}]
[1,27,null,3.5518865740740736E-2,3.5518865740740736E-2,{"$f":"IF( ISBLANK(A24),\"\",IF(ISBLANK(B24),\"\",VLOOKUP(B24,Teams!A$2:B$95,2,0)))","v":"Running Team Espel"},{"$f":"IF(ISBLANK(A24),\"\",VLOOKUP(A24,Etappe!A$2:B$13,2,FALSE))","v":"Emmeloord - Luttelgeest"}]
[1,17,null,3.5894675925925927E-2,3.5894675925925927E-2,{"$f":"IF( ISBLANK(A25),\"\",IF(ISBLANK(B25),\"\",VLOOKUP(B25,Teams!A$2:B$95,2,0)))","v":"SAMEN ONDER WEG"},{"$f":"IF(ISBLANK(A25),\"\",VLOOKUP(A25,Etappe!A$2:B$13,2,FALSE))","v":"Emmeloord - Luttelgeest"}]
[1,19,null,3.6444444444444439E-2,3.6444444444444439E-2,{"$f":"IF( ISBLANK(A26),\"\",IF(ISBLANK(B26),\"\",VLOOKUP(B26,Teams!A$2:B$95,2,0)))","v":"STC Rutten"},{"$f":"IF(ISBLANK(A26),\"\",VLOOKUP(A26,Etappe!A$2:B$13,2,FALSE))","v":"Emmeloord - Luttelgeest"}]
[1,11,null,3.6504050925925922E-2,3.6504050925925922E-2,{"$f":"IF( ISBLANK(A27),\"\",IF(ISBLANK(B27),\"\",VLOOKUP(B27,Teams!A$2:B$95,2,0)))","v":"Kraggenburg 4"},{"$f":"IF(ISBLANK(A27),\"\",VLOOKUP(A27,Etappe!A$2:B$13,2,FALSE))","v":"Emmeloord - Luttelgeest"}]
[1,49,null,3.657789351851852E-2,3.657789351851852E-2,{"$f":"IF( ISBLANK(A28),\"\",IF(ISBLANK(B28),\"\",VLOOKUP(B28,Teams!A$2:B$95,2,0)))","v":"Flynth"},{"$f":"IF(ISBLANK(A28),\"\",VLOOKUP(A28,Etappe!A$2:B$13,2,FALSE))","v":"Emmeloord - Luttelgeest"}]
[1,30,"v",3.6812615740740746E-2,3.3131354166666675E-2,{"$f":"IF( ISBLANK(A29),\"\",IF(ISBLANK(B29),\"\",VLOOKUP(B29,Teams!A$2:B$95,2,0)))","v":"Autofirst Minnaard "},{"$f":"IF(ISBLANK(A29),\"\",VLOOKUP(A29,Etappe!A$2:B$13,2,FALSE))","v":"Emmeloord - Luttelgeest"}]
[1,8,null,3.6862499999999999E-2,3.6862499999999999E-2,{"$f":"IF( ISBLANK(A30),\"\",IF(ISBLANK(B30),\"\",VLOOKUP(B30,Teams!A$2:B$95,2,0)))","v":"Hardloopteam Bant"},{"$f":"IF(ISBLANK(A30),\"\",VLOOKUP(A30,Etappe!A$2:B$13,2,FALSE))","v":"Emmeloord - Luttelgeest"}]
[1,31,null,3.6869791666666665E-2,3.6869791666666665E-2,{"$f":"IF( ISBLANK(A31),\"\",IF(ISBLANK(B31),\"\",VLOOKUP(B31,Teams!A$2:B$95,2,0)))","v":"fam.Dekker Draaft Door"},{"$f":"IF(ISBLANK(A31),\"\",VLOOKUP(A31,Etappe!A$2:B$13,2,FALSE))","v":"Emmeloord - Luttelgeest"}]
[1,45,null,3.6890740740740745E-2,3.6890740740740745E-2,{"$f":"IF( ISBLANK(A32),\"\",IF(ISBLANK(B32),\"\",VLOOKUP(B32,Teams!A$2:B$95,2,0)))","v":"Berechja College "},{"$f":"IF(ISBLANK(A32),\"\",VLOOKUP(A32,Etappe!A$2:B$13,2,FALSE))","v":"Emmeloord - Luttelgeest"}]
[1,12,null,3.7007986111111106E-2,3.7007986111111106E-2,{"$f":"IF( ISBLANK(A33),\"\",IF(ISBLANK(B33),\"\",VLOOKUP(B33,Teams!A$2:B$95,2,0)))","v":"Hekwerkwebshop.nl"},{"$f":"IF(ISBLANK(A33),\"\",VLOOKUP(A33,Etappe!A$2:B$13,2,FALSE))","v":"Emmeloord - Luttelgeest"}]
[1,33,null,3.7125810185185182E-2,3.7125810185185182E-2,{"$f":"IF( ISBLANK(A34),\"\",IF(ISBLANK(B34),\"\",VLOOKUP(B34,Teams!A$2:B$95,2,0)))","v":"woensdagavondlopers"},{"$f":"IF(ISBLANK(A34),\"\",VLOOKUP(A34,Etappe!A$2:B$13,2,FALSE))","v":"Emmeloord - Luttelgeest"}]
[1,42,null,3.7462615740740744E-2,3.7462615740740744E-2,{"$f":"IF( ISBLANK(A35),\"\",IF(ISBLANK(B35),\"\",VLOOKUP(B35,Teams!A$2:B$95,2,0)))","v":"Kinderopvang Pipo"},{"$f":"IF(ISBLANK(A35),\"\",VLOOKUP(A35,Etappe!A$2:B$13,2,FALSE))","v":"Emmeloord - Luttelgeest"}]
[1,39,"v",3.7579745370370364E-2,3.3821770833333327E-2,{"$f":"IF( ISBLANK(A36),\"\",IF(ISBLANK(B36),\"\",VLOOKUP(B36,Teams!A$2:B$95,2,0)))","v":"Suplacon"},{"$f":"IF(ISBLANK(A36),\"\",VLOOKUP(A36,Etappe!A$2:B$13,2,FALSE))","v":"Emmeloord - Luttelgeest"}]
[1,29,"v",3.7585532407407411E-2,3.3826979166666674E-2,{"$f":"IF( ISBLANK(A37),\"\",IF(ISBLANK(B37),\"\",VLOOKUP(B37,Teams!A$2:B$95,2,0)))","v":"Waterman Onions Pink Ladies"},{"$f":"IF(ISBLANK(A37),\"\",VLOOKUP(A37,Etappe!A$2:B$13,2,FALSE))","v":"Emmeloord - Luttelgeest"}]
[1,13,"v",3.7591666666666669E-2,3.3832500000000001E-2,{"$f":"IF( ISBLANK(A38),\"\",IF(ISBLANK(B38),\"\",VLOOKUP(B38,Teams!A$2:B$95,2,0)))","v":"KLIF18 ladies"},{"$f":"IF(ISBLANK(A38),\"\",VLOOKUP(A38,Etappe!A$2:B$13,2,FALSE))","v":"Emmeloord - Luttelgeest"}]
[1,23,null,3.7706712962962963E-2,3.7706712962962963E-2,{"$f":"IF( ISBLANK(A39),\"\",IF(ISBLANK(B39),\"\",VLOOKUP(B39,Teams!A$2:B$95,2,0)))","v":"Seaconcept"},{"$f":"IF(ISBLANK(A39),\"\",VLOOKUP(A39,Etappe!A$2:B$13,2,FALSE))","v":"Emmeloord - Luttelgeest"}]
[1,51,null,3.7781597222222227E-2,3.7781597222222227E-2,{"$f":"IF( ISBLANK(A40),\"\",IF(ISBLANK(B40),\"\",VLOOKUP(B40,Teams!A$2:B$95,2,0)))","v":"Van Urk voeding"},{"$f":"IF(ISBLANK(A40),\"\",VLOOKUP(A40,Etappe!A$2:B$13,2,FALSE))","v":"Emmeloord - Luttelgeest"}]
[1,44,null,3.8059027777777775E-2,3.8059027777777775E-2,{"$f":"IF( ISBLANK(A41),\"\",IF(ISBLANK(B41),\"\",VLOOKUP(B41,Teams!A$2:B$95,2,0)))","v":"Tafelronde Noordoostpolder"},{"$f":"IF(ISBLANK(A41),\"\",VLOOKUP(A41,Etappe!A$2:B$13,2,FALSE))","v":"Emmeloord - Luttelgeest"}]
[1,54,null,3.8070254629629631E-2,3.8070254629629631E-2,{"$f":"IF( ISBLANK(A42),\"\",IF(ISBLANK(B42),\"\",VLOOKUP(B42,Teams!A$2:B$95,2,0)))","v":"De Dijkies"},{"$f":"IF(ISBLANK(A42),\"\",VLOOKUP(A42,Etappe!A$2:B$13,2,FALSE))","v":"Emmeloord - Luttelgeest"}]
[1,47,null,3.8689814814814809E-2,3.8689814814814809E-2,{"$f":"IF( ISBLANK(A43),\"\",IF(ISBLANK(B43),\"\",VLOOKUP(B43,Teams!A$2:B$95,2,0)))","v":"CrossFit Urk"},{"$f":"IF(ISBLANK(A43),\"\",VLOOKUP(A43,Etappe!A$2:B$13,2,FALSE))","v":"Emmeloord - Luttelgeest"}]
[1,7,null,3.8807291666666667E-2,3.8807291666666667E-2,{"$f":"IF( ISBLANK(A44),\"\",IF(ISBLANK(B44),\"\",VLOOKUP(B44,Teams!A$2:B$95,2,0)))","v":"ASV Rutten"},{"$f":"IF(ISBLANK(A44),\"\",VLOOKUP(A44,Etappe!A$2:B$13,2,FALSE))","v":"Emmeloord - Luttelgeest"}]
[1,18,null,3.9177314814814818E-2,3.9177314814814818E-2,{"$f":"IF( ISBLANK(A45),\"\",IF(ISBLANK(B45),\"\",VLOOKUP(B45,Teams!A$2:B$95,2,0)))","v":"Fit Fun/ Anytime"},{"$f":"IF(ISBLANK(A45),\"\",VLOOKUP(A45,Etappe!A$2:B$13,2,FALSE))","v":"Emmeloord - Luttelgeest"}]
[1,40,null,3.9434143518518518E-2,3.9434143518518518E-2,{"$f":"IF( ISBLANK(A46),\"\",IF(ISBLANK(B46),\"\",VLOOKUP(B46,Teams!A$2:B$95,2,0)))","v":"Mercatus, lopen op z’n best"},{"$f":"IF(ISBLANK(A46),\"\",VLOOKUP(A46,Etappe!A$2:B$13,2,FALSE))","v":"Emmeloord - Luttelgeest"}]
[1,38,null,3.9592939814814813E-2,3.9592939814814813E-2,{"$f":"IF( ISBLANK(A47),\"\",IF(ISBLANK(B47),\"\",VLOOKUP(B47,Teams!A$2:B$95,2,0)))","v":"Vegterlopers"},{"$f":"IF(ISBLANK(A47),\"\",VLOOKUP(A47,Etappe!A$2:B$13,2,FALSE))","v":"Emmeloord - Luttelgeest"}]
[1,50,null,3.9701041666666666E-2,3.9701041666666666E-2,{"$f":"IF( ISBLANK(A48),\"\",IF(ISBLANK(B48),\"\",VLOOKUP(B48,Teams!A$2:B$95,2,0)))","v":"Nick & de rest"},{"$f":"IF(ISBLANK(A48),\"\",VLOOKUP(A48,Etappe!A$2:B$13,2,FALSE))","v":"Emmeloord - Luttelgeest"}]
[1,16,null,3.9838541666666664E-2,3.9838541666666664E-2,{"$f":"IF( ISBLANK(A49),\"\",IF(ISBLANK(B49),\"\",VLOOKUP(B49,Teams!A$2:B$95,2,0)))","v":"Team Nagele"},{"$f":"IF(ISBLANK(A49),\"\",VLOOKUP(A49,Etappe!A$2:B$13,2,FALSE))","v":"Emmeloord - Luttelgeest"}]
[1,35,null,4.0481250000000003E-2,4.0481250000000003E-2,{"$f":"IF( ISBLANK(A50),\"\",IF(ISBLANK(B50),\"\",VLOOKUP(B50,Teams!A$2:B$95,2,0)))","v":"Waterman Onions 2"},{"$f":"IF(ISBLANK(A50),\"\",VLOOKUP(A50,Etappe!A$2:B$13,2,FALSE))","v":"Emmeloord - Luttelgeest"}]
[1,15,"v",4.118865740740741E-2,3.7069791666666671E-2,{"$f":"IF( ISBLANK(A51),\"\",IF(ISBLANK(B51),\"\",VLOOKUP(B51,Teams!A$2:B$95,2,0)))","v":"Aves"},{"$f":"IF(ISBLANK(A51),\"\",VLOOKUP(A51,Etappe!A$2:B$13,2,FALSE))","v":"Emmeloord - Luttelgeest"}]
[1,28,null,4.1602893518518515E-2,4.1602893518518515E-2,{"$f":"IF( ISBLANK(A52),\"\",IF(ISBLANK(B52),\"\",VLOOKUP(B52,Teams!A$2:B$95,2,0)))","v":"Waterman Onions 1"},{"$f":"IF(ISBLANK(A52),\"\",VLOOKUP(A52,Etappe!A$2:B$13,2,FALSE))","v":"Emmeloord - Luttelgeest"}]
[1,24,null,4.1702314814814817E-2,4.1702314814814817E-2,{"$f":"IF( ISBLANK(A53),\"\",IF(ISBLANK(B53),\"\",VLOOKUP(B53,Teams!A$2:B$95,2,0)))","v":"Ter Haar Family & Friends"},{"$f":"IF(ISBLANK(A53),\"\",VLOOKUP(A53,Etappe!A$2:B$13,2,FALSE))","v":"Emmeloord - Luttelgeest"}]
[1,43,null,4.210775462962963E-2,4.210775462962963E-2,{"$f":"IF( ISBLANK(A54),\"\",IF(ISBLANK(B54),\"\",VLOOKUP(B54,Teams!A$2:B$95,2,0)))","v":"Lerøy Seafood NL"},{"$f":"IF(ISBLANK(A54),\"\",VLOOKUP(A54,Etappe!A$2:B$13,2,FALSE))","v":"Emmeloord - Luttelgeest"}]
[1,41,null,4.2587384259259259E-2,4.2587384259259259E-2,{"$f":"IF( ISBLANK(A55),\"\",IF(ISBLANK(B55),\"\",VLOOKUP(B55,Teams!A$2:B$95,2,0)))","v":"Advies en Kies en Runners"},{"$f":"IF(ISBLANK(A55),\"\",VLOOKUP(A55,Etappe!A$2:B$13,2,FALSE))","v":"Emmeloord - Luttelgeest"}]
[2,26,null,1.1851736111111113E-2,1.1851736111111113E-2,{"$f":"IF( ISBLANK(A56),\"\",IF(ISBLANK(B56),\"\",VLOOKUP(B56,Teams!A$2:B$95,2,0)))","v":"van Vilsteren Marknesse.nl"},{"$f":"IF(ISBLANK(A56),\"\",VLOOKUP(A56,Etappe!A$2:B$13,2,FALSE))","v":"Luttelgeest - Marknesse"}]
[2,51,null,1.2352314814814814E-2,1.2352314814814814E-2,{"$f":"IF( ISBLANK(A57),\"\",IF(ISBLANK(B57),\"\",VLOOKUP(B57,Teams!A$2:B$95,2,0)))","v":"Van Urk voeding"},{"$f":"IF(ISBLANK(A57),\"\",VLOOKUP(A57,Etappe!A$2:B$13,2,FALSE))","v":"Luttelgeest - Marknesse"}]
[2,3,null,1.2374305555555555E-2,1.2374305555555555E-2,{"$f":"IF( ISBLANK(A58),\"\",IF(ISBLANK(B58),\"\",VLOOKUP(B58,Teams!A$2:B$95,2,0)))","v":"Quick Jewels"},{"$f":"IF(ISBLANK(A58),\"\",VLOOKUP(A58,Etappe!A$2:B$13,2,FALSE))","v":"Luttelgeest - Marknesse"}]
[2,27,null,1.2566782407407407E-2,1.2566782407407407E-2,{"$f":"IF( ISBLANK(A59),\"\",IF(ISBLANK(B59),\"\",VLOOKUP(B59,Teams!A$2:B$95,2,0)))","v":"Running Team Espel"},{"$f":"IF(ISBLANK(A59),\"\",VLOOKUP(A59,Etappe!A$2:B$13,2,FALSE))","v":"Luttelgeest - Marknesse"}]
[2,4,null,1.2637615740740739E-2,1.2637615740740739E-2,{"$f":"IF( ISBLANK(A60),\"\",IF(ISBLANK(B60),\"\",VLOOKUP(B60,Teams!A$2:B$95,2,0)))","v":"Klif 18"},{"$f":"IF(ISBLANK(A60),\"\",VLOOKUP(A60,Etappe!A$2:B$13,2,FALSE))","v":"Luttelgeest - Marknesse"}]
[2,1,"v",1.2709953703703704E-2,1.1438958333333334E-2,{"$f":"IF( ISBLANK(A61),\"\",IF(ISBLANK(B61),\"\",VLOOKUP(B61,Teams!A$2:B$95,2,0)))","v":"De Corner"},{"$f":"IF(ISBLANK(A61),\"\",VLOOKUP(A61,Etappe!A$2:B$13,2,FALSE))","v":"Luttelgeest - Marknesse"}]
[2,2,"v",1.3112847222222222E-2,1.18015625E-2,{"$f":"IF( ISBLANK(A62),\"\",IF(ISBLANK(B62),\"\",VLOOKUP(B62,Teams!A$2:B$95,2,0)))","v":"hardloopbegeleidingopmaat/klif 18"},{"$f":"IF(ISBLANK(A62),\"\",VLOOKUP(A62,Etappe!A$2:B$13,2,FALSE))","v":"Luttelgeest - Marknesse"}]
[2,28,null,1.3118287037037038E-2,1.3118287037037038E-2,{"$f":"IF( ISBLANK(A63),\"\",IF(ISBLANK(B63),\"\",VLOOKUP(B63,Teams!A$2:B$95,2,0)))","v":"Waterman Onions 1"},{"$f":"IF(ISBLANK(A63),\"\",VLOOKUP(A63,Etappe!A$2:B$13,2,FALSE))","v":"Luttelgeest - Marknesse"}]
[2,13,"v",1.3440624999999999E-2,1.20965625E-2,{"$f":"IF( ISBLANK(A64),\"\",IF(ISBLANK(B64),\"\",VLOOKUP(B64,Teams!A$2:B$95,2,0)))","v":"KLIF18 ladies"},{"$f":"IF(ISBLANK(A64),\"\",VLOOKUP(A64,Etappe!A$2:B$13,2,FALSE))","v":"Luttelgeest - Marknesse"}]
[2,11,null,1.3455787037037039E-2,1.3455787037037039E-2,{"$f":"IF( ISBLANK(A65),\"\",IF(ISBLANK(B65),\"\",VLOOKUP(B65,Teams!A$2:B$95,2,0)))","v":"Kraggenburg 4"},{"$f":"IF(ISBLANK(A65),\"\",VLOOKUP(A65,Etappe!A$2:B$13,2,FALSE))","v":"Luttelgeest - Marknesse"}]
[2,7,null,1.3908564814814813E-2,1.3908564814814813E-2,{"$f":"IF( ISBLANK(A66),\"\",IF(ISBLANK(B66),\"\",VLOOKUP(B66,Teams!A$2:B$95,2,0)))","v":"ASV Rutten"},{"$f":"IF(ISBLANK(A66),\"\",VLOOKUP(A66,Etappe!A$2:B$13,2,FALSE))","v":"Luttelgeest - Marknesse"}]
[2,6,null,1.3958912037037037E-2,{"$f":"IF(ISBLANK(A67),\"\",IF(C67=\"v\",0.9*D67,D67))","v":1.3958912037037037E-2},{"$f":"IF( ISBLANK(A67),\"\",IF(ISBLANK(B67),\"\",VLOOKUP(B67,Teams!A$2:B$95,2,0)))","v":"Running Ruijters"},{"$f":"IF(ISBLANK(A67),\"\",VLOOKUP(A67,Etappe!A$2:B$13,2,FALSE))","v":"Luttelgeest - Marknesse"}]
[2,38,null,1.4101388888888891E-2,1.4101388888888891E-2,{"$f":"IF( ISBLANK(A68),\"\",IF(ISBLANK(B68),\"\",VLOOKUP(B68,Teams!A$2:B$95,2,0)))","v":"Vegterlopers"},{"$f":"IF(ISBLANK(A68),\"\",VLOOKUP(A68,Etappe!A$2:B$13,2,FALSE))","v":"Luttelgeest - Marknesse"}]
[2,8,null,1.4434143518518518E-2,1.4434143518518518E-2,{"$f":"IF( ISBLANK(A69),\"\",IF(ISBLANK(B69),\"\",VLOOKUP(B69,Teams!A$2:B$95,2,0)))","v":"Hardloopteam Bant"},{"$f":"IF(ISBLANK(A69),\"\",VLOOKUP(A69,Etappe!A$2:B$13,2,FALSE))","v":"Luttelgeest - Marknesse"}]
[2,5,null,1.4608101851851853E-2,1.4608101851851853E-2,{"$f":"IF( ISBLANK(A70),\"\",IF(ISBLANK(B70),\"\",VLOOKUP(B70,Teams!A$2:B$95,2,0)))","v":"Dujob"},{"$f":"IF(ISBLANK(A70),\"\",VLOOKUP(A70,Etappe!A$2:B$13,2,FALSE))","v":"Luttelgeest - Marknesse"}]
[2,12,"v",1.4691319444444446E-2,1.3222187500000001E-2,{"$f":"IF( ISBLANK(A71),\"\",IF(ISBLANK(B71),\"\",VLOOKUP(B71,Teams!A$2:B$95,2,0)))","v":"Hekwerkwebshop.nl"},{"$f":"IF(ISBLANK(A71),\"\",VLOOKUP(A71,Etappe!A$2:B$13,2,FALSE))","v":"Luttelgeest - Marknesse"}]
[2,33,null,1.4915972222222221E-2,1.4915972222222221E-2,{"$f":"IF( ISBLANK(A72),\"\",IF(ISBLANK(B72),\"\",VLOOKUP(B72,Teams!A$2:B$95,2,0)))","v":"woensdagavondlopers"},{"$f":"IF(ISBLANK(A72),\"\",VLOOKUP(A72,Etappe!A$2:B$13,2,FALSE))","v":"Luttelgeest - Marknesse"}]
[2,32,"v",1.492638888888889E-2,1.3433750000000001E-2,{"$f":"IF( ISBLANK(A73),\"\",IF(ISBLANK(B73),\"\",VLOOKUP(B73,Teams!A$2:B$95,2,0)))","v":"Ber-di-do"},{"$f":"IF(ISBLANK(A73),\"\",VLOOKUP(A73,Etappe!A$2:B$13,2,FALSE))","v":"Luttelgeest - Marknesse"}]
[2,44,null,1.5192939814814815E-2,1.5192939814814815E-2,{"$f":"IF( ISBLANK(A74),\"\",IF(ISBLANK(B74),\"\",VLOOKUP(B74,Teams!A$2:B$95,2,0)))","v":"Tafelronde Noordoostpolder"},{"$f":"IF(ISBLANK(A74),\"\",VLOOKUP(A74,Etappe!A$2:B$13,2,FALSE))","v":"Luttelgeest - Marknesse"}]
[2,17,null,1.5205324074074074E-2,1.5205324074074074E-2,{"$f":"IF( ISBLANK(A75),\"\",IF(ISBLANK(B75),\"\",VLOOKUP(B75,Teams!A$2:B$95,2,0)))","v":"SAMEN ONDER WEG"},{"$f":"IF(ISBLANK(A75),\"\",VLOOKUP(A75,Etappe!A$2:B$13,2,FALSE))","v":"Luttelgeest - Marknesse"}]
[2,47,null,1.5333333333333332E-2,1.5333333333333332E-2,{"$f":"IF( ISBLANK(A76),\"\",IF(ISBLANK(B76),\"\",VLOOKUP(B76,Teams!A$2:B$95,2,0)))","v":"CrossFit Urk"},{"$f":"IF(ISBLANK(A76),\"\",VLOOKUP(A76,Etappe!A$2:B$13,2,FALSE))","v":"Luttelgeest - Marknesse"}]
[2,41,null,1.536875E-2,1.536875E-2,{"$f":"IF( ISBLANK(A77),\"\",IF(ISBLANK(B77),\"\",VLOOKUP(B77,Teams!A$2:B$95,2,0)))","v":"Advies en Kies en Runners"},{"$f":"IF(ISBLANK(A77),\"\",VLOOKUP(A77,Etappe!A$2:B$13,2,FALSE))","v":"Luttelgeest - Marknesse"}]
[2,21,null,1.5540509259259259E-2,1.5540509259259259E-2,{"$f":"IF( ISBLANK(A78),\"\",IF(ISBLANK(B78),\"\",VLOOKUP(B78,Teams!A$2:B$95,2,0)))","v":"050media"},{"$f":"IF(ISBLANK(A78),\"\",VLOOKUP(A78,Etappe!A$2:B$13,2,FALSE))","v":"Luttelgeest - Marknesse"}]
[2,39,"v",1.5548148148148149E-2,1.3993333333333335E-2,{"$f":"IF( ISBLANK(A79),\"\",IF(ISBLANK(B79),\"\",VLOOKUP(B79,Teams!A$2:B$95,2,0)))","v":"Suplacon"},{"$f":"IF(ISBLANK(A79),\"\",VLOOKUP(A79,Etappe!A$2:B$13,2,FALSE))","v":"Luttelgeest - Marknesse"}]
[2,19,"v",1.5642592592592593E-2,1.4078333333333335E-2,{"$f":"IF( ISBLANK(A80),\"\",IF(ISBLANK(B80),\"\",VLOOKUP(B80,Teams!A$2:B$95,2,0)))","v":"STC Rutten"},{"$f":"IF(ISBLANK(A80),\"\",VLOOKUP(A80,Etappe!A$2:B$13,2,FALSE))","v":"Luttelgeest - Marknesse"}]
[2,36,"v",1.565335648148148E-2,1.4088020833333333E-2,{"$f":"IF( ISBLANK(A81),\"\",IF(ISBLANK(B81),\"\",VLOOKUP(B81,Teams!A$2:B$95,2,0)))","v":"Schol op Urk"},{"$f":"IF(ISBLANK(A81),\"\",VLOOKUP(A81,Etappe!A$2:B$13,2,FALSE))","v":"Luttelgeest - Marknesse"}]
[2,52,null,1.5790509259259258E-2,1.5790509259259258E-2,{"$f":"IF( ISBLANK(A82),\"\",IF(ISBLANK(B82),\"\",VLOOKUP(B82,Teams!A$2:B$95,2,0)))","v":"Pool-der run4fun"},{"$f":"IF(ISBLANK(A82),\"\",VLOOKUP(A82,Etappe!A$2:B$13,2,FALSE))","v":"Luttelgeest - Marknesse"}]
[2,9,"v",1.5808217592592592E-2,1.4227395833333333E-2,{"$f":"IF( ISBLANK(A83),\"\",IF(ISBLANK(B83),\"\",VLOOKUP(B83,Teams!A$2:B$95,2,0)))","v":"VAN BLOOIS SPORTADVIES"},{"$f":"IF(ISBLANK(A83),\"\",VLOOKUP(A83,Etappe!A$2:B$13,2,FALSE))","v":"Luttelgeest - Marknesse"}]
[2,49,null,1.5831018518518519E-2,1.5831018518518519E-2,{"$f":"IF( ISBLANK(A84),\"\",IF(ISBLANK(B84),\"\",VLOOKUP(B84,Teams!A$2:B$95,2,0)))","v":"Flynth"},{"$f":"IF(ISBLANK(A84),\"\",VLOOKUP(A84,Etappe!A$2:B$13,2,FALSE))","v":"Luttelgeest - Marknesse"}]
[2,18,null,1.5845486111111109E-2,1.5845486111111109E-2,{"$f":"IF( ISBLANK(A85),\"\",IF(ISBLANK(B85),\"\",VLOOKUP(B85,Teams!A$2:B$95,2,0)))","v":"Fit Fun/ Anytime"},{"$f":"IF(ISBLANK(A85),\"\",VLOOKUP(A85,Etappe!A$2:B$13,2,FALSE))","v":"Luttelgeest - Marknesse"}]
[2,34,null,1.5868287037037035E-2,1.5868287037037035E-2,{"$f":"IF( ISBLANK(A86),\"\",IF(ISBLANK(B86),\"\",VLOOKUP(B86,Teams!A$2:B$95,2,0)))","v":"Team 't Voorhuys"},{"$f":"IF(ISBLANK(A86),\"\",VLOOKUP(A86,Etappe!A$2:B$13,2,FALSE))","v":"Luttelgeest - Marknesse"}]
[2,50,"v",1.5943171296296296E-2,1.4348854166666666E-2,{"$f":"IF( ISBLANK(A87),\"\",IF(ISBLANK(B87),\"\",VLOOKUP(B87,Teams!A$2:B$95,2,0)))","v":"Nick & de rest"},{"$f":"IF(ISBLANK(A87),\"\",VLOOKUP(A87,Etappe!A$2:B$13,2,FALSE))","v":"Luttelgeest - Marknesse"}]
[2,43,null,1.6007175925925928E-2,1.6007175925925928E-2,{"$f":"IF( ISBLANK(A88),\"\",IF(ISBLANK(B88),\"\",VLOOKUP(B88,Teams!A$2:B$95,2,0)))","v":"Lerøy Seafood NL"},{"$f":"IF(ISBLANK(A88),\"\",VLOOKUP(A88,Etappe!A$2:B$13,2,FALSE))","v":"Luttelgeest - Marknesse"}]
[2,23,null,1.6110532407407407E-2,1.6110532407407407E-2,{"$f":"IF( ISBLANK(A89),\"\",IF(ISBLANK(B89),\"\",VLOOKUP(B89,Teams!A$2:B$95,2,0)))","v":"Seaconcept"},{"$f":"IF(ISBLANK(A89),\"\",VLOOKUP(A89,Etappe!A$2:B$13,2,FALSE))","v":"Luttelgeest - Marknesse"}]
[2,20,"v",1.6119212962962964E-2,1.4507291666666668E-2,{"$f":"IF( ISBLANK(A90),\"\",IF(ISBLANK(B90),\"\",VLOOKUP(B90,Teams!A$2:B$95,2,0)))","v":"Creil"},{"$f":"IF(ISBLANK(A90),\"\",VLOOKUP(A90,Etappe!A$2:B$13,2,FALSE))","v":"Luttelgeest - Marknesse"}]
[2,14,null,1.6245138888888889E-2,1.6245138888888889E-2,{"$f":"IF( ISBLANK(A91),\"\",IF(ISBLANK(B91),\"\",VLOOKUP(B91,Teams!A$2:B$95,2,0)))","v":"Vivan komt dr’an"},{"$f":"IF(ISBLANK(A91),\"\",VLOOKUP(A91,Etappe!A$2:B$13,2,FALSE))","v":"Luttelgeest - Marknesse"}]
[2,10,null,1.6292824074074074E-2,1.6292824074074074E-2,{"$f":"IF( ISBLANK(A92),\"\",IF(ISBLANK(B92),\"\",VLOOKUP(B92,Teams!A$2:B$95,2,0)))","v":"RUN TEAM MARKNESSE"},{"$f":"IF(ISBLANK(A92),\"\",VLOOKUP(A92,Etappe!A$2:B$13,2,FALSE))","v":"Luttelgeest - Marknesse"}]
[2,42,"v",1.6385069444444445E-2,1.4746562500000001E-2,{"$f":"IF( ISBLANK(A93),\"\",IF(ISBLANK(B93),\"\",VLOOKUP(B93,Teams!A$2:B$95,2,0)))","v":"Kinderopvang Pipo"},{"$f":"IF(ISBLANK(A93),\"\",VLOOKUP(A93,Etappe!A$2:B$13,2,FALSE))","v":"Luttelgeest - Marknesse"}]
[2,29,"v",1.6663194444444446E-2,1.4996875000000002E-2,{"$f":"IF( ISBLANK(A94),\"\",IF(ISBLANK(B94),\"\",VLOOKUP(B94,Teams!A$2:B$95,2,0)))","v":"Waterman Onions Pink Ladies"},{"$f":"IF(ISBLANK(A94),\"\",VLOOKUP(A94,Etappe!A$2:B$13,2,FALSE))","v":"Luttelgeest - Marknesse"}]
[2,24,null,1.6823842592592592E-2,1.6823842592592592E-2,{"$f":"IF( ISBLANK(A95),\"\",IF(ISBLANK(B95),\"\",VLOOKUP(B95,Teams!A$2:B$95,2,0)))","v":"Ter Haar Family & Friends"},{"$f":"IF(ISBLANK(A95),\"\",VLOOKUP(A95,Etappe!A$2:B$13,2,FALSE))","v":"Luttelgeest - Marknesse"}]
[2,35,"v",1.7157291666666664E-2,1.5441562499999999E-2,{"$f":"IF( ISBLANK(A96),\"\",IF(ISBLANK(B96),\"\",VLOOKUP(B96,Teams!A$2:B$95,2,0)))","v":"Waterman Onions 2"},{"$f":"IF(ISBLANK(A96),\"\",VLOOKUP(A96,Etappe!A$2:B$13,2,FALSE))","v":"Luttelgeest - Marknesse"}]
[2,16,"v",1.7504861111111113E-2,1.5754375000000001E-2,{"$f":"IF( ISBLANK(A97),\"\",IF(ISBLANK(B97),\"\",VLOOKUP(B97,Teams!A$2:B$95,2,0)))","v":"Team Nagele"},{"$f":"IF(ISBLANK(A97),\"\",VLOOKUP(A97,Etappe!A$2:B$13,2,FALSE))","v":"Luttelgeest - Marknesse"}]
[2,40,"v",1.7595023148148151E-2,1.5835520833333335E-2,{"$f":"IF( ISBLANK(A98),\"\",IF(ISBLANK(B98),\"\",VLOOKUP(B98,Teams!A$2:B$95,2,0)))","v":"Mercatus, lopen op z’n best"},{"$f":"IF(ISBLANK(A98),\"\",VLOOKUP(A98,Etappe!A$2:B$13,2,FALSE))","v":"Luttelgeest - Marknesse"}]
[2,54,"v",1.7665162037037038E-2,1.5898645833333336E-2,{"$f":"IF( ISBLANK(A99),\"\",IF(ISBLANK(B99),\"\",VLOOKUP(B99,Teams!A$2:B$95,2,0)))","v":"De Dijkies"},{"$f":"IF(ISBLANK(A99),\"\",VLOOKUP(A99,Etappe!A$2:B$13,2,FALSE))","v":"Luttelgeest - Marknesse"}]
[2,15,"v",1.7698032407407409E-2,1.5928229166666669E-2,{"$f":"IF( ISBLANK(A100),\"\",IF(ISBLANK(B100),\"\",VLOOKUP(B100,Teams!A$2:B$95,2,0)))","v":"Aves"},{"$f":"IF(ISBLANK(A100),\"\",VLOOKUP(A100,Etappe!A$2:B$13,2,FALSE))","v":"Luttelgeest - Marknesse"}]
[2,37,null,1.7752314814814815E-2,1.7752314814814815E-2,{"$f":"IF( ISBLANK(A101),\"\",IF(ISBLANK(B101),\"\",VLOOKUP(B101,Teams!A$2:B$95,2,0)))","v":"Van Staveren"},{"$f":"IF(ISBLANK(A101),\"\",VLOOKUP(A101,Etappe!A$2:B$13,2,FALSE))","v":"Luttelgeest - Marknesse"}]
[2,25,"v",1.8171875000000001E-2,1.6354687499999999E-2,{"$f":"IF( ISBLANK(A102),\"\",IF(ISBLANK(B102),\"\",VLOOKUP(B102,Teams!A$2:B$95,2,0)))","v":"Hardloop groep Ens"},{"$f":"IF(ISBLANK(A102),\"\",VLOOKUP(A102,Etappe!A$2:B$13,2,FALSE))","v":"Luttelgeest - Marknesse"}]
[2,22,"v",1.8514699074074072E-2,1.6663229166666665E-2,{"$f":"IF( ISBLANK(A103),\"\",IF(ISBLANK(B103),\"\",VLOOKUP(B103,Teams!A$2:B$95,2,0)))","v":"Tollebeek in beweging"},{"$f":"IF(ISBLANK(A103),\"\",VLOOKUP(A103,Etappe!A$2:B$13,2,FALSE))","v":"Luttelgeest - Marknesse"}]
[2,30,"v",1.8695601851851852E-2,1.6826041666666666E-2,{"$f":"IF( ISBLANK(A104),\"\",IF(ISBLANK(B104),\"\",VLOOKUP(B104,Teams!A$2:B$95,2,0)))","v":"Autofirst Minnaard "},{"$f":"IF(ISBLANK(A104),\"\",VLOOKUP(A104,Etappe!A$2:B$13,2,FALSE))","v":"Luttelgeest - Marknesse"}]
[2,55,"v",1.9052199074074076E-2,1.714697916666667E-2,{"$f":"IF( ISBLANK(A105),\"\",IF(ISBLANK(B105),\"\",VLOOKUP(B105,Teams!A$2:B$95,2,0)))","v":"Fifty-Five"},{"$f":"IF(ISBLANK(A105),\"\",VLOOKUP(A105,Etappe!A$2:B$13,2,FALSE))","v":"Luttelgeest - Marknesse"}]
[2,31,"v",1.927210648148148E-2,1.7344895833333332E-2,{"$f":"IF( ISBLANK(A106),\"\",IF(ISBLANK(B106),\"\",VLOOKUP(B106,Teams!A$2:B$95,2,0)))","v":"fam.Dekker Draaft Door"},{"$f":"IF(ISBLANK(A106),\"\",VLOOKUP(A106,Etappe!A$2:B$13,2,FALSE))","v":"Luttelgeest - Marknesse"}]
[2,46,"v",1.9401273148148147E-2,1.7461145833333334E-2,{"$f":"IF( ISBLANK(A107),\"\",IF(ISBLANK(B107),\"\",VLOOKUP(B107,Teams!A$2:B$95,2,0)))","v":"Hoekstra Assurantie B.V."},{"$f":"IF(ISBLANK(A107),\"\",VLOOKUP(A107,Etappe!A$2:B$13,2,FALSE))","v":"Luttelgeest - Marknesse"}]
[2,56,"v",1.9706828703703706E-2,1.7736145833333335E-2,{"$f":"IF( ISBLANK(A108),\"\",IF(ISBLANK(B108),\"\",VLOOKUP(B108,Teams!A$2:B$95,2,0)))","v":"De Broodlopers"},{"$f":"IF(ISBLANK(A108),\"\",VLOOKUP(A108,Etappe!A$2:B$13,2,FALSE))","v":"Luttelgeest - Marknesse"}]
[2,45,null,2.1527777777777781E-2,2.1527777777777781E-2,{"$f":"IF( ISBLANK(A109),\"\",IF(ISBLANK(B109),\"\",VLOOKUP(B109,Teams!A$2:B$95,2,0)))","v":"Berechja College "},{"$f":"IF(ISBLANK(A109),\"\",VLOOKUP(A109,Etappe!A$2:B$13,2,FALSE))","v":"Luttelgeest - Marknesse"}]
[3,2,null,1.3798263888888889E-2,1.3798263888888889E-2,{"$f":"IF( ISBLANK(A110),\"\",IF(ISBLANK(B110),\"\",VLOOKUP(B110,Teams!A$2:B$95,2,0)))","v":"hardloopbegeleidingopmaat/klif 18"},{"$f":"IF(ISBLANK(A110),\"\",VLOOKUP(A110,Etappe!A$2:B$13,2,FALSE))","v":"Marknesse - Kraggenburg"}]
[3,8,null,1.4382060185185183E-2,1.4382060185185183E-2,{"$f":"IF( ISBLANK(A111),\"\",IF(ISBLANK(B111),\"\",VLOOKUP(B111,Teams!A$2:B$95,2,0)))","v":"Hardloopteam Bant"},{"$f":"IF(ISBLANK(A111),\"\",VLOOKUP(A111,Etappe!A$2:B$13,2,FALSE))","v":"Marknesse - Kraggenburg"}]
[3,4,null,1.4644675925925927E-2,1.4644675925925927E-2,{"$f":"IF( ISBLANK(A112),\"\",IF(ISBLANK(B112),\"\",VLOOKUP(B112,Teams!A$2:B$95,2,0)))","v":"Klif 18"},{"$f":"IF(ISBLANK(A112),\"\",VLOOKUP(A112,Etappe!A$2:B$13,2,FALSE))","v":"Marknesse - Kraggenburg"}]
[3,6,null,1.5308680555555556E-2,1.5308680555555556E-2,{"$f":"IF( ISBLANK(A113),\"\",IF(ISBLANK(B113),\"\",VLOOKUP(B113,Teams!A$2:B$95,2,0)))","v":"Running Ruijters"},{"$f":"IF(ISBLANK(A113),\"\",VLOOKUP(A113,Etappe!A$2:B$13,2,FALSE))","v":"Marknesse - Kraggenburg"}]
[3,37,null,1.5348148148148147E-2,1.5348148148148147E-2,{"$f":"IF( ISBLANK(A114),\"\",IF(ISBLANK(B114),\"\",VLOOKUP(B114,Teams!A$2:B$95,2,0)))","v":"Van Staveren"},{"$f":"IF(ISBLANK(A114),\"\",VLOOKUP(A114,Etappe!A$2:B$13,2,FALSE))","v":"Marknesse - Kraggenburg"}]
[3,10,null,1.5559722222222223E-2,1.5559722222222223E-2,{"$f":"IF( ISBLANK(A115),\"\",IF(ISBLANK(B115),\"\",VLOOKUP(B115,Teams!A$2:B$95,2,0)))","v":"RUN TEAM MARKNESSE"},{"$f":"IF(ISBLANK(A115),\"\",VLOOKUP(A115,Etappe!A$2:B$13,2,FALSE))","v":"Marknesse - Kraggenburg"}]
[3,47,null,1.5722453703703704E-2,1.5722453703703704E-2,{"$f":"IF( ISBLANK(A116),\"\",IF(ISBLANK(B116),\"\",VLOOKUP(B116,Teams!A$2:B$95,2,0)))","v":"CrossFit Urk"},{"$f":"IF(ISBLANK(A116),\"\",VLOOKUP(A116,Etappe!A$2:B$13,2,FALSE))","v":"Marknesse - Kraggenburg"}]
[3,7,null,1.6017245370370369E-2,1.6017245370370369E-2,{"$f":"IF( ISBLANK(A117),\"\",IF(ISBLANK(B117),\"\",VLOOKUP(B117,Teams!A$2:B$95,2,0)))","v":"ASV Rutten"},{"$f":"IF(ISBLANK(A117),\"\",VLOOKUP(A117,Etappe!A$2:B$13,2,FALSE))","v":"Marknesse - Kraggenburg"}]
[3,11,null,1.6712847222222223E-2,1.6712847222222223E-2,{"$f":"IF( ISBLANK(A118),\"\",IF(ISBLANK(B118),\"\",VLOOKUP(B118,Teams!A$2:B$95,2,0)))","v":"Kraggenburg 4"},{"$f":"IF(ISBLANK(A118),\"\",VLOOKUP(A118,Etappe!A$2:B$13,2,FALSE))","v":"Marknesse - Kraggenburg"}]
[3,36,null,1.6892592592592594E-2,1.6892592592592594E-2,{"$f":"IF( ISBLANK(A119),\"\",IF(ISBLANK(B119),\"\",VLOOKUP(B119,Teams!A$2:B$95,2,0)))","v":"Schol op Urk"},{"$f":"IF(ISBLANK(A119),\"\",VLOOKUP(A119,Etappe!A$2:B$13,2,FALSE))","v":"Marknesse - Kraggenburg"}]
[3,49,null,1.6913888888888891E-2,1.6913888888888891E-2,{"$f":"IF( ISBLANK(A120),\"\",IF(ISBLANK(B120),\"\",VLOOKUP(B120,Teams!A$2:B$95,2,0)))","v":"Flynth"},{"$f":"IF(ISBLANK(A120),\"\",VLOOKUP(A120,Etappe!A$2:B$13,2,FALSE))","v":"Marknesse - Kraggenburg"}]
[3,3,null,1.6951157407407408E-2,1.6951157407407408E-2,{"$f":"IF( ISBLANK(A121),\"\",IF(ISBLANK(B121),\"\",VLOOKUP(B121,Teams!A$2:B$95,2,0)))","v":"Quick Jewels"},{"$f":"IF(ISBLANK(A121),\"\",VLOOKUP(A121,Etappe!A$2:B$13,2,FALSE))","v":"Marknesse - Kraggenburg"}]
[3,46,null,1.7480671296296296E-2,1.7480671296296296E-2,{"$f":"IF( ISBLANK(A122),\"\",IF(ISBLANK(B122),\"\",VLOOKUP(B122,Teams!A$2:B$95,2,0)))","v":"Hoekstra Assurantie B.V."},{"$f":"IF(ISBLANK(A122),\"\",VLOOKUP(A122,Etappe!A$2:B$13,2,FALSE))","v":"Marknesse - Kraggenburg"}]
[3,26,null,1.7616319444444445E-2,1.7616319444444445E-2,{"$f":"IF( ISBLANK(A123),\"\",IF(ISBLANK(B123),\"\",VLOOKUP(B123,Teams!A$2:B$95,2,0)))","v":"van Vilsteren Marknesse.nl"},{"$f":"IF(ISBLANK(A123),\"\",VLOOKUP(A123,Etappe!A$2:B$13,2,FALSE))","v":"Marknesse - Kraggenburg"}]
[3,1,"v",1.7630092592592593E-2,1.5867083333333334E-2,{"$f":"IF( ISBLANK(A124),\"\",IF(ISBLANK(B124),\"\",VLOOKUP(B124,Teams!A$2:B$95,2,0)))","v":"De Corner"},{"$f":"IF(ISBLANK(A124),\"\",VLOOKUP(A124,Etappe!A$2:B$13,2,FALSE))","v":"Marknesse - Kraggenburg"}]
[3,21,null,1.7694097222222222E-2,1.7694097222222222E-2,{"$f":"IF( ISBLANK(A125),\"\",IF(ISBLANK(B125),\"\",VLOOKUP(B125,Teams!A$2:B$95,2,0)))","v":"050media"},{"$f":"IF(ISBLANK(A125),\"\",VLOOKUP(A125,Etappe!A$2:B$13,2,FALSE))","v":"Marknesse - Kraggenburg"}]
[3,5,null,1.7720138888888889E-2,1.7720138888888889E-2,{"$f":"IF( ISBLANK(A126),\"\",IF(ISBLANK(B126),\"\",VLOOKUP(B126,Teams!A$2:B$95,2,0)))","v":"Dujob"},{"$f":"IF(ISBLANK(A126),\"\",VLOOKUP(A126,Etappe!A$2:B$13,2,FALSE))","v":"Marknesse - Kraggenburg"}]
[3,32,"v",1.7855787037037038E-2,1.6070208333333336E-2,{"$f":"IF( ISBLANK(A127),\"\",IF(ISBLANK(B127),\"\",VLOOKUP(B127,Teams!A$2:B$95,2,0)))","v":"Ber-di-do"},{"$f":"IF(ISBLANK(A127),\"\",VLOOKUP(A127,Etappe!A$2:B$13,2,FALSE))","v":"Marknesse - Kraggenburg"}]
[3,18,null,1.7901273148148149E-2,1.7901273148148149E-2,{"$f":"IF( ISBLANK(A128),\"\",IF(ISBLANK(B128),\"\",VLOOKUP(B128,Teams!A$2:B$95,2,0)))","v":"Fit Fun/ Anytime"},{"$f":"IF(ISBLANK(A128),\"\",VLOOKUP(A128,Etappe!A$2:B$13,2,FALSE))","v":"Marknesse - Kraggenburg"}]
[3,25,null,1.8083217592592595E-2,1.8083217592592595E-2,{"$f":"IF( ISBLANK(A129),\"\",IF(ISBLANK(B129),\"\",VLOOKUP(B129,Teams!A$2:B$95,2,0)))","v":"Hardloop groep Ens"},{"$f":"IF(ISBLANK(A129),\"\",VLOOKUP(A129,Etappe!A$2:B$13,2,FALSE))","v":"Marknesse - Kraggenburg"}]
[3,33,"v",1.8134606481481481E-2,1.6321145833333332E-2,{"$f":"IF( ISBLANK(A130),\"\",IF(ISBLANK(B130),\"\",VLOOKUP(B130,Teams!A$2:B$95,2,0)))","v":"woensdagavondlopers"},{"$f":"IF(ISBLANK(A130),\"\",VLOOKUP(A130,Etappe!A$2:B$13,2,FALSE))","v":"Marknesse - Kraggenburg"}]
[3,43,null,1.8336805555555554E-2,{"$f":"IF(ISBLANK(A131),\"\",IF(C131=\"v\",0.9*D131,D131))","v":1.8336805555555554E-2},{"$f":"IF( ISBLANK(A131),\"\",IF(ISBLANK(B131),\"\",VLOOKUP(B131,Teams!A$2:B$95,2,0)))","v":"Lerøy Seafood NL"},{"$f":"IF(ISBLANK(A131),\"\",VLOOKUP(A131,Etappe!A$2:B$13,2,FALSE))","v":"Marknesse - Kraggenburg"}]
[3,39,null,1.8343287037037036E-2,1.8343287037037036E-2,{"$f":"IF( ISBLANK(A132),\"\",IF(ISBLANK(B132),\"\",VLOOKUP(B132,Teams!A$2:B$95,2,0)))","v":"Suplacon"},{"$f":"IF(ISBLANK(A132),\"\",VLOOKUP(A132,Etappe!A$2:B$13,2,FALSE))","v":"Marknesse - Kraggenburg"}]
[3,27,null,1.8538194444444444E-2,1.8538194444444444E-2,{"$f":"IF( ISBLANK(A133),\"\",IF(ISBLANK(B133),\"\",VLOOKUP(B133,Teams!A$2:B$95,2,0)))","v":"Running Team Espel"},{"$f":"IF(ISBLANK(A133),\"\",VLOOKUP(A133,Etappe!A$2:B$13,2,FALSE))","v":"Marknesse - Kraggenburg"}]
[3,12,null,1.8576273148148147E-2,1.8576273148148147E-2,{"$f":"IF( ISBLANK(A134),\"\",IF(ISBLANK(B134),\"\",VLOOKUP(B134,Teams!A$2:B$95,2,0)))","v":"Hekwerkwebshop.nl"},{"$f":"IF(ISBLANK(A134),\"\",VLOOKUP(A134,Etappe!A$2:B$13,2,FALSE))","v":"Marknesse - Kraggenburg"}]
[3,51,null,1.8589930555555554E-2,1.8589930555555554E-2,{"$f":"IF( ISBLANK(A135),\"\",IF(ISBLANK(B135),\"\",VLOOKUP(B135,Teams!A$2:B$95,2,0)))","v":"Van Urk voeding"},{"$f":"IF(ISBLANK(A135),\"\",VLOOKUP(A135,Etappe!A$2:B$13,2,FALSE))","v":"Marknesse - Kraggenburg"}]
[3,54,"v",1.8773032407407405E-2,1.6895729166666665E-2,{"$f":"IF( ISBLANK(A136),\"\",IF(ISBLANK(B136),\"\",VLOOKUP(B136,Teams!A$2:B$95,2,0)))","v":"De Dijkies"},{"$f":"IF(ISBLANK(A136),\"\",VLOOKUP(A136,Etappe!A$2:B$13,2,FALSE))","v":"Marknesse - Kraggenburg"}]
[3,30,null,1.8821412037037036E-2,1.8821412037037036E-2,{"$f":"IF( ISBLANK(A137),\"\",IF(ISBLANK(B137),\"\",VLOOKUP(B137,Teams!A$2:B$95,2,0)))","v":"Autofirst Minnaard "},{"$f":"IF(ISBLANK(A137),\"\",VLOOKUP(A137,Etappe!A$2:B$13,2,FALSE))","v":"Marknesse - Kraggenburg"}]
[3,17,null,1.8851504629629628E-2,1.8851504629629628E-2,{"$f":"IF( ISBLANK(A138),\"\",IF(ISBLANK(B138),\"\",VLOOKUP(B138,Teams!A$2:B$95,2,0)))","v":"SAMEN ONDER WEG"},{"$f":"IF(ISBLANK(A138),\"\",VLOOKUP(A138,Etappe!A$2:B$13,2,FALSE))","v":"Marknesse - Kraggenburg"}]
[3,15,"v",1.8970138888888887E-2,1.7073124999999998E-2,{"$f":"IF( ISBLANK(A139),\"\",IF(ISBLANK(B139),\"\",VLOOKUP(B139,Teams!A$2:B$95,2,0)))","v":"Aves"},{"$f":"IF(ISBLANK(A139),\"\",VLOOKUP(A139,Etappe!A$2:B$13,2,FALSE))","v":"Marknesse - Kraggenburg"}]
[3,9,null,1.8993287037037034E-2,1.8993287037037034E-2,{"$f":"IF( ISBLANK(A140),\"\",IF(ISBLANK(B140),\"\",VLOOKUP(B140,Teams!A$2:B$95,2,0)))","v":"VAN BLOOIS SPORTADVIES"},{"$f":"IF(ISBLANK(A140),\"\",VLOOKUP(A140,Etappe!A$2:B$13,2,FALSE))","v":"Marknesse - Kraggenburg"}]
[3,44,null,1.9039930555555556E-2,1.9039930555555556E-2,{"$f":"IF( ISBLANK(A141),\"\",IF(ISBLANK(B141),\"\",VLOOKUP(B141,Teams!A$2:B$95,2,0)))","v":"Tafelronde Noordoostpolder"},{"$f":"IF(ISBLANK(A141),\"\",VLOOKUP(A141,Etappe!A$2:B$13,2,FALSE))","v":"Marknesse - Kraggenburg"}]
[3,14,"v",1.912314814814815E-2,1.7210833333333335E-2,{"$f":"IF( ISBLANK(A142),\"\",IF(ISBLANK(B142),\"\",VLOOKUP(B142,Teams!A$2:B$95,2,0)))","v":"Vivan komt dr’an"},{"$f":"IF(ISBLANK(A142),\"\",VLOOKUP(A142,Etappe!A$2:B$13,2,FALSE))","v":"Marknesse - Kraggenburg"}]
[3,13,"v",1.9393287037037035E-2,1.7453958333333332E-2,{"$f":"IF( ISBLANK(A143),\"\",IF(ISBLANK(B143),\"\",VLOOKUP(B143,Teams!A$2:B$95,2,0)))","v":"KLIF18 ladies"},{"$f":"IF(ISBLANK(A143),\"\",VLOOKUP(A143,Etappe!A$2:B$13,2,FALSE))","v":"Marknesse - Kraggenburg"}]
[3,56,null,1.9473611111111112E-2,1.9473611111111112E-2,{"$f":"IF( ISBLANK(A144),\"\",IF(ISBLANK(B144),\"\",VLOOKUP(B144,Teams!A$2:B$95,2,0)))","v":"De Broodlopers"},{"$f":"IF(ISBLANK(A144),\"\",VLOOKUP(A144,Etappe!A$2:B$13,2,FALSE))","v":"Marknesse - Kraggenburg"}]
[3,22,null,1.9487731481481484E-2,1.9487731481481484E-2,{"$f":"IF( ISBLANK(A145),\"\",IF(ISBLANK(B145),\"\",VLOOKUP(B145,Teams!A$2:B$95,2,0)))","v":"Tollebeek in beweging"},{"$f":"IF(ISBLANK(A145),\"\",VLOOKUP(A145,Etappe!A$2:B$13,2,FALSE))","v":"Marknesse - Kraggenburg"}]
[3,20,"v",1.9969444444444446E-2,1.7972500000000002E-2,{"$f":"IF( ISBLANK(A146),\"\",IF(ISBLANK(B146),\"\",VLOOKUP(B146,Teams!A$2:B$95,2,0)))","v":"Creil"},{"$f":"IF(ISBLANK(A146),\"\",VLOOKUP(A146,Etappe!A$2:B$13,2,FALSE))","v":"Marknesse - Kraggenburg"}]
[3,45,"v",2.0160416666666667E-2,1.8144375000000001E-2,{"$f":"IF( ISBLANK(A147),\"\",IF(ISBLANK(B147),\"\",VLOOKUP(B147,Teams!A$2:B$95,2,0)))","v":"Berechja College "},{"$f":"IF(ISBLANK(A147),\"\",VLOOKUP(A147,Etappe!A$2:B$13,2,FALSE))","v":"Marknesse - Kraggenburg"}]
[3,34,"v",2.0196990740740741E-2,1.8177291666666668E-2,{"$f":"IF( ISBLANK(A148),\"\",IF(ISBLANK(B148),\"\",VLOOKUP(B148,Teams!A$2:B$95,2,0)))","v":"Team 't Voorhuys"},{"$f":"IF(ISBLANK(A148),\"\",VLOOKUP(A148,Etappe!A$2:B$13,2,FALSE))","v":"Marknesse - Kraggenburg"}]
[3,28,"v",2.0595949074074072E-2,1.8536354166666665E-2,{"$f":"IF( ISBLANK(A149),\"\",IF(ISBLANK(B149),\"\",VLOOKUP(B149,Teams!A$2:B$95,2,0)))","v":"Waterman Onions 1"},{"$f":"IF(ISBLANK(A149),\"\",VLOOKUP(A149,Etappe!A$2:B$13,2,FALSE))","v":"Marknesse - Kraggenburg"}]
[3,23,null,2.0759722222222221E-2,2.0759722222222221E-2,{"$f":"IF( ISBLANK(A150),\"\",IF(ISBLANK(B150),\"\",VLOOKUP(B150,Teams!A$2:B$95,2,0)))","v":"Seaconcept"},{"$f":"IF(ISBLANK(A150),\"\",VLOOKUP(A150,Etappe!A$2:B$13,2,FALSE))","v":"Marknesse - Kraggenburg"}]
[3,38,null,2.0981828703703704E-2,2.0981828703703704E-2,{"$f":"IF( ISBLANK(A151),\"\",IF(ISBLANK(B151),\"\",VLOOKUP(B151,Teams!A$2:B$95,2,0)))","v":"Vegterlopers"},{"$f":"IF(ISBLANK(A151),\"\",VLOOKUP(A151,Etappe!A$2:B$13,2,FALSE))","v":"Marknesse - Kraggenburg"}]
[3,42,"v",2.0996296296296294E-2,1.8896666666666666E-2,{"$f":"IF( ISBLANK(A152),\"\",IF(ISBLANK(B152),\"\",VLOOKUP(B152,Teams!A$2:B$95,2,0)))","v":"Kinderopvang Pipo"},{"$f":"IF(ISBLANK(A152),\"\",VLOOKUP(A152,Etappe!A$2:B$13,2,FALSE))","v":"Marknesse - Kraggenburg"}]
[3,50,"v",2.1359375E-2,1.9223437499999999E-2,{"$f":"IF( ISBLANK(A153),\"\",IF(ISBLANK(B153),\"\",VLOOKUP(B153,Teams!A$2:B$95,2,0)))","v":"Nick & de rest"},{"$f":"IF(ISBLANK(A153),\"\",VLOOKUP(A153,Etappe!A$2:B$13,2,FALSE))","v":"Marknesse - Kraggenburg"}]
[3,35,null,2.1390509259259258E-2,2.1390509259259258E-2,{"$f":"IF( ISBLANK(A154),\"\",IF(ISBLANK(B154),\"\",VLOOKUP(B154,Teams!A$2:B$95,2,0)))","v":"Waterman Onions 2"},{"$f":"IF(ISBLANK(A154),\"\",VLOOKUP(A154,Etappe!A$2:B$13,2,FALSE))","v":"Marknesse - Kraggenburg"}]
[3,40,null,2.1494675925925924E-2,2.1494675925925924E-2,{"$f":"IF( ISBLANK(A155),\"\",IF(ISBLANK(B155),\"\",VLOOKUP(B155,Teams!A$2:B$95,2,0)))","v":"Mercatus, lopen op z’n best"},{"$f":"IF(ISBLANK(A155),\"\",VLOOKUP(A155,Etappe!A$2:B$13,2,FALSE))","v":"Marknesse - Kraggenburg"}]
[3,16,"v",2.169548611111111E-2,1.95259375E-2,{"$f":"IF( ISBLANK(A156),\"\",IF(ISBLANK(B156),\"\",VLOOKUP(B156,Teams!A$2:B$95,2,0)))","v":"Team Nagele"},{"$f":"IF(ISBLANK(A156),\"\",VLOOKUP(A156,Etappe!A$2:B$13,2,FALSE))","v":"Marknesse - Kraggenburg"}]
[3,41,null,2.1821296296296297E-2,2.1821296296296297E-2,{"$f":"IF( ISBLANK(A157),\"\",IF(ISBLANK(B157),\"\",VLOOKUP(B157,Teams!A$2:B$95,2,0)))","v":"Advies en Kies en Runners"},{"$f":"IF(ISBLANK(A157),\"\",VLOOKUP(A157,Etappe!A$2:B$13,2,FALSE))","v":"Marknesse - Kraggenburg"}]
[3,24,"v",2.1935648148148149E-2,1.9742083333333334E-2,{"$f":"IF( ISBLANK(A158),\"\",IF(ISBLANK(B158),\"\",VLOOKUP(B158,Teams!A$2:B$95,2,0)))","v":"Ter Haar Family & Friends"},{"$f":"IF(ISBLANK(A158),\"\",VLOOKUP(A158,Etappe!A$2:B$13,2,FALSE))","v":"Marknesse - Kraggenburg"}]
[3,31,null,2.2381250000000002E-2,2.2381250000000002E-2,{"$f":"IF( ISBLANK(A159),\"\",IF(ISBLANK(B159),\"\",VLOOKUP(B159,Teams!A$2:B$95,2,0)))","v":"fam.Dekker Draaft Door"},{"$f":"IF(ISBLANK(A159),\"\",VLOOKUP(A159,Etappe!A$2:B$13,2,FALSE))","v":"Marknesse - Kraggenburg"}]
[3,55,null,2.3082523148148151E-2,2.3082523148148151E-2,{"$f":"IF( ISBLANK(A160),\"\",IF(ISBLANK(B160),\"\",VLOOKUP(B160,Teams!A$2:B$95,2,0)))","v":"Fifty-Five"},{"$f":"IF(ISBLANK(A160),\"\",VLOOKUP(A160,Etappe!A$2:B$13,2,FALSE))","v":"Marknesse - Kraggenburg"}]
[3,52,"v",2.3637731481481485E-2,2.1273958333333336E-2,{"$f":"IF( ISBLANK(A161),\"\",IF(ISBLANK(B161),\"\",VLOOKUP(B161,Teams!A$2:B$95,2,0)))","v":"Pool-der run4fun"},{"$f":"IF(ISBLANK(A161),\"\",VLOOKUP(A161,Etappe!A$2:B$13,2,FALSE))","v":"Marknesse - Kraggenburg"}]
[3,19,"v",2.3933564814814817E-2,2.1540208333333335E-2,{"$f":"IF( ISBLANK(A162),\"\",IF(ISBLANK(B162),\"\",VLOOKUP(B162,Teams!A$2:B$95,2,0)))","v":"STC Rutten"},{"$f":"IF(ISBLANK(A162),\"\",VLOOKUP(A162,Etappe!A$2:B$13,2,FALSE))","v":"Marknesse - Kraggenburg"}]
[3,29,"v",2.4546643518518516E-2,2.2091979166666664E-2,{"$f":"IF( ISBLANK(A163),\"\",IF(ISBLANK(B163),\"\",VLOOKUP(B163,Teams!A$2:B$95,2,0)))","v":"Waterman Onions Pink Ladies"},{"$f":"IF(ISBLANK(A163),\"\",VLOOKUP(A163,Etappe!A$2:B$13,2,FALSE))","v":"Marknesse - Kraggenburg"}]
[4,2,null,1.5488078703703704E-2,1.5488078703703704E-2,{"$f":"IF( ISBLANK(A164),\"\",IF(ISBLANK(B164),\"\",VLOOKUP(B164,Teams!A$2:B$95,2,0)))","v":"hardloopbegeleidingopmaat/klif 18"},{"$f":"IF(ISBLANK(A164),\"\",VLOOKUP(A164,Etappe!A$2:B$13,2,FALSE))","v":"Kraggenburg - Ens"}]
[4,4,null,1.5759374999999999E-2,1.5759374999999999E-2,{"$f":"IF( ISBLANK(A165),\"\",IF(ISBLANK(B165),\"\",VLOOKUP(B165,Teams!A$2:B$95,2,0)))","v":"Klif 18"},{"$f":"IF(ISBLANK(A165),\"\",VLOOKUP(A165,Etappe!A$2:B$13,2,FALSE))","v":"Kraggenburg - Ens"}]
[4,6,null,1.5955787037037036E-2,1.5955787037037036E-2,{"$f":"IF( ISBLANK(A166),\"\",IF(ISBLANK(B166),\"\",VLOOKUP(B166,Teams!A$2:B$95,2,0)))","v":"Running Ruijters"},{"$f":"IF(ISBLANK(A166),\"\",VLOOKUP(A166,Etappe!A$2:B$13,2,FALSE))","v":"Kraggenburg - Ens"}]
[4,25,null,1.612210648148148E-2,1.612210648148148E-2,{"$f":"IF( ISBLANK(A167),\"\",IF(ISBLANK(B167),\"\",VLOOKUP(B167,Teams!A$2:B$95,2,0)))","v":"Hardloop groep Ens"},{"$f":"IF(ISBLANK(A167),\"\",VLOOKUP(A167,Etappe!A$2:B$13,2,FALSE))","v":"Kraggenburg - Ens"}]
[4,8,null,1.6409722222222221E-2,1.6409722222222221E-2,{"$f":"IF( ISBLANK(A168),\"\",IF(ISBLANK(B168),\"\",VLOOKUP(B168,Teams!A$2:B$95,2,0)))","v":"Hardloopteam Bant"},{"$f":"IF(ISBLANK(A168),\"\",VLOOKUP(A168,Etappe!A$2:B$13,2,FALSE))","v":"Kraggenburg - Ens"}]
[4,3,null,1.7598958333333331E-2,1.7598958333333331E-2,{"$f":"IF( ISBLANK(A169),\"\",IF(ISBLANK(B169),\"\",VLOOKUP(B169,Teams!A$2:B$95,2,0)))","v":"Quick Jewels"},{"$f":"IF(ISBLANK(A169),\"\",VLOOKUP(A169,Etappe!A$2:B$13,2,FALSE))","v":"Kraggenburg - Ens"}]
[4,26,null,1.7649537037037036E-2,1.7649537037037036E-2,{"$f":"IF( ISBLANK(A170),\"\",IF(ISBLANK(B170),\"\",VLOOKUP(B170,Teams!A$2:B$95,2,0)))","v":"van Vilsteren Marknesse.nl"},{"$f":"IF(ISBLANK(A170),\"\",VLOOKUP(A170,Etappe!A$2:B$13,2,FALSE))","v":"Kraggenburg - Ens"}]
[4,17,null,1.7690046296296294E-2,1.7690046296296294E-2,{"$f":"IF( ISBLANK(A171),\"\",IF(ISBLANK(B171),\"\",VLOOKUP(B171,Teams!A$2:B$95,2,0)))","v":"SAMEN ONDER WEG"},{"$f":"IF(ISBLANK(A171),\"\",VLOOKUP(A171,Etappe!A$2:B$13,2,FALSE))","v":"Kraggenburg - Ens"}]
[4,5,null,1.7920833333333334E-2,1.7920833333333334E-2,{"$f":"IF( ISBLANK(A172),\"\",IF(ISBLANK(B172),\"\",VLOOKUP(B172,Teams!A$2:B$95,2,0)))","v":"Dujob"},{"$f":"IF(ISBLANK(A172),\"\",VLOOKUP(A172,Etappe!A$2:B$13,2,FALSE))","v":"Kraggenburg - Ens"}]
[4,1,"v",1.806736111111111E-2,1.6260625000000001E-2,{"$f":"IF( ISBLANK(A173),\"\",IF(ISBLANK(B173),\"\",VLOOKUP(B173,Teams!A$2:B$95,2,0)))","v":"De Corner"},{"$f":"IF(ISBLANK(A173),\"\",VLOOKUP(A173,Etappe!A$2:B$13,2,FALSE))","v":"Kraggenburg - Ens"}]
[4,12,null,1.8894560185185184E-2,1.8894560185185184E-2,{"$f":"IF( ISBLANK(A174),\"\",IF(ISBLANK(B174),\"\",VLOOKUP(B174,Teams!A$2:B$95,2,0)))","v":"Hekwerkwebshop.nl"},{"$f":"IF(ISBLANK(A174),\"\",VLOOKUP(A174,Etappe!A$2:B$13,2,FALSE))","v":"Kraggenburg - Ens"}]
[4,10,null,1.9411342592592591E-2,1.9411342592592591E-2,{"$f":"IF( ISBLANK(A175),\"\",IF(ISBLANK(B175),\"\",VLOOKUP(B175,Teams!A$2:B$95,2,0)))","v":"RUN TEAM MARKNESSE"},{"$f":"IF(ISBLANK(A175),\"\",VLOOKUP(A175,Etappe!A$2:B$13,2,FALSE))","v":"Kraggenburg - Ens"}]
[4,14,null,1.9897453703703702E-2,1.9897453703703702E-2,{"$f":"IF( ISBLANK(A176),\"\",IF(ISBLANK(B176),\"\",VLOOKUP(B176,Teams!A$2:B$95,2,0)))","v":"Vivan komt dr’an"},{"$f":"IF(ISBLANK(A176),\"\",VLOOKUP(A176,Etappe!A$2:B$13,2,FALSE))","v":"Kraggenburg - Ens"}]
[4,18,null,2.0041782407407407E-2,2.0041782407407407E-2,{"$f":"IF( ISBLANK(A177),\"\",IF(ISBLANK(B177),\"\",VLOOKUP(B177,Teams!A$2:B$95,2,0)))","v":"Fit Fun/ Anytime"},{"$f":"IF(ISBLANK(A177),\"\",VLOOKUP(A177,Etappe!A$2:B$13,2,FALSE))","v":"Kraggenburg - Ens"}]
[4,39,null,2.0114814814814815E-2,2.0114814814814815E-2,{"$f":"IF( ISBLANK(A178),\"\",IF(ISBLANK(B178),\"\",VLOOKUP(B178,Teams!A$2:B$95,2,0)))","v":"Suplacon"},{"$f":"IF(ISBLANK(A178),\"\",VLOOKUP(A178,Etappe!A$2:B$13,2,FALSE))","v":"Kraggenburg - Ens"}]
[4,54,null,2.0157523148148147E-2,2.0157523148148147E-2,{"$f":"IF( ISBLANK(A179),\"\",IF(ISBLANK(B179),\"\",VLOOKUP(B179,Teams!A$2:B$95,2,0)))","v":"De Dijkies"},{"$f":"IF(ISBLANK(A179),\"\",VLOOKUP(A179,Etappe!A$2:B$13,2,FALSE))","v":"Kraggenburg - Ens"}]
[4,42,null,2.0164004629629629E-2,2.0164004629629629E-2,{"$f":"IF( ISBLANK(A180),\"\",IF(ISBLANK(B180),\"\",VLOOKUP(B180,Teams!A$2:B$95,2,0)))","v":"Kinderopvang Pipo"},{"$f":"IF(ISBLANK(A180),\"\",VLOOKUP(A180,Etappe!A$2:B$13,2,FALSE))","v":"Kraggenburg - Ens"}]
[4,47,null,2.021111111111111E-2,2.021111111111111E-2,{"$f":"IF( ISBLANK(A181),\"\",IF(ISBLANK(B181),\"\",VLOOKUP(B181,Teams!A$2:B$95,2,0)))","v":"CrossFit Urk"},{"$f":"IF(ISBLANK(A181),\"\",VLOOKUP(A181,Etappe!A$2:B$13,2,FALSE))","v":"Kraggenburg - Ens"}]
[4,37,null,2.0295717592592591E-2,2.0295717592592591E-2,{"$f":"IF( ISBLANK(A182),\"\",IF(ISBLANK(B182),\"\",VLOOKUP(B182,Teams!A$2:B$95,2,0)))","v":"Van Staveren"},{"$f":"IF(ISBLANK(A182),\"\",VLOOKUP(A182,Etappe!A$2:B$13,2,FALSE))","v":"Kraggenburg - Ens"}]
[4,29,null,2.0398726851851852E-2,2.0398726851851852E-2,{"$f":"IF( ISBLANK(A183),\"\",IF(ISBLANK(B183),\"\",VLOOKUP(B183,Teams!A$2:B$95,2,0)))","v":"Waterman Onions Pink Ladies"},{"$f":"IF(ISBLANK(A183),\"\",VLOOKUP(A183,Etappe!A$2:B$13,2,FALSE))","v":"Kraggenburg - Ens"}]
[4,40,null,2.0425231481481482E-2,2.0425231481481482E-2,{"$f":"IF( ISBLANK(A184),\"\",IF(ISBLANK(B184),\"\",VLOOKUP(B184,Teams!A$2:B$95,2,0)))","v":"Mercatus, lopen op z’n best"},{"$f":"IF(ISBLANK(A184),\"\",VLOOKUP(A184,Etappe!A$2:B$13,2,FALSE))","v":"Kraggenburg - Ens"}]
[4,46,null,2.0453009259259258E-2,2.0453009259259258E-2,{"$f":"IF( ISBLANK(A185),\"\",IF(ISBLANK(B185),\"\",VLOOKUP(B185,Teams!A$2:B$95,2,0)))","v":"Hoekstra Assurantie B.V."},{"$f":"IF(ISBLANK(A185),\"\",VLOOKUP(A185,Etappe!A$2:B$13,2,FALSE))","v":"Kraggenburg - Ens"}]
[4,7,null,2.0503703703703705E-2,2.0503703703703705E-2,{"$f":"IF( ISBLANK(A186),\"\",IF(ISBLANK(B186),\"\",VLOOKUP(B186,Teams!A$2:B$95,2,0)))","v":"ASV Rutten"},{"$f":"IF(ISBLANK(A186),\"\",VLOOKUP(A186,Etappe!A$2:B$13,2,FALSE))","v":"Kraggenburg - Ens"}]
[4,32,null,2.0512037037037037E-2,2.0512037037037037E-2,{"$f":"IF( ISBLANK(A187),\"\",IF(ISBLANK(B187),\"\",VLOOKUP(B187,Teams!A$2:B$95,2,0)))","v":"Ber-di-do"},{"$f":"IF(ISBLANK(A187),\"\",VLOOKUP(A187,Etappe!A$2:B$13,2,FALSE))","v":"Kraggenburg - Ens"}]
[4,31,null,2.0520717592592594E-2,2.0520717592592594E-2,{"$f":"IF( ISBLANK(A188),\"\",IF(ISBLANK(B188),\"\",VLOOKUP(B188,Teams!A$2:B$95,2,0)))","v":"fam.Dekker Draaft Door"},{"$f":"IF(ISBLANK(A188),\"\",VLOOKUP(A188,Etappe!A$2:B$13,2,FALSE))","v":"Kraggenburg - Ens"}]
[4,21,"v",2.0527546296296297E-2,1.8474791666666667E-2,{"$f":"IF( ISBLANK(A189),\"\",IF(ISBLANK(B189),\"\",VLOOKUP(B189,Teams!A$2:B$95,2,0)))","v":"050media"},{"$f":"IF(ISBLANK(A189),\"\",VLOOKUP(A189,Etappe!A$2:B$13,2,FALSE))","v":"Kraggenburg - Ens"}]
[4,44,null,2.0571990740740741E-2,2.0571990740740741E-2,{"$f":"IF( ISBLANK(A190),\"\",IF(ISBLANK(B190),\"\",VLOOKUP(B190,Teams!A$2:B$95,2,0)))","v":"Tafelronde Noordoostpolder"},{"$f":"IF(ISBLANK(A190),\"\",VLOOKUP(A190,Etappe!A$2:B$13,2,FALSE))","v":"Kraggenburg - Ens"}]
[4,27,null,2.0639699074074074E-2,2.0639699074074074E-2,{"$f":"IF( ISBLANK(A191),\"\",IF(ISBLANK(B191),\"\",VLOOKUP(B191,Teams!A$2:B$95,2,0)))","v":"Running Team Espel"},{"$f":"IF(ISBLANK(A191),\"\",VLOOKUP(A191,Etappe!A$2:B$13,2,FALSE))","v":"Kraggenburg - Ens"}]
[4,24,null,2.0768402777777778E-2,2.0768402777777778E-2,{"$f":"IF( ISBLANK(A192),\"\",IF(ISBLANK(B192),\"\",VLOOKUP(B192,Teams!A$2:B$95,2,0)))","v":"Ter Haar Family & Friends"},{"$f":"IF(ISBLANK(A192),\"\",VLOOKUP(A192,Etappe!A$2:B$13,2,FALSE))","v":"Kraggenburg - Ens"}]
[4,11,"v",2.0836458333333332E-2,1.87528125E-2,{"$f":"IF( ISBLANK(A193),\"\",IF(ISBLANK(B193),\"\",VLOOKUP(B193,Teams!A$2:B$95,2,0)))","v":"Kraggenburg 4"},{"$f":"IF(ISBLANK(A193),\"\",VLOOKUP(A193,Etappe!A$2:B$13,2,FALSE))","v":"Kraggenburg - Ens"}]
[4,56,null,2.0912384259259259E-2,2.0912384259259259E-2,{"$f":"IF( ISBLANK(A194),\"\",IF(ISBLANK(B194),\"\",VLOOKUP(B194,Teams!A$2:B$95,2,0)))","v":"De Broodlopers"},{"$f":"IF(ISBLANK(A194),\"\",VLOOKUP(A194,Etappe!A$2:B$13,2,FALSE))","v":"Kraggenburg - Ens"}]
[4,50,null,2.0958680555555553E-2,{"$f":"IF(ISBLANK(A195),\"\",IF(C195=\"v\",0.9*D195,D195))","v":2.0958680555555553E-2},{"$f":"IF( ISBLANK(A195),\"\",IF(ISBLANK(B195),\"\",VLOOKUP(B195,Teams!A$2:B$95,2,0)))","v":"Nick & de rest"},{"$f":"IF(ISBLANK(A195),\"\",VLOOKUP(A195,Etappe!A$2:B$13,2,FALSE))","v":"Kraggenburg - Ens"}]
[4,22,null,2.111886574074074E-2,2.111886574074074E-2,{"$f":"IF( ISBLANK(A196),\"\",IF(ISBLANK(B196),\"\",VLOOKUP(B196,Teams!A$2:B$95,2,0)))","v":"Tollebeek in beweging"},{"$f":"IF(ISBLANK(A196),\"\",VLOOKUP(A196,Etappe!A$2:B$13,2,FALSE))","v":"Kraggenburg - Ens"}]
[4,13,"v",2.1167708333333334E-2,1.90509375E-2,{"$f":"IF( ISBLANK(A197),\"\",IF(ISBLANK(B197),\"\",VLOOKUP(B197,Teams!A$2:B$95,2,0)))","v":"KLIF18 ladies"},{"$f":"IF(ISBLANK(A197),\"\",VLOOKUP(A197,Etappe!A$2:B$13,2,FALSE))","v":"Kraggenburg - Ens"}]
[4,49,null,2.1265393518518517E-2,2.1265393518518517E-2,{"$f":"IF( ISBLANK(A198),\"\",IF(ISBLANK(B198),\"\",VLOOKUP(B198,Teams!A$2:B$95,2,0)))","v":"Flynth"},{"$f":"IF(ISBLANK(A198),\"\",VLOOKUP(A198,Etappe!A$2:B$13,2,FALSE))","v":"Kraggenburg - Ens"}]
[4,33,"v",2.1613657407407408E-2,1.9452291666666666E-2,{"$f":"IF( ISBLANK(A199),\"\",IF(ISBLANK(B199),\"\",VLOOKUP(B199,Teams!A$2:B$95,2,0)))","v":"woensdagavondlopers"},{"$f":"IF(ISBLANK(A199),\"\",VLOOKUP(A199,Etappe!A$2:B$13,2,FALSE))","v":"Kraggenburg - Ens"}]
[4,51,"v",2.1634722222222222E-2,1.9471249999999999E-2,{"$f":"IF( ISBLANK(A200),\"\",IF(ISBLANK(B200),\"\",VLOOKUP(B200,Teams!A$2:B$95,2,0)))","v":"Van Urk voeding"},{"$f":"IF(ISBLANK(A200),\"\",VLOOKUP(A200,Etappe!A$2:B$13,2,FALSE))","v":"Kraggenburg - Ens"}]
[4,16,null,2.1662152777777777E-2,2.1662152777777777E-2,{"$f":"IF( ISBLANK(A201),\"\",IF(ISBLANK(B201),\"\",VLOOKUP(B201,Teams!A$2:B$95,2,0)))","v":"Team Nagele"},{"$f":"IF(ISBLANK(A201),\"\",VLOOKUP(A201,Etappe!A$2:B$13,2,FALSE))","v":"Kraggenburg - Ens"}]
[4,28,null,2.2040856481481481E-2,2.2040856481481481E-2,{"$f":"IF( ISBLANK(A202),\"\",IF(ISBLANK(B202),\"\",VLOOKUP(B202,Teams!A$2:B$95,2,0)))","v":"Waterman Onions 1"},{"$f":"IF(ISBLANK(A202),\"\",VLOOKUP(A202,Etappe!A$2:B$13,2,FALSE))","v":"Kraggenburg - Ens"}]
[4,38,"v",2.2085763888888887E-2,1.9877187500000001E-2,{"$f":"IF( ISBLANK(A203),\"\",IF(ISBLANK(B203),\"\",VLOOKUP(B203,Teams!A$2:B$95,2,0)))","v":"Vegterlopers"},{"$f":"IF(ISBLANK(A203),\"\",VLOOKUP(A203,Etappe!A$2:B$13,2,FALSE))","v":"Kraggenburg - Ens"}]
[4,9,"v",2.2202893518518518E-2,1.9982604166666668E-2,{"$f":"IF( ISBLANK(A204),\"\",IF(ISBLANK(B204),\"\",VLOOKUP(B204,Teams!A$2:B$95,2,0)))","v":"VAN BLOOIS SPORTADVIES"},{"$f":"IF(ISBLANK(A204),\"\",VLOOKUP(A204,Etappe!A$2:B$13,2,FALSE))","v":"Kraggenburg - Ens"}]
[4,23,null,2.2295833333333334E-2,2.2295833333333334E-2,{"$f":"IF( ISBLANK(A205),\"\",IF(ISBLANK(B205),\"\",VLOOKUP(B205,Teams!A$2:B$95,2,0)))","v":"Seaconcept"},{"$f":"IF(ISBLANK(A205),\"\",VLOOKUP(A205,Etappe!A$2:B$13,2,FALSE))","v":"Kraggenburg - Ens"}]
[4,30,null,2.2303472222222225E-2,2.2303472222222225E-2,{"$f":"IF( ISBLANK(A206),\"\",IF(ISBLANK(B206),\"\",VLOOKUP(B206,Teams!A$2:B$95,2,0)))","v":"Autofirst Minnaard "},{"$f":"IF(ISBLANK(A206),\"\",VLOOKUP(A206,Etappe!A$2:B$13,2,FALSE))","v":"Kraggenburg - Ens"}]
[4,52,"v",2.248171296296296E-2,2.0233541666666664E-2,{"$f":"IF( ISBLANK(A207),\"\",IF(ISBLANK(B207),\"\",VLOOKUP(B207,Teams!A$2:B$95,2,0)))","v":"Pool-der run4fun"},{"$f":"IF(ISBLANK(A207),\"\",VLOOKUP(A207,Etappe!A$2:B$13,2,FALSE))","v":"Kraggenburg - Ens"}]
[4,36,"v",2.252372685185185E-2,2.0271354166666665E-2,{"$f":"IF( ISBLANK(A208),\"\",IF(ISBLANK(B208),\"\",VLOOKUP(B208,Teams!A$2:B$95,2,0)))","v":"Schol op Urk"},{"$f":"IF(ISBLANK(A208),\"\",VLOOKUP(A208,Etappe!A$2:B$13,2,FALSE))","v":"Kraggenburg - Ens"}]
[4,20,null,2.2597800925925927E-2,2.2597800925925927E-2,{"$f":"IF( ISBLANK(A209),\"\",IF(ISBLANK(B209),\"\",VLOOKUP(B209,Teams!A$2:B$95,2,0)))","v":"Creil"},{"$f":"IF(ISBLANK(A209),\"\",VLOOKUP(A209,Etappe!A$2:B$13,2,FALSE))","v":"Kraggenburg - Ens"}]
[4,15,null,2.3541898148148145E-2,2.3541898148148145E-2,{"$f":"IF( ISBLANK(A210),\"\",IF(ISBLANK(B210),\"\",VLOOKUP(B210,Teams!A$2:B$95,2,0)))","v":"Aves"},{"$f":"IF(ISBLANK(A210),\"\",VLOOKUP(A210,Etappe!A$2:B$13,2,FALSE))","v":"Kraggenburg - Ens"}]
[4,43,null,2.3675694444444444E-2,2.3675694444444444E-2,{"$f":"IF( ISBLANK(A211),\"\",IF(ISBLANK(B211),\"\",VLOOKUP(B211,Teams!A$2:B$95,2,0)))","v":"Lerøy Seafood NL"},{"$f":"IF(ISBLANK(A211),\"\",VLOOKUP(A211,Etappe!A$2:B$13,2,FALSE))","v":"Kraggenburg - Ens"}]
[4,35,null,2.3940046296296293E-2,2.3940046296296293E-2,{"$f":"IF( ISBLANK(A212),\"\",IF(ISBLANK(B212),\"\",VLOOKUP(B212,Teams!A$2:B$95,2,0)))","v":"Waterman Onions 2"},{"$f":"IF(ISBLANK(A212),\"\",VLOOKUP(A212,Etappe!A$2:B$13,2,FALSE))","v":"Kraggenburg - Ens"}]
[4,34,"v",2.4179513888888886E-2,2.1761562499999998E-2,{"$f":"IF( ISBLANK(A213),\"\",IF(ISBLANK(B213),\"\",VLOOKUP(B213,Teams!A$2:B$95,2,0)))","v":"Team 't Voorhuys"},{"$f":"IF(ISBLANK(A213),\"\",VLOOKUP(A213,Etappe!A$2:B$13,2,FALSE))","v":"Kraggenburg - Ens"}]
[4,45,"v",2.451701388888889E-2,2.2065312500000003E-2,{"$f":"IF( ISBLANK(A214),\"\",IF(ISBLANK(B214),\"\",VLOOKUP(B214,Teams!A$2:B$95,2,0)))","v":"Berechja College "},{"$f":"IF(ISBLANK(A214),\"\",VLOOKUP(A214,Etappe!A$2:B$13,2,FALSE))","v":"Kraggenburg - Ens"}]
[4,41,"v",2.4866782407407403E-2,2.2380104166666664E-2,{"$f":"IF( ISBLANK(A215),\"\",IF(ISBLANK(B215),\"\",VLOOKUP(B215,Teams!A$2:B$95,2,0)))","v":"Advies en Kies en Runners"},{"$f":"IF(ISBLANK(A215),\"\",VLOOKUP(A215,Etappe!A$2:B$13,2,FALSE))","v":"Kraggenburg - Ens"}]
[4,19,"v",2.5693171296296294E-2,2.3123854166666666E-2,{"$f":"IF( ISBLANK(A216),\"\",IF(ISBLANK(B216),\"\",VLOOKUP(B216,Teams!A$2:B$95,2,0)))","v":"STC Rutten"},{"$f":"IF(ISBLANK(A216),\"\",VLOOKUP(A216,Etappe!A$2:B$13,2,FALSE))","v":"Kraggenburg - Ens"}]
[4,55,"v",2.8003703703703704E-2,2.5203333333333335E-2,{"$f":"IF( ISBLANK(A217),\"\",IF(ISBLANK(B217),\"\",VLOOKUP(B217,Teams!A$2:B$95,2,0)))","v":"Fifty-Five"},{"$f":"IF(ISBLANK(A217),\"\",VLOOKUP(A217,Etappe!A$2:B$13,2,FALSE))","v":"Kraggenburg - Ens"}]
[5,2,null,1.8119444444444441E-2,1.8119444444444441E-2,{"$f":"IF( ISBLANK(A218),\"\",IF(ISBLANK(B218),\"\",VLOOKUP(B218,Teams!A$2:B$95,2,0)))","v":"hardloopbegeleidingopmaat/klif 18"},{"$f":"IF(ISBLANK(A218),\"\",VLOOKUP(A218,Etappe!A$2:B$13,2,FALSE))","v":"Ens - Nagele"}]
[5,6,null,1.8857638888888889E-2,1.8857638888888889E-2,{"$f":"IF( ISBLANK(A219),\"\",IF(ISBLANK(B219),\"\",VLOOKUP(B219,Teams!A$2:B$95,2,0)))","v":"Running Ruijters"},{"$f":"IF(ISBLANK(A219),\"\",VLOOKUP(A219,Etappe!A$2:B$13,2,FALSE))","v":"Ens - Nagele"}]
[5,1,null,1.9000115740740741E-2,1.9000115740740741E-2,{"$f":"IF( ISBLANK(A220),\"\",IF(ISBLANK(B220),\"\",VLOOKUP(B220,Teams!A$2:B$95,2,0)))","v":"De Corner"},{"$f":"IF(ISBLANK(A220),\"\",VLOOKUP(A220,Etappe!A$2:B$13,2,FALSE))","v":"Ens - Nagele"}]
[5,4,null,1.9071064814814815E-2,1.9071064814814815E-2,{"$f":"IF( ISBLANK(A221),\"\",IF(ISBLANK(B221),\"\",VLOOKUP(B221,Teams!A$2:B$95,2,0)))","v":"Klif 18"},{"$f":"IF(ISBLANK(A221),\"\",VLOOKUP(A221,Etappe!A$2:B$13,2,FALSE))","v":"Ens - Nagele"}]
[5,3,null,2.1358680555555554E-2,2.1358680555555554E-2,{"$f":"IF( ISBLANK(A222),\"\",IF(ISBLANK(B222),\"\",VLOOKUP(B222,Teams!A$2:B$95,2,0)))","v":"Quick Jewels"},{"$f":"IF(ISBLANK(A222),\"\",VLOOKUP(A222,Etappe!A$2:B$13,2,FALSE))","v":"Ens - Nagele"}]
[5,32,null,2.1879166666666668E-2,2.1879166666666668E-2,{"$f":"IF( ISBLANK(A223),\"\",IF(ISBLANK(B223),\"\",VLOOKUP(B223,Teams!A$2:B$95,2,0)))","v":"Ber-di-do"},{"$f":"IF(ISBLANK(A223),\"\",VLOOKUP(A223,Etappe!A$2:B$13,2,FALSE))","v":"Ens - Nagele"}]
[5,18,null,2.199351851851852E-2,2.199351851851852E-2,{"$f":"IF( ISBLANK(A224),\"\",IF(ISBLANK(B224),\"\",VLOOKUP(B224,Teams!A$2:B$95,2,0)))","v":"Fit Fun/ Anytime"},{"$f":"IF(ISBLANK(A224),\"\",VLOOKUP(A224,Etappe!A$2:B$13,2,FALSE))","v":"Ens - Nagele"}]
[5,19,null,2.2046643518518514E-2,2.2046643518518514E-2,{"$f":"IF( ISBLANK(A225),\"\",IF(ISBLANK(B225),\"\",VLOOKUP(B225,Teams!A$2:B$95,2,0)))","v":"STC Rutten"},{"$f":"IF(ISBLANK(A225),\"\",VLOOKUP(A225,Etappe!A$2:B$13,2,FALSE))","v":"Ens - Nagele"}]
[5,10,null,2.2092592592592594E-2,2.2092592592592594E-2,{"$f":"IF( ISBLANK(A226),\"\",IF(ISBLANK(B226),\"\",VLOOKUP(B226,Teams!A$2:B$95,2,0)))","v":"RUN TEAM MARKNESSE"},{"$f":"IF(ISBLANK(A226),\"\",VLOOKUP(A226,Etappe!A$2:B$13,2,FALSE))","v":"Ens - Nagele"}]
[5,25,null,2.2174652777777776E-2,2.2174652777777776E-2,{"$f":"IF( ISBLANK(A227),\"\",IF(ISBLANK(B227),\"\",VLOOKUP(B227,Teams!A$2:B$95,2,0)))","v":"Hardloop groep Ens"},{"$f":"IF(ISBLANK(A227),\"\",VLOOKUP(A227,Etappe!A$2:B$13,2,FALSE))","v":"Ens - Nagele"}]
[5,22,null,2.2237268518518521E-2,2.2237268518518521E-2,{"$f":"IF( ISBLANK(A228),\"\",IF(ISBLANK(B228),\"\",VLOOKUP(B228,Teams!A$2:B$95,2,0)))","v":"Tollebeek in beweging"},{"$f":"IF(ISBLANK(A228),\"\",VLOOKUP(A228,Etappe!A$2:B$13,2,FALSE))","v":"Ens - Nagele"}]
[5,44,null,2.2421412037037038E-2,2.2421412037037038E-2,{"$f":"IF( ISBLANK(A229),\"\",IF(ISBLANK(B229),\"\",VLOOKUP(B229,Teams!A$2:B$95,2,0)))","v":"Tafelronde Noordoostpolder"},{"$f":"IF(ISBLANK(A229),\"\",VLOOKUP(A229,Etappe!A$2:B$13,2,FALSE))","v":"Ens - Nagele"}]
[5,34,null,2.2989236111111113E-2,2.2989236111111113E-2,{"$f":"IF( ISBLANK(A230),\"\",IF(ISBLANK(B230),\"\",VLOOKUP(B230,Teams!A$2:B$95,2,0)))","v":"Team 't Voorhuys"},{"$f":"IF(ISBLANK(A230),\"\",VLOOKUP(A230,Etappe!A$2:B$13,2,FALSE))","v":"Ens - Nagele"}]
[5,5,null,2.3159143518518523E-2,2.3159143518518523E-2,{"$f":"IF( ISBLANK(A231),\"\",IF(ISBLANK(B231),\"\",VLOOKUP(B231,Teams!A$2:B$95,2,0)))","v":"Dujob"},{"$f":"IF(ISBLANK(A231),\"\",VLOOKUP(A231,Etappe!A$2:B$13,2,FALSE))","v":"Ens - Nagele"}]
[5,21,null,2.3302430555555559E-2,2.3302430555555559E-2,{"$f":"IF( ISBLANK(A232),\"\",IF(ISBLANK(B232),\"\",VLOOKUP(B232,Teams!A$2:B$95,2,0)))","v":"050media"},{"$f":"IF(ISBLANK(A232),\"\",VLOOKUP(A232,Etappe!A$2:B$13,2,FALSE))","v":"Ens - Nagele"}]
[5,20,"v",2.3327430555555556E-2,2.0994687500000001E-2,{"$f":"IF( ISBLANK(A233),\"\",IF(ISBLANK(B233),\"\",VLOOKUP(B233,Teams!A$2:B$95,2,0)))","v":"Creil"},{"$f":"IF(ISBLANK(A233),\"\",VLOOKUP(A233,Etappe!A$2:B$13,2,FALSE))","v":"Ens - Nagele"}]
[5,45,null,2.3501388888888888E-2,2.3501388888888888E-2,{"$f":"IF( ISBLANK(A234),\"\",IF(ISBLANK(B234),\"\",VLOOKUP(B234,Teams!A$2:B$95,2,0)))","v":"Berechja College "},{"$f":"IF(ISBLANK(A234),\"\",VLOOKUP(A234,Etappe!A$2:B$13,2,FALSE))","v":"Ens - Nagele"}]
[5,52,null,2.3589236111111109E-2,2.3589236111111109E-2,{"$f":"IF( ISBLANK(A235),\"\",IF(ISBLANK(B235),\"\",VLOOKUP(B235,Teams!A$2:B$95,2,0)))","v":"Pool-der run4fun"},{"$f":"IF(ISBLANK(A235),\"\",VLOOKUP(A235,Etappe!A$2:B$13,2,FALSE))","v":"Ens - Nagele"}]
[5,8,null,2.3597222222222217E-2,2.3597222222222217E-2,{"$f":"IF( ISBLANK(A236),\"\",IF(ISBLANK(B236),\"\",VLOOKUP(B236,Teams!A$2:B$95,2,0)))","v":"Hardloopteam Bant"},{"$f":"IF(ISBLANK(A236),\"\",VLOOKUP(A236,Etappe!A$2:B$13,2,FALSE))","v":"Ens - Nagele"}]
[5,40,null,2.3786689814814816E-2,2.3786689814814816E-2,{"$f":"IF( ISBLANK(A237),\"\",IF(ISBLANK(B237),\"\",VLOOKUP(B237,Teams!A$2:B$95,2,0)))","v":"Mercatus, lopen op z’n best"},{"$f":"IF(ISBLANK(A237),\"\",VLOOKUP(A237,Etappe!A$2:B$13,2,FALSE))","v":"Ens - Nagele"}]
[5,11,null,2.3869907407407409E-2,2.3869907407407409E-2,{"$f":"IF( ISBLANK(A238),\"\",IF(ISBLANK(B238),\"\",VLOOKUP(B238,Teams!A$2:B$95,2,0)))","v":"Kraggenburg 4"},{"$f":"IF(ISBLANK(A238),\"\",VLOOKUP(A238,Etappe!A$2:B$13,2,FALSE))","v":"Ens - Nagele"}]
[5,14,null,2.3978009259259261E-2,2.3978009259259261E-2,{"$f":"IF( ISBLANK(A239),\"\",IF(ISBLANK(B239),\"\",VLOOKUP(B239,Teams!A$2:B$95,2,0)))","v":"Vivan komt dr’an"},{"$f":"IF(ISBLANK(A239),\"\",VLOOKUP(A239,Etappe!A$2:B$13,2,FALSE))","v":"Ens - Nagele"}]
[5,7,"v",2.4465625000000001E-2,2.2019062500000002E-2,{"$f":"IF( ISBLANK(A240),\"\",IF(ISBLANK(B240),\"\",VLOOKUP(B240,Teams!A$2:B$95,2,0)))","v":"ASV Rutten"},{"$f":"IF(ISBLANK(A240),\"\",VLOOKUP(A240,Etappe!A$2:B$13,2,FALSE))","v":"Ens - Nagele"}]
[5,29,"v",2.4607060185185187E-2,2.214635416666667E-2,{"$f":"IF( ISBLANK(A241),\"\",IF(ISBLANK(B241),\"\",VLOOKUP(B241,Teams!A$2:B$95,2,0)))","v":"Waterman Onions Pink Ladies"},{"$f":"IF(ISBLANK(A241),\"\",VLOOKUP(A241,Etappe!A$2:B$13,2,FALSE))","v":"Ens - Nagele"}]
[5,37,null,2.478460648148148E-2,2.478460648148148E-2,{"$f":"IF( ISBLANK(A242),\"\",IF(ISBLANK(B242),\"\",VLOOKUP(B242,Teams!A$2:B$95,2,0)))","v":"Van Staveren"},{"$f":"IF(ISBLANK(A242),\"\",VLOOKUP(A242,Etappe!A$2:B$13,2,FALSE))","v":"Ens - Nagele"}]
[5,54,null,2.4796874999999999E-2,2.4796874999999999E-2,{"$f":"IF( ISBLANK(A243),\"\",IF(ISBLANK(B243),\"\",VLOOKUP(B243,Teams!A$2:B$95,2,0)))","v":"De Dijkies"},{"$f":"IF(ISBLANK(A243),\"\",VLOOKUP(A243,Etappe!A$2:B$13,2,FALSE))","v":"Ens - Nagele"}]
[5,27,"v",2.5053009259259258E-2,2.2547708333333333E-2,{"$f":"IF( ISBLANK(A244),\"\",IF(ISBLANK(B244),\"\",VLOOKUP(B244,Teams!A$2:B$95,2,0)))","v":"Running Team Espel"},{"$f":"IF(ISBLANK(A244),\"\",VLOOKUP(A244,Etappe!A$2:B$13,2,FALSE))","v":"Ens - Nagele"}]
[5,17,null,2.5113078703703703E-2,2.5113078703703703E-2,{"$f":"IF( ISBLANK(A245),\"\",IF(ISBLANK(B245),\"\",VLOOKUP(B245,Teams!A$2:B$95,2,0)))","v":"SAMEN ONDER WEG"},{"$f":"IF(ISBLANK(A245),\"\",VLOOKUP(A245,Etappe!A$2:B$13,2,FALSE))","v":"Ens - Nagele"}]
[5,51,null,2.5767361111111109E-2,2.5767361111111109E-2,{"$f":"IF( ISBLANK(A246),\"\",IF(ISBLANK(B246),\"\",VLOOKUP(B246,Teams!A$2:B$95,2,0)))","v":"Van Urk voeding"},{"$f":"IF(ISBLANK(A246),\"\",VLOOKUP(A246,Etappe!A$2:B$13,2,FALSE))","v":"Ens - Nagele"}]
[5,42,null,2.6057754629629629E-2,2.6057754629629629E-2,{"$f":"IF( ISBLANK(A247),\"\",IF(ISBLANK(B247),\"\",VLOOKUP(B247,Teams!A$2:B$95,2,0)))","v":"Kinderopvang Pipo"},{"$f":"IF(ISBLANK(A247),\"\",VLOOKUP(A247,Etappe!A$2:B$13,2,FALSE))","v":"Ens - Nagele"}]
[5,31,null,2.6185416666666669E-2,2.6185416666666669E-2,{"$f":"IF( ISBLANK(A248),\"\",IF(ISBLANK(B248),\"\",VLOOKUP(B248,Teams!A$2:B$95,2,0)))","v":"fam.Dekker Draaft Door"},{"$f":"IF(ISBLANK(A248),\"\",VLOOKUP(A248,Etappe!A$2:B$13,2,FALSE))","v":"Ens - Nagele"}]
[5,12,null,2.6266087962962963E-2,2.6266087962962963E-2,{"$f":"IF( ISBLANK(A249),\"\",IF(ISBLANK(B249),\"\",VLOOKUP(B249,Teams!A$2:B$95,2,0)))","v":"Hekwerkwebshop.nl"},{"$f":"IF(ISBLANK(A249),\"\",VLOOKUP(A249,Etappe!A$2:B$13,2,FALSE))","v":"Ens - Nagele"}]
[5,26,null,2.6353587962962968E-2,2.6353587962962968E-2,{"$f":"IF( ISBLANK(A250),\"\",IF(ISBLANK(B250),\"\",VLOOKUP(B250,Teams!A$2:B$95,2,0)))","v":"van Vilsteren Marknesse.nl"},{"$f":"IF(ISBLANK(A250),\"\",VLOOKUP(A250,Etappe!A$2:B$13,2,FALSE))","v":"Ens - Nagele"}]
[5,9,null,2.6694675925925924E-2,2.6694675925925924E-2,{"$f":"IF( ISBLANK(A251),\"\",IF(ISBLANK(B251),\"\",VLOOKUP(B251,Teams!A$2:B$95,2,0)))","v":"VAN BLOOIS SPORTADVIES"},{"$f":"IF(ISBLANK(A251),\"\",VLOOKUP(A251,Etappe!A$2:B$13,2,FALSE))","v":"Ens - Nagele"}]
[5,30,null,2.6740277777777779E-2,2.6740277777777779E-2,{"$f":"IF( ISBLANK(A252),\"\",IF(ISBLANK(B252),\"\",VLOOKUP(B252,Teams!A$2:B$95,2,0)))","v":"Autofirst Minnaard "},{"$f":"IF(ISBLANK(A252),\"\",VLOOKUP(A252,Etappe!A$2:B$13,2,FALSE))","v":"Ens - Nagele"}]
[5,50,null,2.6811921296296296E-2,2.6811921296296296E-2,{"$f":"IF( ISBLANK(A253),\"\",IF(ISBLANK(B253),\"\",VLOOKUP(B253,Teams!A$2:B$95,2,0)))","v":"Nick & de rest"},{"$f":"IF(ISBLANK(A253),\"\",VLOOKUP(A253,Etappe!A$2:B$13,2,FALSE))","v":"Ens - Nagele"}]
[5,49,null,2.6864004629629634E-2,2.6864004629629634E-2,{"$f":"IF( ISBLANK(A254),\"\",IF(ISBLANK(B254),\"\",VLOOKUP(B254,Teams!A$2:B$95,2,0)))","v":"Flynth"},{"$f":"IF(ISBLANK(A254),\"\",VLOOKUP(A254,Etappe!A$2:B$13,2,FALSE))","v":"Ens - Nagele"}]
[5,24,null,2.6872337962962966E-2,2.6872337962962966E-2,{"$f":"IF( ISBLANK(A255),\"\",IF(ISBLANK(B255),\"\",VLOOKUP(B255,Teams!A$2:B$95,2,0)))","v":"Ter Haar Family & Friends"},{"$f":"IF(ISBLANK(A255),\"\",VLOOKUP(A255,Etappe!A$2:B$13,2,FALSE))","v":"Ens - Nagele"}]
[5,41,null,2.69443287037037E-2,2.69443287037037E-2,{"$f":"IF( ISBLANK(A256),\"\",IF(ISBLANK(B256),\"\",VLOOKUP(B256,Teams!A$2:B$95,2,0)))","v":"Advies en Kies en Runners"},{"$f":"IF(ISBLANK(A256),\"\",VLOOKUP(A256,Etappe!A$2:B$13,2,FALSE))","v":"Ens - Nagele"}]
[5,28,null,2.7035069444444445E-2,2.7035069444444445E-2,{"$f":"IF( ISBLANK(A257),\"\",IF(ISBLANK(B257),\"\",VLOOKUP(B257,Teams!A$2:B$95,2,0)))","v":"Waterman Onions 1"},{"$f":"IF(ISBLANK(A257),\"\",VLOOKUP(A257,Etappe!A$2:B$13,2,FALSE))","v":"Ens - Nagele"}]
[5,47,null,2.7365625000000001E-2,2.7365625000000001E-2,{"$f":"IF( ISBLANK(A258),\"\",IF(ISBLANK(B258),\"\",VLOOKUP(B258,Teams!A$2:B$95,2,0)))","v":"CrossFit Urk"},{"$f":"IF(ISBLANK(A258),\"\",VLOOKUP(A258,Etappe!A$2:B$13,2,FALSE))","v":"Ens - Nagele"}]
[5,38,null,2.7696643518518516E-2,{"$f":"IF(ISBLANK(A259),\"\",IF(C259=\"v\",0.9*D259,D259))","v":2.7696643518518516E-2},{"$f":"IF( ISBLANK(A259),\"\",IF(ISBLANK(B259),\"\",VLOOKUP(B259,Teams!A$2:B$95,2,0)))","v":"Vegterlopers"},{"$f":"IF(ISBLANK(A259),\"\",VLOOKUP(A259,Etappe!A$2:B$13,2,FALSE))","v":"Ens - Nagele"}]
[5,46,null,2.7707754629629627E-2,2.7707754629629627E-2,{"$f":"IF( ISBLANK(A260),\"\",IF(ISBLANK(B260),\"\",VLOOKUP(B260,Teams!A$2:B$95,2,0)))","v":"Hoekstra Assurantie B.V."},{"$f":"IF(ISBLANK(A260),\"\",VLOOKUP(A260,Etappe!A$2:B$13,2,FALSE))","v":"Ens - Nagele"}]
[5,15,null,2.7750115740740738E-2,2.7750115740740738E-2,{"$f":"IF( ISBLANK(A261),\"\",IF(ISBLANK(B261),\"\",VLOOKUP(B261,Teams!A$2:B$95,2,0)))","v":"Aves"},{"$f":"IF(ISBLANK(A261),\"\",VLOOKUP(A261,Etappe!A$2:B$13,2,FALSE))","v":"Ens - Nagele"}]
[5,33,null,2.7754861111111112E-2,2.7754861111111112E-2,{"$f":"IF( ISBLANK(A262),\"\",IF(ISBLANK(B262),\"\",VLOOKUP(B262,Teams!A$2:B$95,2,0)))","v":"woensdagavondlopers"},{"$f":"IF(ISBLANK(A262),\"\",VLOOKUP(A262,Etappe!A$2:B$13,2,FALSE))","v":"Ens - Nagele"}]
[5,36,null,2.776099537037037E-2,2.776099537037037E-2,{"$f":"IF( ISBLANK(A263),\"\",IF(ISBLANK(B263),\"\",VLOOKUP(B263,Teams!A$2:B$95,2,0)))","v":"Schol op Urk"},{"$f":"IF(ISBLANK(A263),\"\",VLOOKUP(A263,Etappe!A$2:B$13,2,FALSE))","v":"Ens - Nagele"}]
[5,35,"v",2.7798958333333335E-2,2.5019062500000001E-2,{"$f":"IF( ISBLANK(A264),\"\",IF(ISBLANK(B264),\"\",VLOOKUP(B264,Teams!A$2:B$95,2,0)))","v":"Waterman Onions 2"},{"$f":"IF(ISBLANK(A264),\"\",VLOOKUP(A264,Etappe!A$2:B$13,2,FALSE))","v":"Ens - Nagele"}]
[5,55,null,2.7907060185185184E-2,2.7907060185185184E-2,{"$f":"IF( ISBLANK(A265),\"\",IF(ISBLANK(B265),\"\",VLOOKUP(B265,Teams!A$2:B$95,2,0)))","v":"Fifty-Five"},{"$f":"IF(ISBLANK(A265),\"\",VLOOKUP(A265,Etappe!A$2:B$13,2,FALSE))","v":"Ens - Nagele"}]
[5,13,"v",2.7987731481481485E-2,2.5188958333333338E-2,{"$f":"IF( ISBLANK(A266),\"\",IF(ISBLANK(B266),\"\",VLOOKUP(B266,Teams!A$2:B$95,2,0)))","v":"KLIF18 ladies"},{"$f":"IF(ISBLANK(A266),\"\",VLOOKUP(A266,Etappe!A$2:B$13,2,FALSE))","v":"Ens - Nagele"}]
[5,39,null,2.8154513888888885E-2,2.8154513888888885E-2,{"$f":"IF( ISBLANK(A267),\"\",IF(ISBLANK(B267),\"\",VLOOKUP(B267,Teams!A$2:B$95,2,0)))","v":"Suplacon"},{"$f":"IF(ISBLANK(A267),\"\",VLOOKUP(A267,Etappe!A$2:B$13,2,FALSE))","v":"Ens - Nagele"}]
[5,56,null,2.8761458333333333E-2,2.8761458333333333E-2,{"$f":"IF( ISBLANK(A268),\"\",IF(ISBLANK(B268),\"\",VLOOKUP(B268,Teams!A$2:B$95,2,0)))","v":"De Broodlopers"},{"$f":"IF(ISBLANK(A268),\"\",VLOOKUP(A268,Etappe!A$2:B$13,2,FALSE))","v":"Ens - Nagele"}]
[5,16,"v",2.9192939814814814E-2,2.6273645833333335E-2,{"$f":"IF( ISBLANK(A269),\"\",IF(ISBLANK(B269),\"\",VLOOKUP(B269,Teams!A$2:B$95,2,0)))","v":"Team Nagele"},{"$f":"IF(ISBLANK(A269),\"\",VLOOKUP(A269,Etappe!A$2:B$13,2,FALSE))","v":"Ens - Nagele"}]
[5,23,null,2.9943402777777777E-2,2.9943402777777777E-2,{"$f":"IF( ISBLANK(A270),\"\",IF(ISBLANK(B270),\"\",VLOOKUP(B270,Teams!A$2:B$95,2,0)))","v":"Seaconcept"},{"$f":"IF(ISBLANK(A270),\"\",VLOOKUP(A270,Etappe!A$2:B$13,2,FALSE))","v":"Ens - Nagele"}]
[5,43,null,3.1404282407407405E-2,3.1404282407407405E-2,{"$f":"IF( ISBLANK(A271),\"\",IF(ISBLANK(B271),\"\",VLOOKUP(B271,Teams!A$2:B$95,2,0)))","v":"Lerøy Seafood NL"},{"$f":"IF(ISBLANK(A271),\"\",VLOOKUP(A271,Etappe!A$2:B$13,2,FALSE))","v":"Ens - Nagele"}]
[6,2,null,1.2618518518518517E-2,1.2618518518518517E-2,{"$f":"IF( ISBLANK(A272),\"\",IF(ISBLANK(B272),\"\",VLOOKUP(B272,Teams!A$2:B$95,2,0)))","v":"hardloopbegeleidingopmaat/klif 18"},{"$f":"IF(ISBLANK(A272),\"\",VLOOKUP(A272,Etappe!A$2:B$13,2,FALSE))","v":"Nagele - Tollebeek"}]
[6,7,null,1.3916203703703701E-2,1.3916203703703701E-2,{"$f":"IF( ISBLANK(A273),\"\",IF(ISBLANK(B273),\"\",VLOOKUP(B273,Teams!A$2:B$95,2,0)))","v":"ASV Rutten"},{"$f":"IF(ISBLANK(A273),\"\",VLOOKUP(A273,Etappe!A$2:B$13,2,FALSE))","v":"Nagele - Tollebeek"}]
[6,52,null,1.4677199074074075E-2,1.4677199074074075E-2,{"$f":"IF( ISBLANK(A274),\"\",IF(ISBLANK(B274),\"\",VLOOKUP(B274,Teams!A$2:B$95,2,0)))","v":"Pool-der run4fun"},{"$f":"IF(ISBLANK(A274),\"\",VLOOKUP(A274,Etappe!A$2:B$13,2,FALSE))","v":"Nagele - Tollebeek"}]
[6,3,null,1.4771643518518519E-2,1.4771643518518519E-2,{"$f":"IF( ISBLANK(A275),\"\",IF(ISBLANK(B275),\"\",VLOOKUP(B275,Teams!A$2:B$95,2,0)))","v":"Quick Jewels"},{"$f":"IF(ISBLANK(A275),\"\",VLOOKUP(A275,Etappe!A$2:B$13,2,FALSE))","v":"Nagele - Tollebeek"}]
[6,1,null,1.5036342592592594E-2,1.5036342592592594E-2,{"$f":"IF( ISBLANK(A276),\"\",IF(ISBLANK(B276),\"\",VLOOKUP(B276,Teams!A$2:B$95,2,0)))","v":"De Corner"},{"$f":"IF(ISBLANK(A276),\"\",VLOOKUP(A276,Etappe!A$2:B$13,2,FALSE))","v":"Nagele - Tollebeek"}]
[6,47,null,1.5205671296296295E-2,1.5205671296296295E-2,{"$f":"IF( ISBLANK(A277),\"\",IF(ISBLANK(B277),\"\",VLOOKUP(B277,Teams!A$2:B$95,2,0)))","v":"CrossFit Urk"},{"$f":"IF(ISBLANK(A277),\"\",VLOOKUP(A277,Etappe!A$2:B$13,2,FALSE))","v":"Nagele - Tollebeek"}]
[6,20,null,1.522337962962963E-2,1.522337962962963E-2,{"$f":"IF( ISBLANK(A278),\"\",IF(ISBLANK(B278),\"\",VLOOKUP(B278,Teams!A$2:B$95,2,0)))","v":"Creil"},{"$f":"IF(ISBLANK(A278),\"\",VLOOKUP(A278,Etappe!A$2:B$13,2,FALSE))","v":"Nagele - Tollebeek"}]
[6,4,null,1.5274768518518516E-2,1.5274768518518516E-2,{"$f":"IF( ISBLANK(A279),\"\",IF(ISBLANK(B279),\"\",VLOOKUP(B279,Teams!A$2:B$95,2,0)))","v":"Klif 18"},{"$f":"IF(ISBLANK(A279),\"\",VLOOKUP(A279,Etappe!A$2:B$13,2,FALSE))","v":"Nagele - Tollebeek"}]
[6,5,null,1.5780324074074075E-2,1.5780324074074075E-2,{"$f":"IF( ISBLANK(A280),\"\",IF(ISBLANK(B280),\"\",VLOOKUP(B280,Teams!A$2:B$95,2,0)))","v":"Dujob"},{"$f":"IF(ISBLANK(A280),\"\",VLOOKUP(A280,Etappe!A$2:B$13,2,FALSE))","v":"Nagele - Tollebeek"}]
[6,30,null,1.5786458333333333E-2,1.5786458333333333E-2,{"$f":"IF( ISBLANK(A281),\"\",IF(ISBLANK(B281),\"\",VLOOKUP(B281,Teams!A$2:B$95,2,0)))","v":"Autofirst Minnaard "},{"$f":"IF(ISBLANK(A281),\"\",VLOOKUP(A281,Etappe!A$2:B$13,2,FALSE))","v":"Nagele - Tollebeek"}]
[6,14,"v",1.5815046296296296E-2,1.4233541666666667E-2,{"$f":"IF( ISBLANK(A282),\"\",IF(ISBLANK(B282),\"\",VLOOKUP(B282,Teams!A$2:B$95,2,0)))","v":"Vivan komt dr’an"},{"$f":"IF(ISBLANK(A282),\"\",VLOOKUP(A282,Etappe!A$2:B$13,2,FALSE))","v":"Nagele - Tollebeek"}]
[6,6,null,1.5836805555555555E-2,1.5836805555555555E-2,{"$f":"IF( ISBLANK(A283),\"\",IF(ISBLANK(B283),\"\",VLOOKUP(B283,Teams!A$2:B$95,2,0)))","v":"Running Ruijters"},{"$f":"IF(ISBLANK(A283),\"\",VLOOKUP(A283,Etappe!A$2:B$13,2,FALSE))","v":"Nagele - Tollebeek"}]
[6,15,null,1.6352546296296299E-2,1.6352546296296299E-2,{"$f":"IF( ISBLANK(A284),\"\",IF(ISBLANK(B284),\"\",VLOOKUP(B284,Teams!A$2:B$95,2,0)))","v":"Aves"},{"$f":"IF(ISBLANK(A284),\"\",VLOOKUP(A284,Etappe!A$2:B$13,2,FALSE))","v":"Nagele - Tollebeek"}]
[6,19,null,1.6363425925925924E-2,1.6363425925925924E-2,{"$f":"IF( ISBLANK(A285),\"\",IF(ISBLANK(B285),\"\",VLOOKUP(B285,Teams!A$2:B$95,2,0)))","v":"STC Rutten"},{"$f":"IF(ISBLANK(A285),\"\",VLOOKUP(A285,Etappe!A$2:B$13,2,FALSE))","v":"Nagele - Tollebeek"}]
[6,18,null,1.6457060185185186E-2,1.6457060185185186E-2,{"$f":"IF( ISBLANK(A286),\"\",IF(ISBLANK(B286),\"\",VLOOKUP(B286,Teams!A$2:B$95,2,0)))","v":"Fit Fun/ Anytime"},{"$f":"IF(ISBLANK(A286),\"\",VLOOKUP(A286,Etappe!A$2:B$13,2,FALSE))","v":"Nagele - Tollebeek"}]
[6,44,null,1.6515277777777778E-2,1.6515277777777778E-2,{"$f":"IF( ISBLANK(A287),\"\",IF(ISBLANK(B287),\"\",VLOOKUP(B287,Teams!A$2:B$95,2,0)))","v":"Tafelronde Noordoostpolder"},{"$f":"IF(ISBLANK(A287),\"\",VLOOKUP(A287,Etappe!A$2:B$13,2,FALSE))","v":"Nagele - Tollebeek"}]
[6,51,"v",1.6659606481481484E-2,1.4993645833333336E-2,{"$f":"IF( ISBLANK(A288),\"\",IF(ISBLANK(B288),\"\",VLOOKUP(B288,Teams!A$2:B$95,2,0)))","v":"Van Urk voeding"},{"$f":"IF(ISBLANK(A288),\"\",VLOOKUP(A288,Etappe!A$2:B$13,2,FALSE))","v":"Nagele - Tollebeek"}]
[6,32,null,1.6690393518518521E-2,1.6690393518518521E-2,{"$f":"IF( ISBLANK(A289),\"\",IF(ISBLANK(B289),\"\",VLOOKUP(B289,Teams!A$2:B$95,2,0)))","v":"Ber-di-do"},{"$f":"IF(ISBLANK(A289),\"\",VLOOKUP(A289,Etappe!A$2:B$13,2,FALSE))","v":"Nagele - Tollebeek"}]
[6,49,null,1.6883564814814817E-2,1.6883564814814817E-2,{"$f":"IF( ISBLANK(A290),\"\",IF(ISBLANK(B290),\"\",VLOOKUP(B290,Teams!A$2:B$95,2,0)))","v":"Flynth"},{"$f":"IF(ISBLANK(A290),\"\",VLOOKUP(A290,Etappe!A$2:B$13,2,FALSE))","v":"Nagele - Tollebeek"}]
[6,23,null,1.6926504629629632E-2,1.6926504629629632E-2,{"$f":"IF( ISBLANK(A291),\"\",IF(ISBLANK(B291),\"\",VLOOKUP(B291,Teams!A$2:B$95,2,0)))","v":"Seaconcept"},{"$f":"IF(ISBLANK(A291),\"\",VLOOKUP(A291,Etappe!A$2:B$13,2,FALSE))","v":"Nagele - Tollebeek"}]
[6,21,null,1.7010069444444446E-2,1.7010069444444446E-2,{"$f":"IF( ISBLANK(A292),\"\",IF(ISBLANK(B292),\"\",VLOOKUP(B292,Teams!A$2:B$95,2,0)))","v":"050media"},{"$f":"IF(ISBLANK(A292),\"\",VLOOKUP(A292,Etappe!A$2:B$13,2,FALSE))","v":"Nagele - Tollebeek"}]
[6,26,null,1.721550925925926E-2,1.721550925925926E-2,{"$f":"IF( ISBLANK(A293),\"\",IF(ISBLANK(B293),\"\",VLOOKUP(B293,Teams!A$2:B$95,2,0)))","v":"van Vilsteren Marknesse.nl"},{"$f":"IF(ISBLANK(A293),\"\",VLOOKUP(A293,Etappe!A$2:B$13,2,FALSE))","v":"Nagele - Tollebeek"}]
[6,17,null,1.7263657407407405E-2,1.7263657407407405E-2,{"$f":"IF( ISBLANK(A294),\"\",IF(ISBLANK(B294),\"\",VLOOKUP(B294,Teams!A$2:B$95,2,0)))","v":"SAMEN ONDER WEG"},{"$f":"IF(ISBLANK(A294),\"\",VLOOKUP(A294,Etappe!A$2:B$13,2,FALSE))","v":"Nagele - Tollebeek"}]
[6,11,null,1.7283564814814814E-2,1.7283564814814814E-2,{"$f":"IF( ISBLANK(A295),\"\",IF(ISBLANK(B295),\"\",VLOOKUP(B295,Teams!A$2:B$95,2,0)))","v":"Kraggenburg 4"},{"$f":"IF(ISBLANK(A295),\"\",VLOOKUP(A295,Etappe!A$2:B$13,2,FALSE))","v":"Nagele - Tollebeek"}]
[6,16,null,1.7548263888888891E-2,1.7548263888888891E-2,{"$f":"IF( ISBLANK(A296),\"\",IF(ISBLANK(B296),\"\",VLOOKUP(B296,Teams!A$2:B$95,2,0)))","v":"Team Nagele"},{"$f":"IF(ISBLANK(A296),\"\",VLOOKUP(A296,Etappe!A$2:B$13,2,FALSE))","v":"Nagele - Tollebeek"}]
[6,8,"v",1.7885416666666664E-2,1.6096874999999997E-2,{"$f":"IF( ISBLANK(A297),\"\",IF(ISBLANK(B297),\"\",VLOOKUP(B297,Teams!A$2:B$95,2,0)))","v":"Hardloopteam Bant"},{"$f":"IF(ISBLANK(A297),\"\",VLOOKUP(A297,Etappe!A$2:B$13,2,FALSE))","v":"Nagele - Tollebeek"}]
[6,25,null,1.7897337962962962E-2,1.7897337962962962E-2,{"$f":"IF( ISBLANK(A298),\"\",IF(ISBLANK(B298),\"\",VLOOKUP(B298,Teams!A$2:B$95,2,0)))","v":"Hardloop groep Ens"},{"$f":"IF(ISBLANK(A298),\"\",VLOOKUP(A298,Etappe!A$2:B$13,2,FALSE))","v":"Nagele - Tollebeek"}]
[6,9,"v",1.8562152777777778E-2,1.67059375E-2,{"$f":"IF( ISBLANK(A299),\"\",IF(ISBLANK(B299),\"\",VLOOKUP(B299,Teams!A$2:B$95,2,0)))","v":"VAN BLOOIS SPORTADVIES"},{"$f":"IF(ISBLANK(A299),\"\",VLOOKUP(A299,Etappe!A$2:B$13,2,FALSE))","v":"Nagele - Tollebeek"}]
[6,22,null,1.8878935185185183E-2,1.8878935185185183E-2,{"$f":"IF( ISBLANK(A300),\"\",IF(ISBLANK(B300),\"\",VLOOKUP(B300,Teams!A$2:B$95,2,0)))","v":"Tollebeek in beweging"},{"$f":"IF(ISBLANK(A300),\"\",VLOOKUP(A300,Etappe!A$2:B$13,2,FALSE))","v":"Nagele - Tollebeek"}]
[6,54,null,1.8991435185185184E-2,1.8991435185185184E-2,{"$f":"IF( ISBLANK(A301),\"\",IF(ISBLANK(B301),\"\",VLOOKUP(B301,Teams!A$2:B$95,2,0)))","v":"De Dijkies"},{"$f":"IF(ISBLANK(A301),\"\",VLOOKUP(A301,Etappe!A$2:B$13,2,FALSE))","v":"Nagele - Tollebeek"}]
[6,12,null,1.9049305555555555E-2,1.9049305555555555E-2,{"$f":"IF( ISBLANK(A302),\"\",IF(ISBLANK(B302),\"\",VLOOKUP(B302,Teams!A$2:B$95,2,0)))","v":"Hekwerkwebshop.nl"},{"$f":"IF(ISBLANK(A302),\"\",VLOOKUP(A302,Etappe!A$2:B$13,2,FALSE))","v":"Nagele - Tollebeek"}]
[6,42,null,1.9115509259259259E-2,1.9115509259259259E-2,{"$f":"IF( ISBLANK(A303),\"\",IF(ISBLANK(B303),\"\",VLOOKUP(B303,Teams!A$2:B$95,2,0)))","v":"Kinderopvang Pipo"},{"$f":"IF(ISBLANK(A303),\"\",VLOOKUP(A303,Etappe!A$2:B$13,2,FALSE))","v":"Nagele - Tollebeek"}]
[6,36,null,1.9242824074074075E-2,1.9242824074074075E-2,{"$f":"IF( ISBLANK(A304),\"\",IF(ISBLANK(B304),\"\",VLOOKUP(B304,Teams!A$2:B$95,2,0)))","v":"Schol op Urk"},{"$f":"IF(ISBLANK(A304),\"\",VLOOKUP(A304,Etappe!A$2:B$13,2,FALSE))","v":"Nagele - Tollebeek"}]
[6,27,"v",1.9289467592592594E-2,1.7360520833333334E-2,{"$f":"IF( ISBLANK(A305),\"\",IF(ISBLANK(B305),\"\",VLOOKUP(B305,Teams!A$2:B$95,2,0)))","v":"Running Team Espel"},{"$f":"IF(ISBLANK(A305),\"\",VLOOKUP(A305,Etappe!A$2:B$13,2,FALSE))","v":"Nagele - Tollebeek"}]
[6,10,"v",1.9332523148148147E-2,1.7399270833333334E-2,{"$f":"IF( ISBLANK(A306),\"\",IF(ISBLANK(B306),\"\",VLOOKUP(B306,Teams!A$2:B$95,2,0)))","v":"RUN TEAM MARKNESSE"},{"$f":"IF(ISBLANK(A306),\"\",VLOOKUP(A306,Etappe!A$2:B$13,2,FALSE))","v":"Nagele - Tollebeek"}]
[6,31,null,1.9338657407407405E-2,1.9338657407407405E-2,{"$f":"IF( ISBLANK(A307),\"\",IF(ISBLANK(B307),\"\",VLOOKUP(B307,Teams!A$2:B$95,2,0)))","v":"fam.Dekker Draaft Door"},{"$f":"IF(ISBLANK(A307),\"\",VLOOKUP(A307,Etappe!A$2:B$13,2,FALSE))","v":"Nagele - Tollebeek"}]
[6,13,"v",1.9377777777777778E-2,1.7440000000000001E-2,{"$f":"IF( ISBLANK(A308),\"\",IF(ISBLANK(B308),\"\",VLOOKUP(B308,Teams!A$2:B$95,2,0)))","v":"KLIF18 ladies"},{"$f":"IF(ISBLANK(A308),\"\",VLOOKUP(A308,Etappe!A$2:B$13,2,FALSE))","v":"Nagele - Tollebeek"}]
[6,46,"v",1.9418981481481482E-2,1.7477083333333334E-2,{"$f":"IF( ISBLANK(A309),\"\",IF(ISBLANK(B309),\"\",VLOOKUP(B309,Teams!A$2:B$95,2,0)))","v":"Hoekstra Assurantie B.V."},{"$f":"IF(ISBLANK(A309),\"\",VLOOKUP(A309,Etappe!A$2:B$13,2,FALSE))","v":"Nagele - Tollebeek"}]
[6,29,"v",1.9444675925925924E-2,1.7500208333333333E-2,{"$f":"IF( ISBLANK(A310),\"\",IF(ISBLANK(B310),\"\",VLOOKUP(B310,Teams!A$2:B$95,2,0)))","v":"Waterman Onions Pink Ladies"},{"$f":"IF(ISBLANK(A310),\"\",VLOOKUP(A310,Etappe!A$2:B$13,2,FALSE))","v":"Nagele - Tollebeek"}]
[6,39,null,1.9490162037037038E-2,1.9490162037037038E-2,{"$f":"IF( ISBLANK(A311),\"\",IF(ISBLANK(B311),\"\",VLOOKUP(B311,Teams!A$2:B$95,2,0)))","v":"Suplacon"},{"$f":"IF(ISBLANK(A311),\"\",VLOOKUP(A311,Etappe!A$2:B$13,2,FALSE))","v":"Nagele - Tollebeek"}]
[6,34,"v",1.9609606481481481E-2,1.7648645833333334E-2,{"$f":"IF( ISBLANK(A312),\"\",IF(ISBLANK(B312),\"\",VLOOKUP(B312,Teams!A$2:B$95,2,0)))","v":"Team 't Voorhuys"},{"$f":"IF(ISBLANK(A312),\"\",VLOOKUP(A312,Etappe!A$2:B$13,2,FALSE))","v":"Nagele - Tollebeek"}]
[6,50,"v",1.9677893518518518E-2,1.7710104166666667E-2,{"$f":"IF( ISBLANK(A313),\"\",IF(ISBLANK(B313),\"\",VLOOKUP(B313,Teams!A$2:B$95,2,0)))","v":"Nick & de rest"},{"$f":"IF(ISBLANK(A313),\"\",VLOOKUP(A313,Etappe!A$2:B$13,2,FALSE))","v":"Nagele - Tollebeek"}]
[6,41,null,1.9722106481481479E-2,1.9722106481481479E-2,{"$f":"IF( ISBLANK(A314),\"\",IF(ISBLANK(B314),\"\",VLOOKUP(B314,Teams!A$2:B$95,2,0)))","v":"Advies en Kies en Runners"},{"$f":"IF(ISBLANK(A314),\"\",VLOOKUP(A314,Etappe!A$2:B$13,2,FALSE))","v":"Nagele - Tollebeek"}]
[6,33,null,1.9818287037037037E-2,1.9818287037037037E-2,{"$f":"IF( ISBLANK(A315),\"\",IF(ISBLANK(B315),\"\",VLOOKUP(B315,Teams!A$2:B$95,2,0)))","v":"woensdagavondlopers"},{"$f":"IF(ISBLANK(A315),\"\",VLOOKUP(A315,Etappe!A$2:B$13,2,FALSE))","v":"Nagele - Tollebeek"}]
[6,56,null,1.9999884259259259E-2,1.9999884259259259E-2,{"$f":"IF( ISBLANK(A316),\"\",IF(ISBLANK(B316),\"\",VLOOKUP(B316,Teams!A$2:B$95,2,0)))","v":"De Broodlopers"},{"$f":"IF(ISBLANK(A316),\"\",VLOOKUP(A316,Etappe!A$2:B$13,2,FALSE))","v":"Nagele - Tollebeek"}]
[6,38,"v",2.0031249999999997E-2,1.8028124999999999E-2,{"$f":"IF( ISBLANK(A317),\"\",IF(ISBLANK(B317),\"\",VLOOKUP(B317,Teams!A$2:B$95,2,0)))","v":"Vegterlopers"},{"$f":"IF(ISBLANK(A317),\"\",VLOOKUP(A317,Etappe!A$2:B$13,2,FALSE))","v":"Nagele - Tollebeek"}]
[6,37,null,2.0196643518518517E-2,2.0196643518518517E-2,{"$f":"IF( ISBLANK(A318),\"\",IF(ISBLANK(B318),\"\",VLOOKUP(B318,Teams!A$2:B$95,2,0)))","v":"Van Staveren"},{"$f":"IF(ISBLANK(A318),\"\",VLOOKUP(A318,Etappe!A$2:B$13,2,FALSE))","v":"Nagele - Tollebeek"}]
[6,45,"v",2.0252662037037038E-2,1.8227395833333333E-2,{"$f":"IF( ISBLANK(A319),\"\",IF(ISBLANK(B319),\"\",VLOOKUP(B319,Teams!A$2:B$95,2,0)))","v":"Berechja College "},{"$f":"IF(ISBLANK(A319),\"\",VLOOKUP(A319,Etappe!A$2:B$13,2,FALSE))","v":"Nagele - Tollebeek"}]
[6,35,null,2.1005324074074076E-2,2.1005324074074076E-2,{"$f":"IF( ISBLANK(A320),\"\",IF(ISBLANK(B320),\"\",VLOOKUP(B320,Teams!A$2:B$95,2,0)))","v":"Waterman Onions 2"},{"$f":"IF(ISBLANK(A320),\"\",VLOOKUP(A320,Etappe!A$2:B$13,2,FALSE))","v":"Nagele - Tollebeek"}]
[6,40,null,2.1206828703703703E-2,2.1206828703703703E-2,{"$f":"IF( ISBLANK(A321),\"\",IF(ISBLANK(B321),\"\",VLOOKUP(B321,Teams!A$2:B$95,2,0)))","v":"Mercatus, lopen op z’n best"},{"$f":"IF(ISBLANK(A321),\"\",VLOOKUP(A321,Etappe!A$2:B$13,2,FALSE))","v":"Nagele - Tollebeek"}]
[6,55,"v",2.190162037037037E-2,1.9711458333333334E-2,{"$f":"IF( ISBLANK(A322),\"\",IF(ISBLANK(B322),\"\",VLOOKUP(B322,Teams!A$2:B$95,2,0)))","v":"Fifty-Five"},{"$f":"IF(ISBLANK(A322),\"\",VLOOKUP(A322,Etappe!A$2:B$13,2,FALSE))","v":"Nagele - Tollebeek"}]
[6,24,null,2.2484606481481484E-2,{"$f":"IF(ISBLANK(A323),\"\",IF(C323=\"v\",0.9*D323,D323))","v":2.2484606481481484E-2},{"$f":"IF( ISBLANK(A323),\"\",IF(ISBLANK(B323),\"\",VLOOKUP(B323,Teams!A$2:B$95,2,0)))","v":"Ter Haar Family & Friends"},{"$f":"IF(ISBLANK(A323),\"\",VLOOKUP(A323,Etappe!A$2:B$13,2,FALSE))","v":"Nagele - Tollebeek"}]
[6,43,null,2.3503935185185187E-2,2.3503935185185187E-2,{"$f":"IF( ISBLANK(A324),\"\",IF(ISBLANK(B324),\"\",VLOOKUP(B324,Teams!A$2:B$95,2,0)))","v":"Lerøy Seafood NL"},{"$f":"IF(ISBLANK(A324),\"\",VLOOKUP(A324,Etappe!A$2:B$13,2,FALSE))","v":"Nagele - Tollebeek"}]
[6,28,"v",2.4388194444444445E-2,2.1949375E-2,{"$f":"IF( ISBLANK(A325),\"\",IF(ISBLANK(B325),\"\",VLOOKUP(B325,Teams!A$2:B$95,2,0)))","v":"Waterman Onions 1"},{"$f":"IF(ISBLANK(A325),\"\",VLOOKUP(A325,Etappe!A$2:B$13,2,FALSE))","v":"Nagele - Tollebeek"}]
[7,2,null,1.1133333333333334E-2,1.1133333333333334E-2,{"$f":"IF( ISBLANK(A326),\"\",IF(ISBLANK(B326),\"\",VLOOKUP(B326,Teams!A$2:B$95,2,0)))","v":"hardloopbegeleidingopmaat/klif 18"},{"$f":"IF(ISBLANK(A326),\"\",VLOOKUP(A326,Etappe!A$2:B$13,2,FALSE))","v":"Tollebeek - Urk"}]
[7,1,"v",1.232048611111111E-2,1.1088437499999999E-2,{"$f":"IF( ISBLANK(A327),\"\",IF(ISBLANK(B327),\"\",VLOOKUP(B327,Teams!A$2:B$95,2,0)))","v":"De Corner"},{"$f":"IF(ISBLANK(A327),\"\",VLOOKUP(A327,Etappe!A$2:B$13,2,FALSE))","v":"Tollebeek - Urk"}]
[7,11,null,1.2710300925925925E-2,1.2710300925925925E-2,{"$f":"IF( ISBLANK(A328),\"\",IF(ISBLANK(B328),\"\",VLOOKUP(B328,Teams!A$2:B$95,2,0)))","v":"Kraggenburg 4"},{"$f":"IF(ISBLANK(A328),\"\",VLOOKUP(A328,Etappe!A$2:B$13,2,FALSE))","v":"Tollebeek - Urk"}]
[7,4,"v",1.2839120370370371E-2,1.1555208333333334E-2,{"$f":"IF( ISBLANK(A329),\"\",IF(ISBLANK(B329),\"\",VLOOKUP(B329,Teams!A$2:B$95,2,0)))","v":"Klif 18"},{"$f":"IF(ISBLANK(A329),\"\",VLOOKUP(A329,Etappe!A$2:B$13,2,FALSE))","v":"Tollebeek - Urk"}]
[7,7,null,1.2926967592592592E-2,1.2926967592592592E-2,{"$f":"IF( ISBLANK(A330),\"\",IF(ISBLANK(B330),\"\",VLOOKUP(B330,Teams!A$2:B$95,2,0)))","v":"ASV Rutten"},{"$f":"IF(ISBLANK(A330),\"\",VLOOKUP(A330,Etappe!A$2:B$13,2,FALSE))","v":"Tollebeek - Urk"}]
[7,5,null,1.2940393518518516E-2,1.2940393518518516E-2,{"$f":"IF( ISBLANK(A331),\"\",IF(ISBLANK(B331),\"\",VLOOKUP(B331,Teams!A$2:B$95,2,0)))","v":"Dujob"},{"$f":"IF(ISBLANK(A331),\"\",VLOOKUP(A331,Etappe!A$2:B$13,2,FALSE))","v":"Tollebeek - Urk"}]
[7,32,null,1.2997569444444445E-2,1.2997569444444445E-2,{"$f":"IF( ISBLANK(A332),\"\",IF(ISBLANK(B332),\"\",VLOOKUP(B332,Teams!A$2:B$95,2,0)))","v":"Ber-di-do"},{"$f":"IF(ISBLANK(A332),\"\",VLOOKUP(A332,Etappe!A$2:B$13,2,FALSE))","v":"Tollebeek - Urk"}]
[7,6,null,1.3580555555555556E-2,1.3580555555555556E-2,{"$f":"IF( ISBLANK(A333),\"\",IF(ISBLANK(B333),\"\",VLOOKUP(B333,Teams!A$2:B$95,2,0)))","v":"Running Ruijters"},{"$f":"IF(ISBLANK(A333),\"\",VLOOKUP(A333,Etappe!A$2:B$13,2,FALSE))","v":"Tollebeek - Urk"}]
[7,23,null,1.3690162037037037E-2,1.3690162037037037E-2,{"$f":"IF( ISBLANK(A334),\"\",IF(ISBLANK(B334),\"\",VLOOKUP(B334,Teams!A$2:B$95,2,0)))","v":"Seaconcept"},{"$f":"IF(ISBLANK(A334),\"\",VLOOKUP(A334,Etappe!A$2:B$13,2,FALSE))","v":"Tollebeek - Urk"}]
[7,30,null,1.4400925925925926E-2,1.4400925925925926E-2,{"$f":"IF( ISBLANK(A335),\"\",IF(ISBLANK(B335),\"\",VLOOKUP(B335,Teams!A$2:B$95,2,0)))","v":"Autofirst Minnaard "},{"$f":"IF(ISBLANK(A335),\"\",VLOOKUP(A335,Etappe!A$2:B$13,2,FALSE))","v":"Tollebeek - Urk"}]
[7,21,null,1.460127314814815E-2,1.460127314814815E-2,{"$f":"IF( ISBLANK(A336),\"\",IF(ISBLANK(B336),\"\",VLOOKUP(B336,Teams!A$2:B$95,2,0)))","v":"050media"},{"$f":"IF(ISBLANK(A336),\"\",VLOOKUP(A336,Etappe!A$2:B$13,2,FALSE))","v":"Tollebeek - Urk"}]
[7,39,null,1.4610648148148149E-2,1.4610648148148149E-2,{"$f":"IF( ISBLANK(A337),\"\",IF(ISBLANK(B337),\"\",VLOOKUP(B337,Teams!A$2:B$95,2,0)))","v":"Suplacon"},{"$f":"IF(ISBLANK(A337),\"\",VLOOKUP(A337,Etappe!A$2:B$13,2,FALSE))","v":"Tollebeek - Urk"}]
[7,44,null,1.4619675925925925E-2,1.4619675925925925E-2,{"$f":"IF( ISBLANK(A338),\"\",IF(ISBLANK(B338),\"\",VLOOKUP(B338,Teams!A$2:B$95,2,0)))","v":"Tafelronde Noordoostpolder"},{"$f":"IF(ISBLANK(A338),\"\",VLOOKUP(A338,Etappe!A$2:B$13,2,FALSE))","v":"Tollebeek - Urk"}]
[7,3,null,1.4910185185185186E-2,1.4910185185185186E-2,{"$f":"IF( ISBLANK(A339),\"\",IF(ISBLANK(B339),\"\",VLOOKUP(B339,Teams!A$2:B$95,2,0)))","v":"Quick Jewels"},{"$f":"IF(ISBLANK(A339),\"\",VLOOKUP(A339,Etappe!A$2:B$13,2,FALSE))","v":"Tollebeek - Urk"}]
[7,10,"v",1.4925347222222224E-2,1.3432812500000002E-2,{"$f":"IF( ISBLANK(A340),\"\",IF(ISBLANK(B340),\"\",VLOOKUP(B340,Teams!A$2:B$95,2,0)))","v":"RUN TEAM MARKNESSE"},{"$f":"IF(ISBLANK(A340),\"\",VLOOKUP(A340,Etappe!A$2:B$13,2,FALSE))","v":"Tollebeek - Urk"}]
[7,54,"v",1.5013194444444445E-2,1.3511875000000001E-2,{"$f":"IF( ISBLANK(A341),\"\",IF(ISBLANK(B341),\"\",VLOOKUP(B341,Teams!A$2:B$95,2,0)))","v":"De Dijkies"},{"$f":"IF(ISBLANK(A341),\"\",VLOOKUP(A341,Etappe!A$2:B$13,2,FALSE))","v":"Tollebeek - Urk"}]
[7,8,null,1.5480208333333334E-2,1.5480208333333334E-2,{"$f":"IF( ISBLANK(A342),\"\",IF(ISBLANK(B342),\"\",VLOOKUP(B342,Teams!A$2:B$95,2,0)))","v":"Hardloopteam Bant"},{"$f":"IF(ISBLANK(A342),\"\",VLOOKUP(A342,Etappe!A$2:B$13,2,FALSE))","v":"Tollebeek - Urk"}]
[7,27,null,1.5553587962962962E-2,1.5553587962962962E-2,{"$f":"IF( ISBLANK(A343),\"\",IF(ISBLANK(B343),\"\",VLOOKUP(B343,Teams!A$2:B$95,2,0)))","v":"Running Team Espel"},{"$f":"IF(ISBLANK(A343),\"\",VLOOKUP(A343,Etappe!A$2:B$13,2,FALSE))","v":"Tollebeek - Urk"}]
[7,26,null,1.5583564814814816E-2,1.5583564814814816E-2,{"$f":"IF( ISBLANK(A344),\"\",IF(ISBLANK(B344),\"\",VLOOKUP(B344,Teams!A$2:B$95,2,0)))","v":"van Vilsteren Marknesse.nl"},{"$f":"IF(ISBLANK(A344),\"\",VLOOKUP(A344,Etappe!A$2:B$13,2,FALSE))","v":"Tollebeek - Urk"}]
[7,47,null,1.5616550925925926E-2,1.5616550925925926E-2,{"$f":"IF( ISBLANK(A345),\"\",IF(ISBLANK(B345),\"\",VLOOKUP(B345,Teams!A$2:B$95,2,0)))","v":"CrossFit Urk"},{"$f":"IF(ISBLANK(A345),\"\",VLOOKUP(A345,Etappe!A$2:B$13,2,FALSE))","v":"Tollebeek - Urk"}]
[7,42,"v",1.5804976851851851E-2,1.4224479166666667E-2,{"$f":"IF( ISBLANK(A346),\"\",IF(ISBLANK(B346),\"\",VLOOKUP(B346,Teams!A$2:B$95,2,0)))","v":"Kinderopvang Pipo"},{"$f":"IF(ISBLANK(A346),\"\",VLOOKUP(A346,Etappe!A$2:B$13,2,FALSE))","v":"Tollebeek - Urk"}]
[7,35,null,1.5837152777777776E-2,1.5837152777777776E-2,{"$f":"IF( ISBLANK(A347),\"\",IF(ISBLANK(B347),\"\",VLOOKUP(B347,Teams!A$2:B$95,2,0)))","v":"Waterman Onions 2"},{"$f":"IF(ISBLANK(A347),\"\",VLOOKUP(A347,Etappe!A$2:B$13,2,FALSE))","v":"Tollebeek - Urk"}]
[7,18,null,1.5848726851851853E-2,1.5848726851851853E-2,{"$f":"IF( ISBLANK(A348),\"\",IF(ISBLANK(B348),\"\",VLOOKUP(B348,Teams!A$2:B$95,2,0)))","v":"Fit Fun/ Anytime"},{"$f":"IF(ISBLANK(A348),\"\",VLOOKUP(A348,Etappe!A$2:B$13,2,FALSE))","v":"Tollebeek - Urk"}]
[7,51,"v",1.5949652777777778E-2,1.4354687500000001E-2,{"$f":"IF( ISBLANK(A349),\"\",IF(ISBLANK(B349),\"\",VLOOKUP(B349,Teams!A$2:B$95,2,0)))","v":"Van Urk voeding"},{"$f":"IF(ISBLANK(A349),\"\",VLOOKUP(A349,Etappe!A$2:B$13,2,FALSE))","v":"Tollebeek - Urk"}]
[7,41,"v",1.5959722222222222E-2,1.436375E-2,{"$f":"IF( ISBLANK(A350),\"\",IF(ISBLANK(B350),\"\",VLOOKUP(B350,Teams!A$2:B$95,2,0)))","v":"Advies en Kies en Runners"},{"$f":"IF(ISBLANK(A350),\"\",VLOOKUP(A350,Etappe!A$2:B$13,2,FALSE))","v":"Tollebeek - Urk"}]
[7,25,"v",1.5968402777777776E-2,1.4371562499999999E-2,{"$f":"IF( ISBLANK(A351),\"\",IF(ISBLANK(B351),\"\",VLOOKUP(B351,Teams!A$2:B$95,2,0)))","v":"Hardloop groep Ens"},{"$f":"IF(ISBLANK(A351),\"\",VLOOKUP(A351,Etappe!A$2:B$13,2,FALSE))","v":"Tollebeek - Urk"}]
[7,37,null,1.5985416666666665E-2,1.5985416666666665E-2,{"$f":"IF( ISBLANK(A352),\"\",IF(ISBLANK(B352),\"\",VLOOKUP(B352,Teams!A$2:B$95,2,0)))","v":"Van Staveren"},{"$f":"IF(ISBLANK(A352),\"\",VLOOKUP(A352,Etappe!A$2:B$13,2,FALSE))","v":"Tollebeek - Urk"}]
[7,14,"v",1.6091782407407409E-2,1.4482604166666668E-2,{"$f":"IF( ISBLANK(A353),\"\",IF(ISBLANK(B353),\"\",VLOOKUP(B353,Teams!A$2:B$95,2,0)))","v":"Vivan komt dr’an"},{"$f":"IF(ISBLANK(A353),\"\",VLOOKUP(A353,Etappe!A$2:B$13,2,FALSE))","v":"Tollebeek - Urk"}]
[7,24,"v",1.6101157407407408E-2,1.4491041666666668E-2,{"$f":"IF( ISBLANK(A354),\"\",IF(ISBLANK(B354),\"\",VLOOKUP(B354,Teams!A$2:B$95,2,0)))","v":"Ter Haar Family & Friends"},{"$f":"IF(ISBLANK(A354),\"\",VLOOKUP(A354,Etappe!A$2:B$13,2,FALSE))","v":"Tollebeek - Urk"}]
[7,34,null,1.6110532407407407E-2,1.6110532407407407E-2,{"$f":"IF( ISBLANK(A355),\"\",IF(ISBLANK(B355),\"\",VLOOKUP(B355,Teams!A$2:B$95,2,0)))","v":"Team 't Voorhuys"},{"$f":"IF(ISBLANK(A355),\"\",VLOOKUP(A355,Etappe!A$2:B$13,2,FALSE))","v":"Tollebeek - Urk"}]
[7,19,"v",1.621111111111111E-2,1.4589999999999999E-2,{"$f":"IF( ISBLANK(A356),\"\",IF(ISBLANK(B356),\"\",VLOOKUP(B356,Teams!A$2:B$95,2,0)))","v":"STC Rutten"},{"$f":"IF(ISBLANK(A356),\"\",VLOOKUP(A356,Etappe!A$2:B$13,2,FALSE))","v":"Tollebeek - Urk"}]
[7,49,null,1.6227777777777775E-2,1.6227777777777775E-2,{"$f":"IF( ISBLANK(A357),\"\",IF(ISBLANK(B357),\"\",VLOOKUP(B357,Teams!A$2:B$95,2,0)))","v":"Flynth"},{"$f":"IF(ISBLANK(A357),\"\",VLOOKUP(A357,Etappe!A$2:B$13,2,FALSE))","v":"Tollebeek - Urk"}]
[7,13,"v",1.6274421296296297E-2,1.4646979166666668E-2,{"$f":"IF( ISBLANK(A358),\"\",IF(ISBLANK(B358),\"\",VLOOKUP(B358,Teams!A$2:B$95,2,0)))","v":"KLIF18 ladies"},{"$f":"IF(ISBLANK(A358),\"\",VLOOKUP(A358,Etappe!A$2:B$13,2,FALSE))","v":"Tollebeek - Urk"}]
[7,9,"v",1.6442939814814813E-2,1.4798645833333332E-2,{"$f":"IF( ISBLANK(A359),\"\",IF(ISBLANK(B359),\"\",VLOOKUP(B359,Teams!A$2:B$95,2,0)))","v":"VAN BLOOIS SPORTADVIES"},{"$f":"IF(ISBLANK(A359),\"\",VLOOKUP(A359,Etappe!A$2:B$13,2,FALSE))","v":"Tollebeek - Urk"}]
[7,12,"v",1.6877430555555555E-2,1.51896875E-2,{"$f":"IF( ISBLANK(A360),\"\",IF(ISBLANK(B360),\"\",VLOOKUP(B360,Teams!A$2:B$95,2,0)))","v":"Hekwerkwebshop.nl"},{"$f":"IF(ISBLANK(A360),\"\",VLOOKUP(A360,Etappe!A$2:B$13,2,FALSE))","v":"Tollebeek - Urk"}]
[7,31,"v",1.6958449074074074E-2,1.5262604166666667E-2,{"$f":"IF( ISBLANK(A361),\"\",IF(ISBLANK(B361),\"\",VLOOKUP(B361,Teams!A$2:B$95,2,0)))","v":"fam.Dekker Draaft Door"},{"$f":"IF(ISBLANK(A361),\"\",VLOOKUP(A361,Etappe!A$2:B$13,2,FALSE))","v":"Tollebeek - Urk"}]
[7,17,"v",1.7141782407407408E-2,1.5427604166666668E-2,{"$f":"IF( ISBLANK(A362),\"\",IF(ISBLANK(B362),\"\",VLOOKUP(B362,Teams!A$2:B$95,2,0)))","v":"SAMEN ONDER WEG"},{"$f":"IF(ISBLANK(A362),\"\",VLOOKUP(A362,Etappe!A$2:B$13,2,FALSE))","v":"Tollebeek - Urk"}]
[7,16,"v",1.7238310185185183E-2,1.5514479166666664E-2,{"$f":"IF( ISBLANK(A363),\"\",IF(ISBLANK(B363),\"\",VLOOKUP(B363,Teams!A$2:B$95,2,0)))","v":"Team Nagele"},{"$f":"IF(ISBLANK(A363),\"\",VLOOKUP(A363,Etappe!A$2:B$13,2,FALSE))","v":"Tollebeek - Urk"}]
[7,22,"v",1.740983796296296E-2,1.5668854166666666E-2,{"$f":"IF( ISBLANK(A364),\"\",IF(ISBLANK(B364),\"\",VLOOKUP(B364,Teams!A$2:B$95,2,0)))","v":"Tollebeek in beweging"},{"$f":"IF(ISBLANK(A364),\"\",VLOOKUP(A364,Etappe!A$2:B$13,2,FALSE))","v":"Tollebeek - Urk"}]
[7,33,null,1.7714004629629628E-2,1.7714004629629628E-2,{"$f":"IF( ISBLANK(A365),\"\",IF(ISBLANK(B365),\"\",VLOOKUP(B365,Teams!A$2:B$95,2,0)))","v":"woensdagavondlopers"},{"$f":"IF(ISBLANK(A365),\"\",VLOOKUP(A365,Etappe!A$2:B$13,2,FALSE))","v":"Tollebeek - Urk"}]
[7,20,"v",1.7756597222222222E-2,1.59809375E-2,{"$f":"IF( ISBLANK(A366),\"\",IF(ISBLANK(B366),\"\",VLOOKUP(B366,Teams!A$2:B$95,2,0)))","v":"Creil"},{"$f":"IF(ISBLANK(A366),\"\",VLOOKUP(A366,Etappe!A$2:B$13,2,FALSE))","v":"Tollebeek - Urk"}]
[7,29,"v",1.7773263888888887E-2,1.5995937499999998E-2,{"$f":"IF( ISBLANK(A367),\"\",IF(ISBLANK(B367),\"\",VLOOKUP(B367,Teams!A$2:B$95,2,0)))","v":"Waterman Onions Pink Ladies"},{"$f":"IF(ISBLANK(A367),\"\",VLOOKUP(A367,Etappe!A$2:B$13,2,FALSE))","v":"Tollebeek - Urk"}]
[7,52,"v",1.7875231481481482E-2,1.6087708333333332E-2,{"$f":"IF( ISBLANK(A368),\"\",IF(ISBLANK(B368),\"\",VLOOKUP(B368,Teams!A$2:B$95,2,0)))","v":"Pool-der run4fun"},{"$f":"IF(ISBLANK(A368),\"\",VLOOKUP(A368,Etappe!A$2:B$13,2,FALSE))","v":"Tollebeek - Urk"}]
[7,15,"v",1.7907523148148148E-2,1.6116770833333335E-2,{"$f":"IF( ISBLANK(A369),\"\",IF(ISBLANK(B369),\"\",VLOOKUP(B369,Teams!A$2:B$95,2,0)))","v":"Aves"},{"$f":"IF(ISBLANK(A369),\"\",VLOOKUP(A369,Etappe!A$2:B$13,2,FALSE))","v":"Tollebeek - Urk"}]
[7,50,"v",1.8485763888888888E-2,1.6637187500000001E-2,{"$f":"IF( ISBLANK(A370),\"\",IF(ISBLANK(B370),\"\",VLOOKUP(B370,Teams!A$2:B$95,2,0)))","v":"Nick & de rest"},{"$f":"IF(ISBLANK(A370),\"\",VLOOKUP(A370,Etappe!A$2:B$13,2,FALSE))","v":"Tollebeek - Urk"}]
[7,28,"v",1.8495949074074074E-2,1.6646354166666669E-2,{"$f":"IF( ISBLANK(A371),\"\",IF(ISBLANK(B371),\"\",VLOOKUP(B371,Teams!A$2:B$95,2,0)))","v":"Waterman Onions 1"},{"$f":"IF(ISBLANK(A371),\"\",VLOOKUP(A371,Etappe!A$2:B$13,2,FALSE))","v":"Tollebeek - Urk"}]
[7,46,"v",1.8674189814814814E-2,1.6806770833333332E-2,{"$f":"IF( ISBLANK(A372),\"\",IF(ISBLANK(B372),\"\",VLOOKUP(B372,Teams!A$2:B$95,2,0)))","v":"Hoekstra Assurantie B.V."},{"$f":"IF(ISBLANK(A372),\"\",VLOOKUP(A372,Etappe!A$2:B$13,2,FALSE))","v":"Tollebeek - Urk"}]
[7,40,null,1.8946180555555556E-2,1.8946180555555556E-2,{"$f":"IF( ISBLANK(A373),\"\",IF(ISBLANK(B373),\"\",VLOOKUP(B373,Teams!A$2:B$95,2,0)))","v":"Mercatus, lopen op z’n best"},{"$f":"IF(ISBLANK(A373),\"\",VLOOKUP(A373,Etappe!A$2:B$13,2,FALSE))","v":"Tollebeek - Urk"}]
[7,43,"v",1.910138888888889E-2,1.7191250000000002E-2,{"$f":"IF( ISBLANK(A374),\"\",IF(ISBLANK(B374),\"\",VLOOKUP(B374,Teams!A$2:B$95,2,0)))","v":"Lerøy Seafood NL"},{"$f":"IF(ISBLANK(A374),\"\",VLOOKUP(A374,Etappe!A$2:B$13,2,FALSE))","v":"Tollebeek - Urk"}]
[7,38,"v",1.9329976851851852E-2,1.7396979166666666E-2,{"$f":"IF( ISBLANK(A375),\"\",IF(ISBLANK(B375),\"\",VLOOKUP(B375,Teams!A$2:B$95,2,0)))","v":"Vegterlopers"},{"$f":"IF(ISBLANK(A375),\"\",VLOOKUP(A375,Etappe!A$2:B$13,2,FALSE))","v":"Tollebeek - Urk"}]
[7,55,"v",1.947824074074074E-2,1.7530416666666666E-2,{"$f":"IF( ISBLANK(A376),\"\",IF(ISBLANK(B376),\"\",VLOOKUP(B376,Teams!A$2:B$95,2,0)))","v":"Fifty-Five"},{"$f":"IF(ISBLANK(A376),\"\",VLOOKUP(A376,Etappe!A$2:B$13,2,FALSE))","v":"Tollebeek - Urk"}]
[7,36,null,2.005775462962963E-2,2.005775462962963E-2,{"$f":"IF( ISBLANK(A377),\"\",IF(ISBLANK(B377),\"\",VLOOKUP(B377,Teams!A$2:B$95,2,0)))","v":"Schol op Urk"},{"$f":"IF(ISBLANK(A377),\"\",VLOOKUP(A377,Etappe!A$2:B$13,2,FALSE))","v":"Tollebeek - Urk"}]
[7,45,"v",2.0164814814814812E-2,1.8148333333333332E-2,{"$f":"IF( ISBLANK(A378),\"\",IF(ISBLANK(B378),\"\",VLOOKUP(B378,Teams!A$2:B$95,2,0)))","v":"Berechja College "},{"$f":"IF(ISBLANK(A378),\"\",VLOOKUP(A378,Etappe!A$2:B$13,2,FALSE))","v":"Tollebeek - Urk"}]
[7,56,"v",2.1234606481481483E-2,1.9111145833333336E-2,{"$f":"IF( ISBLANK(A379),\"\",IF(ISBLANK(B379),\"\",VLOOKUP(B379,Teams!A$2:B$95,2,0)))","v":"De Broodlopers"},{"$f":"IF(ISBLANK(A379),\"\",VLOOKUP(A379,Etappe!A$2:B$13,2,FALSE))","v":"Tollebeek - Urk"}]
[8,7,null,1.8525231481481479E-2,1.8525231481481479E-2,{"$f":"IF( ISBLANK(A380),\"\",IF(ISBLANK(B380),\"\",VLOOKUP(B380,Teams!A$2:B$95,2,0)))","v":"ASV Rutten"},{"$f":"IF(ISBLANK(A380),\"\",VLOOKUP(A380,Etappe!A$2:B$13,2,FALSE))","v":"Urk - Espel"}]
[8,2,null,1.9076041666666665E-2,1.9076041666666665E-2,{"$f":"IF( ISBLANK(A381),\"\",IF(ISBLANK(B381),\"\",VLOOKUP(B381,Teams!A$2:B$95,2,0)))","v":"hardloopbegeleidingopmaat/klif 18"},{"$f":"IF(ISBLANK(A381),\"\",VLOOKUP(A381,Etappe!A$2:B$13,2,FALSE))","v":"Urk - Espel"}]
[8,1,null,2.0539814814814813E-2,2.0539814814814813E-2,{"$f":"IF( ISBLANK(A382),\"\",IF(ISBLANK(B382),\"\",VLOOKUP(B382,Teams!A$2:B$95,2,0)))","v":"De Corner"},{"$f":"IF(ISBLANK(A382),\"\",VLOOKUP(A382,Etappe!A$2:B$13,2,FALSE))","v":"Urk - Espel"}]
[8,27,null,2.1408564814814814E-2,2.1408564814814814E-2,{"$f":"IF( ISBLANK(A383),\"\",IF(ISBLANK(B383),\"\",VLOOKUP(B383,Teams!A$2:B$95,2,0)))","v":"Running Team Espel"},{"$f":"IF(ISBLANK(A383),\"\",VLOOKUP(A383,Etappe!A$2:B$13,2,FALSE))","v":"Urk - Espel"}]
[8,4,"v",2.1463541666666665E-2,1.9317187499999999E-2,{"$f":"IF( ISBLANK(A384),\"\",IF(ISBLANK(B384),\"\",VLOOKUP(B384,Teams!A$2:B$95,2,0)))","v":"Klif 18"},{"$f":"IF(ISBLANK(A384),\"\",VLOOKUP(A384,Etappe!A$2:B$13,2,FALSE))","v":"Urk - Espel"}]
[8,18,null,2.2107407407407409E-2,2.2107407407407409E-2,{"$f":"IF( ISBLANK(A385),\"\",IF(ISBLANK(B385),\"\",VLOOKUP(B385,Teams!A$2:B$95,2,0)))","v":"Fit Fun/ Anytime"},{"$f":"IF(ISBLANK(A385),\"\",VLOOKUP(A385,Etappe!A$2:B$13,2,FALSE))","v":"Urk - Espel"}]
[8,3,null,2.2124768518518519E-2,2.2124768518518519E-2,{"$f":"IF( ISBLANK(A386),\"\",IF(ISBLANK(B386),\"\",VLOOKUP(B386,Teams!A$2:B$95,2,0)))","v":"Quick Jewels"},{"$f":"IF(ISBLANK(A386),\"\",VLOOKUP(A386,Etappe!A$2:B$13,2,FALSE))","v":"Urk - Espel"}]
[8,6,null,2.2526967592592595E-2,{"$f":"IF(ISBLANK(A387),\"\",IF(C387=\"v\",0.9*D387,D387))","v":2.2526967592592595E-2},{"$f":"IF( ISBLANK(A387),\"\",IF(ISBLANK(B387),\"\",VLOOKUP(B387,Teams!A$2:B$95,2,0)))","v":"Running Ruijters"},{"$f":"IF(ISBLANK(A387),\"\",VLOOKUP(A387,Etappe!A$2:B$13,2,FALSE))","v":"Urk - Espel"}]
[8,17,null,2.2564236111111111E-2,2.2564236111111111E-2,{"$f":"IF( ISBLANK(A388),\"\",IF(ISBLANK(B388),\"\",VLOOKUP(B388,Teams!A$2:B$95,2,0)))","v":"SAMEN ONDER WEG"},{"$f":"IF(ISBLANK(A388),\"\",VLOOKUP(A388,Etappe!A$2:B$13,2,FALSE))","v":"Urk - Espel"}]
[8,8,null,2.2579745370370372E-2,2.2579745370370372E-2,{"$f":"IF( ISBLANK(A389),\"\",IF(ISBLANK(B389),\"\",VLOOKUP(B389,Teams!A$2:B$95,2,0)))","v":"Hardloopteam Bant"},{"$f":"IF(ISBLANK(A389),\"\",VLOOKUP(A389,Etappe!A$2:B$13,2,FALSE))","v":"Urk - Espel"}]
[8,5,null,2.2620601851851854E-2,2.2620601851851854E-2,{"$f":"IF( ISBLANK(A390),\"\",IF(ISBLANK(B390),\"\",VLOOKUP(B390,Teams!A$2:B$95,2,0)))","v":"Dujob"},{"$f":"IF(ISBLANK(A390),\"\",VLOOKUP(A390,Etappe!A$2:B$13,2,FALSE))","v":"Urk - Espel"}]
[8,19,null,2.2648495370370367E-2,2.2648495370370367E-2,{"$f":"IF( ISBLANK(A391),\"\",IF(ISBLANK(B391),\"\",VLOOKUP(B391,Teams!A$2:B$95,2,0)))","v":"STC Rutten"},{"$f":"IF(ISBLANK(A391),\"\",VLOOKUP(A391,Etappe!A$2:B$13,2,FALSE))","v":"Urk - Espel"}]
[8,21,null,2.2676388888888888E-2,2.2676388888888888E-2,{"$f":"IF( ISBLANK(A392),\"\",IF(ISBLANK(B392),\"\",VLOOKUP(B392,Teams!A$2:B$95,2,0)))","v":"050media"},{"$f":"IF(ISBLANK(A392),\"\",VLOOKUP(A392,Etappe!A$2:B$13,2,FALSE))","v":"Urk - Espel"}]
[8,12,null,2.274502314814815E-2,2.274502314814815E-2,{"$f":"IF( ISBLANK(A393),\"\",IF(ISBLANK(B393),\"\",VLOOKUP(B393,Teams!A$2:B$95,2,0)))","v":"Hekwerkwebshop.nl"},{"$f":"IF(ISBLANK(A393),\"\",VLOOKUP(A393,Etappe!A$2:B$13,2,FALSE))","v":"Urk - Espel"}]
[8,10,null,2.3640972222222223E-2,2.3640972222222223E-2,{"$f":"IF( ISBLANK(A394),\"\",IF(ISBLANK(B394),\"\",VLOOKUP(B394,Teams!A$2:B$95,2,0)))","v":"RUN TEAM MARKNESSE"},{"$f":"IF(ISBLANK(A394),\"\",VLOOKUP(A394,Etappe!A$2:B$13,2,FALSE))","v":"Urk - Espel"}]
[8,40,null,2.3696296296296299E-2,2.3696296296296299E-2,{"$f":"IF( ISBLANK(A395),\"\",IF(ISBLANK(B395),\"\",VLOOKUP(B395,Teams!A$2:B$95,2,0)))","v":"Mercatus, lopen op z’n best"},{"$f":"IF(ISBLANK(A395),\"\",VLOOKUP(A395,Etappe!A$2:B$13,2,FALSE))","v":"Urk - Espel"}]
[8,49,null,2.3953472222222227E-2,2.3953472222222227E-2,{"$f":"IF( ISBLANK(A396),\"\",IF(ISBLANK(B396),\"\",VLOOKUP(B396,Teams!A$2:B$95,2,0)))","v":"Flynth"},{"$f":"IF(ISBLANK(A396),\"\",VLOOKUP(A396,Etappe!A$2:B$13,2,FALSE))","v":"Urk - Espel"}]
[8,9,null,2.404537037037037E-2,2.404537037037037E-2,{"$f":"IF( ISBLANK(A397),\"\",IF(ISBLANK(B397),\"\",VLOOKUP(B397,Teams!A$2:B$95,2,0)))","v":"VAN BLOOIS SPORTADVIES"},{"$f":"IF(ISBLANK(A397),\"\",VLOOKUP(A397,Etappe!A$2:B$13,2,FALSE))","v":"Urk - Espel"}]
[8,50,null,2.4123148148148147E-2,2.4123148148148147E-2,{"$f":"IF( ISBLANK(A398),\"\",IF(ISBLANK(B398),\"\",VLOOKUP(B398,Teams!A$2:B$95,2,0)))","v":"Nick & de rest"},{"$f":"IF(ISBLANK(A398),\"\",VLOOKUP(A398,Etappe!A$2:B$13,2,FALSE))","v":"Urk - Espel"}]
[8,15,null,2.4404513888888885E-2,2.4404513888888885E-2,{"$f":"IF( ISBLANK(A399),\"\",IF(ISBLANK(B399),\"\",VLOOKUP(B399,Teams!A$2:B$95,2,0)))","v":"Aves"},{"$f":"IF(ISBLANK(A399),\"\",VLOOKUP(A399,Etappe!A$2:B$13,2,FALSE))","v":"Urk - Espel"}]
[8,46,null,2.4457638888888886E-2,2.4457638888888886E-2,{"$f":"IF( ISBLANK(A400),\"\",IF(ISBLANK(B400),\"\",VLOOKUP(B400,Teams!A$2:B$95,2,0)))","v":"Hoekstra Assurantie B.V."},{"$f":"IF(ISBLANK(A400),\"\",VLOOKUP(A400,Etappe!A$2:B$13,2,FALSE))","v":"Urk - Espel"}]
[8,25,null,2.4470717592592593E-2,2.4470717592592593E-2,{"$f":"IF( ISBLANK(A401),\"\",IF(ISBLANK(B401),\"\",VLOOKUP(B401,Teams!A$2:B$95,2,0)))","v":"Hardloop groep Ens"},{"$f":"IF(ISBLANK(A401),\"\",VLOOKUP(A401,Etappe!A$2:B$13,2,FALSE))","v":"Urk - Espel"}]
[8,32,null,2.4554629629629631E-2,2.4554629629629631E-2,{"$f":"IF( ISBLANK(A402),\"\",IF(ISBLANK(B402),\"\",VLOOKUP(B402,Teams!A$2:B$95,2,0)))","v":"Ber-di-do"},{"$f":"IF(ISBLANK(A402),\"\",VLOOKUP(A402,Etappe!A$2:B$13,2,FALSE))","v":"Urk - Espel"}]
[8,31,null,2.4727430555555555E-2,2.4727430555555555E-2,{"$f":"IF( ISBLANK(A403),\"\",IF(ISBLANK(B403),\"\",VLOOKUP(B403,Teams!A$2:B$95,2,0)))","v":"fam.Dekker Draaft Door"},{"$f":"IF(ISBLANK(A403),\"\",VLOOKUP(A403,Etappe!A$2:B$13,2,FALSE))","v":"Urk - Espel"}]
[8,37,null,2.4913078703703708E-2,2.4913078703703708E-2,{"$f":"IF( ISBLANK(A404),\"\",IF(ISBLANK(B404),\"\",VLOOKUP(B404,Teams!A$2:B$95,2,0)))","v":"Van Staveren"},{"$f":"IF(ISBLANK(A404),\"\",VLOOKUP(A404,Etappe!A$2:B$13,2,FALSE))","v":"Urk - Espel"}]
[8,26,null,2.4964004629629628E-2,2.4964004629629628E-2,{"$f":"IF( ISBLANK(A405),\"\",IF(ISBLANK(B405),\"\",VLOOKUP(B405,Teams!A$2:B$95,2,0)))","v":"van Vilsteren Marknesse.nl"},{"$f":"IF(ISBLANK(A405),\"\",VLOOKUP(A405,Etappe!A$2:B$13,2,FALSE))","v":"Urk - Espel"}]
[8,33,"v",2.5016087962962966E-2,2.251447916666667E-2,{"$f":"IF( ISBLANK(A406),\"\",IF(ISBLANK(B406),\"\",VLOOKUP(B406,Teams!A$2:B$95,2,0)))","v":"woensdagavondlopers"},{"$f":"IF(ISBLANK(A406),\"\",VLOOKUP(A406,Etappe!A$2:B$13,2,FALSE))","v":"Urk - Espel"}]
[8,23,null,2.5363310185185187E-2,2.5363310185185187E-2,{"$f":"IF( ISBLANK(A407),\"\",IF(ISBLANK(B407),\"\",VLOOKUP(B407,Teams!A$2:B$95,2,0)))","v":"Seaconcept"},{"$f":"IF(ISBLANK(A407),\"\",VLOOKUP(A407,Etappe!A$2:B$13,2,FALSE))","v":"Urk - Espel"}]
[8,47,null,2.5422337962962963E-2,2.5422337962962963E-2,{"$f":"IF( ISBLANK(A408),\"\",IF(ISBLANK(B408),\"\",VLOOKUP(B408,Teams!A$2:B$95,2,0)))","v":"CrossFit Urk"},{"$f":"IF(ISBLANK(A408),\"\",VLOOKUP(A408,Etappe!A$2:B$13,2,FALSE))","v":"Urk - Espel"}]
[8,16,null,2.5671527777777776E-2,2.5671527777777776E-2,{"$f":"IF( ISBLANK(A409),\"\",IF(ISBLANK(B409),\"\",VLOOKUP(B409,Teams!A$2:B$95,2,0)))","v":"Team Nagele"},{"$f":"IF(ISBLANK(A409),\"\",VLOOKUP(A409,Etappe!A$2:B$13,2,FALSE))","v":"Urk - Espel"}]
[8,11,null,2.582048611111111E-2,2.582048611111111E-2,{"$f":"IF( ISBLANK(A410),\"\",IF(ISBLANK(B410),\"\",VLOOKUP(B410,Teams!A$2:B$95,2,0)))","v":"Kraggenburg 4"},{"$f":"IF(ISBLANK(A410),\"\",VLOOKUP(A410,Etappe!A$2:B$13,2,FALSE))","v":"Urk - Espel"}]
[8,14,null,2.5971643518518519E-2,2.5971643518518519E-2,{"$f":"IF( ISBLANK(A411),\"\",IF(ISBLANK(B411),\"\",VLOOKUP(B411,Teams!A$2:B$95,2,0)))","v":"Vivan komt dr’an"},{"$f":"IF(ISBLANK(A411),\"\",VLOOKUP(A411,Etappe!A$2:B$13,2,FALSE))","v":"Urk - Espel"}]
[8,45,"v",2.6339930555555554E-2,2.37059375E-2,{"$f":"IF( ISBLANK(A412),\"\",IF(ISBLANK(B412),\"\",VLOOKUP(B412,Teams!A$2:B$95,2,0)))","v":"Berechja College "},{"$f":"IF(ISBLANK(A412),\"\",VLOOKUP(A412,Etappe!A$2:B$13,2,FALSE))","v":"Urk - Espel"}]
[8,28,null,2.655439814814815E-2,2.655439814814815E-2,{"$f":"IF( ISBLANK(A413),\"\",IF(ISBLANK(B413),\"\",VLOOKUP(B413,Teams!A$2:B$95,2,0)))","v":"Waterman Onions 1"},{"$f":"IF(ISBLANK(A413),\"\",VLOOKUP(A413,Etappe!A$2:B$13,2,FALSE))","v":"Urk - Espel"}]
[8,13,"v",2.6694675925925924E-2,2.4025208333333332E-2,{"$f":"IF( ISBLANK(A414),\"\",IF(ISBLANK(B414),\"\",VLOOKUP(B414,Teams!A$2:B$95,2,0)))","v":"KLIF18 ladies"},{"$f":"IF(ISBLANK(A414),\"\",VLOOKUP(A414,Etappe!A$2:B$13,2,FALSE))","v":"Urk - Espel"}]
[8,24,null,2.6855324074074077E-2,2.6855324074074077E-2,{"$f":"IF( ISBLANK(A415),\"\",IF(ISBLANK(B415),\"\",VLOOKUP(B415,Teams!A$2:B$95,2,0)))","v":"Ter Haar Family & Friends"},{"$f":"IF(ISBLANK(A415),\"\",VLOOKUP(A415,Etappe!A$2:B$13,2,FALSE))","v":"Urk - Espel"}]
[8,54,null,2.7081018518518522E-2,2.7081018518518522E-2,{"$f":"IF( ISBLANK(A416),\"\",IF(ISBLANK(B416),\"\",VLOOKUP(B416,Teams!A$2:B$95,2,0)))","v":"De Dijkies"},{"$f":"IF(ISBLANK(A416),\"\",VLOOKUP(A416,Etappe!A$2:B$13,2,FALSE))","v":"Urk - Espel"}]
[8,51,null,2.7146064814814814E-2,2.7146064814814814E-2,{"$f":"IF( ISBLANK(A417),\"\",IF(ISBLANK(B417),\"\",VLOOKUP(B417,Teams!A$2:B$95,2,0)))","v":"Van Urk voeding"},{"$f":"IF(ISBLANK(A417),\"\",VLOOKUP(A417,Etappe!A$2:B$13,2,FALSE))","v":"Urk - Espel"}]
[8,38,null,2.7351157407407404E-2,2.7351157407407404E-2,{"$f":"IF( ISBLANK(A418),\"\",IF(ISBLANK(B418),\"\",VLOOKUP(B418,Teams!A$2:B$95,2,0)))","v":"Vegterlopers"},{"$f":"IF(ISBLANK(A418),\"\",VLOOKUP(A418,Etappe!A$2:B$13,2,FALSE))","v":"Urk - Espel"}]
[8,30,"v",2.7473379629629632E-2,2.472604166666667E-2,{"$f":"IF( ISBLANK(A419),\"\",IF(ISBLANK(B419),\"\",VLOOKUP(B419,Teams!A$2:B$95,2,0)))","v":"Autofirst Minnaard "},{"$f":"IF(ISBLANK(A419),\"\",VLOOKUP(A419,Etappe!A$2:B$13,2,FALSE))","v":"Urk - Espel"}]
[8,39,null,2.7920138888888887E-2,2.7920138888888887E-2,{"$f":"IF( ISBLANK(A420),\"\",IF(ISBLANK(B420),\"\",VLOOKUP(B420,Teams!A$2:B$95,2,0)))","v":"Suplacon"},{"$f":"IF(ISBLANK(A420),\"\",VLOOKUP(A420,Etappe!A$2:B$13,2,FALSE))","v":"Urk - Espel"}]
[8,41,null,2.8032638888888888E-2,2.8032638888888888E-2,{"$f":"IF( ISBLANK(A421),\"\",IF(ISBLANK(B421),\"\",VLOOKUP(B421,Teams!A$2:B$95,2,0)))","v":"Advies en Kies en Runners"},{"$f":"IF(ISBLANK(A421),\"\",VLOOKUP(A421,Etappe!A$2:B$13,2,FALSE))","v":"Urk - Espel"}]
[8,20,null,2.8168634259259254E-2,2.8168634259259254E-2,{"$f":"IF( ISBLANK(A422),\"\",IF(ISBLANK(B422),\"\",VLOOKUP(B422,Teams!A$2:B$95,2,0)))","v":"Creil"},{"$f":"IF(ISBLANK(A422),\"\",VLOOKUP(A422,Etappe!A$2:B$13,2,FALSE))","v":"Urk - Espel"}]
[8,55,null,2.8257986111111109E-2,2.8257986111111109E-2,{"$f":"IF( ISBLANK(A423),\"\",IF(ISBLANK(B423),\"\",VLOOKUP(B423,Teams!A$2:B$95,2,0)))","v":"Fifty-Five"},{"$f":"IF(ISBLANK(A423),\"\",VLOOKUP(A423,Etappe!A$2:B$13,2,FALSE))","v":"Urk - Espel"}]
[8,22,null,2.8453587962962962E-2,2.8453587962962962E-2,{"$f":"IF( ISBLANK(A424),\"\",IF(ISBLANK(B424),\"\",VLOOKUP(B424,Teams!A$2:B$95,2,0)))","v":"Tollebeek in beweging"},{"$f":"IF(ISBLANK(A424),\"\",VLOOKUP(A424,Etappe!A$2:B$13,2,FALSE))","v":"Urk - Espel"}]
[8,42,null,2.8786342592592593E-2,2.8786342592592593E-2,{"$f":"IF( ISBLANK(A425),\"\",IF(ISBLANK(B425),\"\",VLOOKUP(B425,Teams!A$2:B$95,2,0)))","v":"Kinderopvang Pipo"},{"$f":"IF(ISBLANK(A425),\"\",VLOOKUP(A425,Etappe!A$2:B$13,2,FALSE))","v":"Urk - Espel"}]
[8,36,null,2.8879282407407406E-2,2.8879282407407406E-2,{"$f":"IF( ISBLANK(A426),\"\",IF(ISBLANK(B426),\"\",VLOOKUP(B426,Teams!A$2:B$95,2,0)))","v":"Schol op Urk"},{"$f":"IF(ISBLANK(A426),\"\",VLOOKUP(A426,Etappe!A$2:B$13,2,FALSE))","v":"Urk - Espel"}]
[8,43,"v",2.8924884259259261E-2,2.6032395833333336E-2,{"$f":"IF( ISBLANK(A427),\"\",IF(ISBLANK(B427),\"\",VLOOKUP(B427,Teams!A$2:B$95,2,0)))","v":"Lerøy Seafood NL"},{"$f":"IF(ISBLANK(A427),\"\",VLOOKUP(A427,Etappe!A$2:B$13,2,FALSE))","v":"Urk - Espel"}]
[8,35,"v",2.9612847222222221E-2,2.66515625E-2,{"$f":"IF( ISBLANK(A428),\"\",IF(ISBLANK(B428),\"\",VLOOKUP(B428,Teams!A$2:B$95,2,0)))","v":"Waterman Onions 2"},{"$f":"IF(ISBLANK(A428),\"\",VLOOKUP(A428,Etappe!A$2:B$13,2,FALSE))","v":"Urk - Espel"}]
[8,29,"v",2.982731481481481E-2,2.6844583333333328E-2,{"$f":"IF( ISBLANK(A429),\"\",IF(ISBLANK(B429),\"\",VLOOKUP(B429,Teams!A$2:B$95,2,0)))","v":"Waterman Onions Pink Ladies"},{"$f":"IF(ISBLANK(A429),\"\",VLOOKUP(A429,Etappe!A$2:B$13,2,FALSE))","v":"Urk - Espel"}]
[8,34,null,3.1402083333333337E-2,3.1402083333333337E-2,{"$f":"IF( ISBLANK(A430),\"\",IF(ISBLANK(B430),\"\",VLOOKUP(B430,Teams!A$2:B$95,2,0)))","v":"Team 't Voorhuys"},{"$f":"IF(ISBLANK(A430),\"\",VLOOKUP(A430,Etappe!A$2:B$13,2,FALSE))","v":"Urk - Espel"}]
[8,52,null,3.1531597222222228E-2,3.1531597222222228E-2,{"$f":"IF( ISBLANK(A431),\"\",IF(ISBLANK(B431),\"\",VLOOKUP(B431,Teams!A$2:B$95,2,0)))","v":"Pool-der run4fun"},{"$f":"IF(ISBLANK(A431),\"\",VLOOKUP(A431,Etappe!A$2:B$13,2,FALSE))","v":"Urk - Espel"}]
[8,56,"v",2.4814814814814817E-2,2.2333333333333337E-2,{"$f":"IF( ISBLANK(A432),\"\",IF(ISBLANK(B432),\"\",VLOOKUP(B432,Teams!A$2:B$95,2,0)))","v":"De Broodlopers"},{"$f":"IF(ISBLANK(A432),\"\",VLOOKUP(A432,Etappe!A$2:B$13,2,FALSE))","v":"Urk - Espel"}]
[8,44,null,4.027777777777778E-2,4.027777777777778E-2,{"$f":"IF( ISBLANK(A433),\"\",IF(ISBLANK(B433),\"\",VLOOKUP(B433,Teams!A$2:B$95,2,0)))","v":"Tafelronde Noordoostpolder"},{"$f":"IF(ISBLANK(A433),\"\",VLOOKUP(A433,Etappe!A$2:B$13,2,FALSE))","v":"Urk - Espel"}]
[9,56,null,1.2382291666666668E-2,1.2382291666666668E-2,{"$f":"IF( ISBLANK(A434),\"\",IF(ISBLANK(B434),\"\",VLOOKUP(B434,Teams!A$2:B$95,2,0)))","v":"De Broodlopers"},{"$f":"IF(ISBLANK(A434),\"\",VLOOKUP(A434,Etappe!A$2:B$13,2,FALSE))","v":"Espel - Creil"}]
[9,4,null,1.2615972222222223E-2,1.2615972222222223E-2,{"$f":"IF( ISBLANK(A435),\"\",IF(ISBLANK(B435),\"\",VLOOKUP(B435,Teams!A$2:B$95,2,0)))","v":"Klif 18"},{"$f":"IF(ISBLANK(A435),\"\",VLOOKUP(A435,Etappe!A$2:B$13,2,FALSE))","v":"Espel - Creil"}]
[9,22,null,1.2730555555555556E-2,1.2730555555555556E-2,{"$f":"IF( ISBLANK(A436),\"\",IF(ISBLANK(B436),\"\",VLOOKUP(B436,Teams!A$2:B$95,2,0)))","v":"Tollebeek in beweging"},{"$f":"IF(ISBLANK(A436),\"\",VLOOKUP(A436,Etappe!A$2:B$13,2,FALSE))","v":"Espel - Creil"}]
[9,2,null,1.2815972222222222E-2,1.2815972222222222E-2,{"$f":"IF( ISBLANK(A437),\"\",IF(ISBLANK(B437),\"\",VLOOKUP(B437,Teams!A$2:B$95,2,0)))","v":"hardloopbegeleidingopmaat/klif 18"},{"$f":"IF(ISBLANK(A437),\"\",VLOOKUP(A437,Etappe!A$2:B$13,2,FALSE))","v":"Espel - Creil"}]
[9,5,null,1.3210532407407409E-2,1.3210532407407409E-2,{"$f":"IF( ISBLANK(A438),\"\",IF(ISBLANK(B438),\"\",VLOOKUP(B438,Teams!A$2:B$95,2,0)))","v":"Dujob"},{"$f":"IF(ISBLANK(A438),\"\",VLOOKUP(A438,Etappe!A$2:B$13,2,FALSE))","v":"Espel - Creil"}]
[9,51,null,1.3569675925925924E-2,1.3569675925925924E-2,{"$f":"IF( ISBLANK(A439),\"\",IF(ISBLANK(B439),\"\",VLOOKUP(B439,Teams!A$2:B$95,2,0)))","v":"Van Urk voeding"},{"$f":"IF(ISBLANK(A439),\"\",VLOOKUP(A439,Etappe!A$2:B$13,2,FALSE))","v":"Espel - Creil"}]
[9,1,"v",1.3933912037037038E-2,1.2540520833333334E-2,{"$f":"IF( ISBLANK(A440),\"\",IF(ISBLANK(B440),\"\",VLOOKUP(B440,Teams!A$2:B$95,2,0)))","v":"De Corner"},{"$f":"IF(ISBLANK(A440),\"\",VLOOKUP(A440,Etappe!A$2:B$13,2,FALSE))","v":"Espel - Creil"}]
[9,42,null,1.4285879629629629E-2,1.4285879629629629E-2,{"$f":"IF( ISBLANK(A441),\"\",IF(ISBLANK(B441),\"\",VLOOKUP(B441,Teams!A$2:B$95,2,0)))","v":"Kinderopvang Pipo"},{"$f":"IF(ISBLANK(A441),\"\",VLOOKUP(A441,Etappe!A$2:B$13,2,FALSE))","v":"Espel - Creil"}]
[9,10,null,1.4422222222222223E-2,1.4422222222222223E-2,{"$f":"IF( ISBLANK(A442),\"\",IF(ISBLANK(B442),\"\",VLOOKUP(B442,Teams!A$2:B$95,2,0)))","v":"RUN TEAM MARKNESSE"},{"$f":"IF(ISBLANK(A442),\"\",VLOOKUP(A442,Etappe!A$2:B$13,2,FALSE))","v":"Espel - Creil"}]
[9,8,null,1.4487731481481482E-2,1.4487731481481482E-2,{"$f":"IF( ISBLANK(A443),\"\",IF(ISBLANK(B443),\"\",VLOOKUP(B443,Teams!A$2:B$95,2,0)))","v":"Hardloopteam Bant"},{"$f":"IF(ISBLANK(A443),\"\",VLOOKUP(A443,Etappe!A$2:B$13,2,FALSE))","v":"Espel - Creil"}]
[9,18,null,1.4506828703703704E-2,1.4506828703703704E-2,{"$f":"IF( ISBLANK(A444),\"\",IF(ISBLANK(B444),\"\",VLOOKUP(B444,Teams!A$2:B$95,2,0)))","v":"Fit Fun/ Anytime"},{"$f":"IF(ISBLANK(A444),\"\",VLOOKUP(A444,Etappe!A$2:B$13,2,FALSE))","v":"Espel - Creil"}]
[9,3,null,1.4581712962962963E-2,1.4581712962962963E-2,{"$f":"IF( ISBLANK(A445),\"\",IF(ISBLANK(B445),\"\",VLOOKUP(B445,Teams!A$2:B$95,2,0)))","v":"Quick Jewels"},{"$f":"IF(ISBLANK(A445),\"\",VLOOKUP(A445,Etappe!A$2:B$13,2,FALSE))","v":"Espel - Creil"}]
[9,43,null,1.519699074074074E-2,1.519699074074074E-2,{"$f":"IF( ISBLANK(A446),\"\",IF(ISBLANK(B446),\"\",VLOOKUP(B446,Teams!A$2:B$95,2,0)))","v":"Lerøy Seafood NL"},{"$f":"IF(ISBLANK(A446),\"\",VLOOKUP(A446,Etappe!A$2:B$13,2,FALSE))","v":"Espel - Creil"}]
[9,24,"v",1.520775462962963E-2,1.3686979166666667E-2,{"$f":"IF( ISBLANK(A447),\"\",IF(ISBLANK(B447),\"\",VLOOKUP(B447,Teams!A$2:B$95,2,0)))","v":"Ter Haar Family & Friends"},{"$f":"IF(ISBLANK(A447),\"\",VLOOKUP(A447,Etappe!A$2:B$13,2,FALSE))","v":"Espel - Creil"}]
[9,44,null,1.5341666666666665E-2,1.5341666666666665E-2,{"$f":"IF( ISBLANK(A448),\"\",IF(ISBLANK(B448),\"\",VLOOKUP(B448,Teams!A$2:B$95,2,0)))","v":"Tafelronde Noordoostpolder"},{"$f":"IF(ISBLANK(A448),\"\",VLOOKUP(A448,Etappe!A$2:B$13,2,FALSE))","v":"Espel - Creil"}]
[9,17,null,1.5375578703703702E-2,1.5375578703703702E-2,{"$f":"IF( ISBLANK(A449),\"\",IF(ISBLANK(B449),\"\",VLOOKUP(B449,Teams!A$2:B$95,2,0)))","v":"SAMEN ONDER WEG"},{"$f":"IF(ISBLANK(A449),\"\",VLOOKUP(A449,Etappe!A$2:B$13,2,FALSE))","v":"Espel - Creil"}]
[9,32,null,1.5426273148148149E-2,1.5426273148148149E-2,{"$f":"IF( ISBLANK(A450),\"\",IF(ISBLANK(B450),\"\",VLOOKUP(B450,Teams!A$2:B$95,2,0)))","v":"Ber-di-do"},{"$f":"IF(ISBLANK(A450),\"\",VLOOKUP(A450,Etappe!A$2:B$13,2,FALSE))","v":"Espel - Creil"}]
[9,11,"v",1.5434606481481481E-2,{"$f":"IF(ISBLANK(A451),\"\",IF(C451=\"v\",0.9*D451,D451))","v":1.3891145833333333E-2},{"$f":"IF( ISBLANK(A451),\"\",IF(ISBLANK(B451),\"\",VLOOKUP(B451,Teams!A$2:B$95,2,0)))","v":"Kraggenburg 4"},{"$f":"IF(ISBLANK(A451),\"\",VLOOKUP(A451,Etappe!A$2:B$13,2,FALSE))","v":"Espel - Creil"}]
[9,9,"v",1.5477314814814814E-2,1.3929583333333332E-2,{"$f":"IF( ISBLANK(A452),\"\",IF(ISBLANK(B452),\"\",VLOOKUP(B452,Teams!A$2:B$95,2,0)))","v":"VAN BLOOIS SPORTADVIES"},{"$f":"IF(ISBLANK(A452),\"\",VLOOKUP(A452,Etappe!A$2:B$13,2,FALSE))","v":"Espel - Creil"}]
[9,31,"v",1.5530787037037037E-2,1.3977708333333333E-2,{"$f":"IF( ISBLANK(A453),\"\",IF(ISBLANK(B453),\"\",VLOOKUP(B453,Teams!A$2:B$95,2,0)))","v":"fam.Dekker Draaft Door"},{"$f":"IF(ISBLANK(A453),\"\",VLOOKUP(A453,Etappe!A$2:B$13,2,FALSE))","v":"Espel - Creil"}]
[9,16,null,1.5561921296296298E-2,1.5561921296296298E-2,{"$f":"IF( ISBLANK(A454),\"\",IF(ISBLANK(B454),\"\",VLOOKUP(B454,Teams!A$2:B$95,2,0)))","v":"Team Nagele"},{"$f":"IF(ISBLANK(A454),\"\",VLOOKUP(A454,Etappe!A$2:B$13,2,FALSE))","v":"Espel - Creil"}]
[9,14,null,1.5636458333333336E-2,1.5636458333333336E-2,{"$f":"IF( ISBLANK(A455),\"\",IF(ISBLANK(B455),\"\",VLOOKUP(B455,Teams!A$2:B$95,2,0)))","v":"Vivan komt dr’an"},{"$f":"IF(ISBLANK(A455),\"\",VLOOKUP(A455,Etappe!A$2:B$13,2,FALSE))","v":"Espel - Creil"}]
[9,6,null,1.5659953703703704E-2,1.5659953703703704E-2,{"$f":"IF( ISBLANK(A456),\"\",IF(ISBLANK(B456),\"\",VLOOKUP(B456,Teams!A$2:B$95,2,0)))","v":"Running Ruijters"},{"$f":"IF(ISBLANK(A456),\"\",VLOOKUP(A456,Etappe!A$2:B$13,2,FALSE))","v":"Espel - Creil"}]
[9,30,null,1.586423611111111E-2,1.586423611111111E-2,{"$f":"IF( ISBLANK(A457),\"\",IF(ISBLANK(B457),\"\",VLOOKUP(B457,Teams!A$2:B$95,2,0)))","v":"Autofirst Minnaard "},{"$f":"IF(ISBLANK(A457),\"\",VLOOKUP(A457,Etappe!A$2:B$13,2,FALSE))","v":"Espel - Creil"}]
[9,34,null,1.6079166666666669E-2,1.6079166666666669E-2,{"$f":"IF( ISBLANK(A458),\"\",IF(ISBLANK(B458),\"\",VLOOKUP(B458,Teams!A$2:B$95,2,0)))","v":"Team 't Voorhuys"},{"$f":"IF(ISBLANK(A458),\"\",VLOOKUP(A458,Etappe!A$2:B$13,2,FALSE))","v":"Espel - Creil"}]
[9,40,null,1.6253472222222221E-2,1.6253472222222221E-2,{"$f":"IF( ISBLANK(A459),\"\",IF(ISBLANK(B459),\"\",VLOOKUP(B459,Teams!A$2:B$95,2,0)))","v":"Mercatus, lopen op z’n best"},{"$f":"IF(ISBLANK(A459),\"\",VLOOKUP(A459,Etappe!A$2:B$13,2,FALSE))","v":"Espel - Creil"}]
[9,33,"v",1.6274421296296297E-2,1.4646979166666668E-2,{"$f":"IF( ISBLANK(A460),\"\",IF(ISBLANK(B460),\"\",VLOOKUP(B460,Teams!A$2:B$95,2,0)))","v":"woensdagavondlopers"},{"$f":"IF(ISBLANK(A460),\"\",VLOOKUP(A460,Etappe!A$2:B$13,2,FALSE))","v":"Espel - Creil"}]
[9,37,null,1.6343518518518518E-2,1.6343518518518518E-2,{"$f":"IF( ISBLANK(A461),\"\",IF(ISBLANK(B461),\"\",VLOOKUP(B461,Teams!A$2:B$95,2,0)))","v":"Van Staveren"},{"$f":"IF(ISBLANK(A461),\"\",VLOOKUP(A461,Etappe!A$2:B$13,2,FALSE))","v":"Espel - Creil"}]
[9,50,null,1.6363425925925924E-2,1.6363425925925924E-2,{"$f":"IF( ISBLANK(A462),\"\",IF(ISBLANK(B462),\"\",VLOOKUP(B462,Teams!A$2:B$95,2,0)))","v":"Nick & de rest"},{"$f":"IF(ISBLANK(A462),\"\",VLOOKUP(A462,Etappe!A$2:B$13,2,FALSE))","v":"Espel - Creil"}]
[9,7,"v",1.6385416666666666E-2,1.4746875E-2,{"$f":"IF( ISBLANK(A463),\"\",IF(ISBLANK(B463),\"\",VLOOKUP(B463,Teams!A$2:B$95,2,0)))","v":"ASV Rutten"},{"$f":"IF(ISBLANK(A463),\"\",VLOOKUP(A463,Etappe!A$2:B$13,2,FALSE))","v":"Espel - Creil"}]
[9,25,"v",1.639490740740741E-2,1.475541666666667E-2,{"$f":"IF( ISBLANK(A464),\"\",IF(ISBLANK(B464),\"\",VLOOKUP(B464,Teams!A$2:B$95,2,0)))","v":"Hardloop groep Ens"},{"$f":"IF(ISBLANK(A464),\"\",VLOOKUP(A464,Etappe!A$2:B$13,2,FALSE))","v":"Espel - Creil"}]
[9,20,null,1.7041550925925925E-2,1.7041550925925925E-2,{"$f":"IF( ISBLANK(A465),\"\",IF(ISBLANK(B465),\"\",VLOOKUP(B465,Teams!A$2:B$95,2,0)))","v":"Creil"},{"$f":"IF(ISBLANK(A465),\"\",VLOOKUP(A465,Etappe!A$2:B$13,2,FALSE))","v":"Espel - Creil"}]
[9,19,"v",1.7116087962962965E-2,1.5404479166666669E-2,{"$f":"IF( ISBLANK(A466),\"\",IF(ISBLANK(B466),\"\",VLOOKUP(B466,Teams!A$2:B$95,2,0)))","v":"STC Rutten"},{"$f":"IF(ISBLANK(A466),\"\",VLOOKUP(A466,Etappe!A$2:B$13,2,FALSE))","v":"Espel - Creil"}]
[9,13,"v",1.7178356481481482E-2,1.5460520833333335E-2,{"$f":"IF( ISBLANK(A467),\"\",IF(ISBLANK(B467),\"\",VLOOKUP(B467,Teams!A$2:B$95,2,0)))","v":"KLIF18 ladies"},{"$f":"IF(ISBLANK(A467),\"\",VLOOKUP(A467,Etappe!A$2:B$13,2,FALSE))","v":"Espel - Creil"}]
[9,54,"v",1.7344675925925927E-2,1.5610208333333334E-2,{"$f":"IF( ISBLANK(A468),\"\",IF(ISBLANK(B468),\"\",VLOOKUP(B468,Teams!A$2:B$95,2,0)))","v":"De Dijkies"},{"$f":"IF(ISBLANK(A468),\"\",VLOOKUP(A468,Etappe!A$2:B$13,2,FALSE))","v":"Espel - Creil"}]
[9,49,null,1.7664004629629627E-2,1.7664004629629627E-2,{"$f":"IF( ISBLANK(A469),\"\",IF(ISBLANK(B469),\"\",VLOOKUP(B469,Teams!A$2:B$95,2,0)))","v":"Flynth"},{"$f":"IF(ISBLANK(A469),\"\",VLOOKUP(A469,Etappe!A$2:B$13,2,FALSE))","v":"Espel - Creil"}]
[9,52,"v",1.7675578703703704E-2,1.5908020833333335E-2,{"$f":"IF( ISBLANK(A470),\"\",IF(ISBLANK(B470),\"\",VLOOKUP(B470,Teams!A$2:B$95,2,0)))","v":"Pool-der run4fun"},{"$f":"IF(ISBLANK(A470),\"\",VLOOKUP(A470,Etappe!A$2:B$13,2,FALSE))","v":"Espel - Creil"}]
[9,47,"v",1.774328703703704E-2,1.5968958333333335E-2,{"$f":"IF( ISBLANK(A471),\"\",IF(ISBLANK(B471),\"\",VLOOKUP(B471,Teams!A$2:B$95,2,0)))","v":"CrossFit Urk"},{"$f":"IF(ISBLANK(A471),\"\",VLOOKUP(A471,Etappe!A$2:B$13,2,FALSE))","v":"Espel - Creil"}]
[9,26,"v",1.7869444444444445E-2,1.60825E-2,{"$f":"IF( ISBLANK(A472),\"\",IF(ISBLANK(B472),\"\",VLOOKUP(B472,Teams!A$2:B$95,2,0)))","v":"van Vilsteren Marknesse.nl"},{"$f":"IF(ISBLANK(A472),\"\",VLOOKUP(A472,Etappe!A$2:B$13,2,FALSE))","v":"Espel - Creil"}]
[9,23,null,1.7887615740740742E-2,1.7887615740740742E-2,{"$f":"IF( ISBLANK(A473),\"\",IF(ISBLANK(B473),\"\",VLOOKUP(B473,Teams!A$2:B$95,2,0)))","v":"Seaconcept"},{"$f":"IF(ISBLANK(A473),\"\",VLOOKUP(A473,Etappe!A$2:B$13,2,FALSE))","v":"Espel - Creil"}]
[9,12,"v",1.7904976851851852E-2,1.6114479166666668E-2,{"$f":"IF( ISBLANK(A474),\"\",IF(ISBLANK(B474),\"\",VLOOKUP(B474,Teams!A$2:B$95,2,0)))","v":"Hekwerkwebshop.nl"},{"$f":"IF(ISBLANK(A474),\"\",VLOOKUP(A474,Etappe!A$2:B$13,2,FALSE))","v":"Espel - Creil"}]
[9,46,"v",1.7918287037037038E-2,1.6126458333333336E-2,{"$f":"IF( ISBLANK(A475),\"\",IF(ISBLANK(B475),\"\",VLOOKUP(B475,Teams!A$2:B$95,2,0)))","v":"Hoekstra Assurantie B.V."},{"$f":"IF(ISBLANK(A475),\"\",VLOOKUP(A475,Etappe!A$2:B$13,2,FALSE))","v":"Espel - Creil"}]
[9,15,"v",1.7942245370370372E-2,1.6148020833333335E-2,{"$f":"IF( ISBLANK(A476),\"\",IF(ISBLANK(B476),\"\",VLOOKUP(B476,Teams!A$2:B$95,2,0)))","v":"Aves"},{"$f":"IF(ISBLANK(A476),\"\",VLOOKUP(A476,Etappe!A$2:B$13,2,FALSE))","v":"Espel - Creil"}]
[9,45,"v",1.7968171296296295E-2,1.6171354166666665E-2,{"$f":"IF( ISBLANK(A477),\"\",IF(ISBLANK(B477),\"\",VLOOKUP(B477,Teams!A$2:B$95,2,0)))","v":"Berechja College "},{"$f":"IF(ISBLANK(A477),\"\",VLOOKUP(A477,Etappe!A$2:B$13,2,FALSE))","v":"Espel - Creil"}]
[9,41,null,1.8263310185185188E-2,1.8263310185185188E-2,{"$f":"IF( ISBLANK(A478),\"\",IF(ISBLANK(B478),\"\",VLOOKUP(B478,Teams!A$2:B$95,2,0)))","v":"Advies en Kies en Runners"},{"$f":"IF(ISBLANK(A478),\"\",VLOOKUP(A478,Etappe!A$2:B$13,2,FALSE))","v":"Espel - Creil"}]
[9,27,"v",1.8911458333333336E-2,1.7020312500000002E-2,{"$f":"IF( ISBLANK(A479),\"\",IF(ISBLANK(B479),\"\",VLOOKUP(B479,Teams!A$2:B$95,2,0)))","v":"Running Team Espel"},{"$f":"IF(ISBLANK(A479),\"\",VLOOKUP(A479,Etappe!A$2:B$13,2,FALSE))","v":"Espel - Creil"}]
[9,35,null,1.9023958333333334E-2,1.9023958333333334E-2,{"$f":"IF( ISBLANK(A480),\"\",IF(ISBLANK(B480),\"\",VLOOKUP(B480,Teams!A$2:B$95,2,0)))","v":"Waterman Onions 2"},{"$f":"IF(ISBLANK(A480),\"\",VLOOKUP(A480,Etappe!A$2:B$13,2,FALSE))","v":"Espel - Creil"}]
[9,39,null,1.9040972222222223E-2,1.9040972222222223E-2,{"$f":"IF( ISBLANK(A481),\"\",IF(ISBLANK(B481),\"\",VLOOKUP(B481,Teams!A$2:B$95,2,0)))","v":"Suplacon"},{"$f":"IF(ISBLANK(A481),\"\",VLOOKUP(A481,Etappe!A$2:B$13,2,FALSE))","v":"Espel - Creil"}]
[9,29,"v",1.9127777777777778E-2,1.7215000000000001E-2,{"$f":"IF( ISBLANK(A482),\"\",IF(ISBLANK(B482),\"\",VLOOKUP(B482,Teams!A$2:B$95,2,0)))","v":"Waterman Onions Pink Ladies"},{"$f":"IF(ISBLANK(A482),\"\",VLOOKUP(A482,Etappe!A$2:B$13,2,FALSE))","v":"Espel - Creil"}]
[9,28,"v",1.923923611111111E-2,1.7315312499999999E-2,{"$f":"IF( ISBLANK(A483),\"\",IF(ISBLANK(B483),\"\",VLOOKUP(B483,Teams!A$2:B$95,2,0)))","v":"Waterman Onions 1"},{"$f":"IF(ISBLANK(A483),\"\",VLOOKUP(A483,Etappe!A$2:B$13,2,FALSE))","v":"Espel - Creil"}]
[9,55,"v",1.9612847222222222E-2,1.7651562500000002E-2,{"$f":"IF( ISBLANK(A484),\"\",IF(ISBLANK(B484),\"\",VLOOKUP(B484,Teams!A$2:B$95,2,0)))","v":"Fifty-Five"},{"$f":"IF(ISBLANK(A484),\"\",VLOOKUP(A484,Etappe!A$2:B$13,2,FALSE))","v":"Espel - Creil"}]
[9,38,"v",1.9728587962962962E-2,1.7755729166666664E-2,{"$f":"IF( ISBLANK(A485),\"\",IF(ISBLANK(B485),\"\",VLOOKUP(B485,Teams!A$2:B$95,2,0)))","v":"Vegterlopers"},{"$f":"IF(ISBLANK(A485),\"\",VLOOKUP(A485,Etappe!A$2:B$13,2,FALSE))","v":"Espel - Creil"}]
[9,36,null,1.9736574074074073E-2,1.9736574074074073E-2,{"$f":"IF( ISBLANK(A486),\"\",IF(ISBLANK(B486),\"\",VLOOKUP(B486,Teams!A$2:B$95,2,0)))","v":"Schol op Urk"},{"$f":"IF(ISBLANK(A486),\"\",VLOOKUP(A486,Etappe!A$2:B$13,2,FALSE))","v":"Espel - Creil"}]
[9,21,"v",2.1100115740740739E-2,1.8990104166666664E-2,{"$f":"IF( ISBLANK(A487),\"\",IF(ISBLANK(B487),\"\",VLOOKUP(B487,Teams!A$2:B$95,2,0)))","v":"050media"},{"$f":"IF(ISBLANK(A487),\"\",VLOOKUP(A487,Etappe!A$2:B$13,2,FALSE))","v":"Espel - Creil"}]
[10,4,null,1.4593981481481484E-2,1.4593981481481484E-2,{"$f":"IF( ISBLANK(A488),\"\",IF(ISBLANK(B488),\"\",VLOOKUP(B488,Teams!A$2:B$95,2,0)))","v":"Klif 18"},{"$f":"IF(ISBLANK(A488),\"\",VLOOKUP(A488,Etappe!A$2:B$13,2,FALSE))","v":"Creil - Rutten"}]
[10,2,null,1.4746643518518518E-2,1.4746643518518518E-2,{"$f":"IF( ISBLANK(A489),\"\",IF(ISBLANK(B489),\"\",VLOOKUP(B489,Teams!A$2:B$95,2,0)))","v":"hardloopbegeleidingopmaat/klif 18"},{"$f":"IF(ISBLANK(A489),\"\",VLOOKUP(A489,Etappe!A$2:B$13,2,FALSE))","v":"Creil - Rutten"}]
[10,6,null,1.5777083333333334E-2,1.5777083333333334E-2,{"$f":"IF( ISBLANK(A490),\"\",IF(ISBLANK(B490),\"\",VLOOKUP(B490,Teams!A$2:B$95,2,0)))","v":"Running Ruijters"},{"$f":"IF(ISBLANK(A490),\"\",VLOOKUP(A490,Etappe!A$2:B$13,2,FALSE))","v":"Creil - Rutten"}]
[10,31,null,1.5951851851851852E-2,1.5951851851851852E-2,{"$f":"IF( ISBLANK(A491),\"\",IF(ISBLANK(B491),\"\",VLOOKUP(B491,Teams!A$2:B$95,2,0)))","v":"fam.Dekker Draaft Door"},{"$f":"IF(ISBLANK(A491),\"\",VLOOKUP(A491,Etappe!A$2:B$13,2,FALSE))","v":"Creil - Rutten"}]
[10,9,null,1.6049074074074073E-2,1.6049074074074073E-2,{"$f":"IF( ISBLANK(A492),\"\",IF(ISBLANK(B492),\"\",VLOOKUP(B492,Teams!A$2:B$95,2,0)))","v":"VAN BLOOIS SPORTADVIES"},{"$f":"IF(ISBLANK(A492),\"\",VLOOKUP(A492,Etappe!A$2:B$13,2,FALSE))","v":"Creil - Rutten"}]
[10,1,null,1.6100810185185187E-2,1.6100810185185187E-2,{"$f":"IF( ISBLANK(A493),\"\",IF(ISBLANK(B493),\"\",VLOOKUP(B493,Teams!A$2:B$95,2,0)))","v":"De Corner"},{"$f":"IF(ISBLANK(A493),\"\",VLOOKUP(A493,Etappe!A$2:B$13,2,FALSE))","v":"Creil - Rutten"}]
[10,10,null,1.6346412037037038E-2,1.6346412037037038E-2,{"$f":"IF( ISBLANK(A494),\"\",IF(ISBLANK(B494),\"\",VLOOKUP(B494,Teams!A$2:B$95,2,0)))","v":"RUN TEAM MARKNESSE"},{"$f":"IF(ISBLANK(A494),\"\",VLOOKUP(A494,Etappe!A$2:B$13,2,FALSE))","v":"Creil - Rutten"}]
[10,11,null,1.6363425925925924E-2,1.6363425925925924E-2,{"$f":"IF( ISBLANK(A495),\"\",IF(ISBLANK(B495),\"\",VLOOKUP(B495,Teams!A$2:B$95,2,0)))","v":"Kraggenburg 4"},{"$f":"IF(ISBLANK(A495),\"\",VLOOKUP(A495,Etappe!A$2:B$13,2,FALSE))","v":"Creil - Rutten"}]
[10,8,null,1.6390509259259261E-2,1.6390509259259261E-2,{"$f":"IF( ISBLANK(A496),\"\",IF(ISBLANK(B496),\"\",VLOOKUP(B496,Teams!A$2:B$95,2,0)))","v":"Hardloopteam Bant"},{"$f":"IF(ISBLANK(A496),\"\",VLOOKUP(A496,Etappe!A$2:B$13,2,FALSE))","v":"Creil - Rutten"}]
[10,3,null,1.6441550925925925E-2,1.6441550925925925E-2,{"$f":"IF( ISBLANK(A497),\"\",IF(ISBLANK(B497),\"\",VLOOKUP(B497,Teams!A$2:B$95,2,0)))","v":"Quick Jewels"},{"$f":"IF(ISBLANK(A497),\"\",VLOOKUP(A497,Etappe!A$2:B$13,2,FALSE))","v":"Creil - Rutten"}]
[10,5,null,1.6570254629629629E-2,1.6570254629629629E-2,{"$f":"IF( ISBLANK(A498),\"\",IF(ISBLANK(B498),\"\",VLOOKUP(B498,Teams!A$2:B$95,2,0)))","v":"Dujob"},{"$f":"IF(ISBLANK(A498),\"\",VLOOKUP(A498,Etappe!A$2:B$13,2,FALSE))","v":"Creil - Rutten"}]
[10,21,null,1.6856018518518517E-2,1.6856018518518517E-2,{"$f":"IF( ISBLANK(A499),\"\",IF(ISBLANK(B499),\"\",VLOOKUP(B499,Teams!A$2:B$95,2,0)))","v":"050media"},{"$f":"IF(ISBLANK(A499),\"\",VLOOKUP(A499,Etappe!A$2:B$13,2,FALSE))","v":"Creil - Rutten"}]
[10,16,null,1.7649884259259258E-2,1.7649884259259258E-2,{"$f":"IF( ISBLANK(A500),\"\",IF(ISBLANK(B500),\"\",VLOOKUP(B500,Teams!A$2:B$95,2,0)))","v":"Team Nagele"},{"$f":"IF(ISBLANK(A500),\"\",VLOOKUP(A500,Etappe!A$2:B$13,2,FALSE))","v":"Creil - Rutten"}]
[10,25,"v",1.796284722222222E-2,1.6166562499999999E-2,{"$f":"IF( ISBLANK(A501),\"\",IF(ISBLANK(B501),\"\",VLOOKUP(B501,Teams!A$2:B$95,2,0)))","v":"Hardloop groep Ens"},{"$f":"IF(ISBLANK(A501),\"\",VLOOKUP(A501,Etappe!A$2:B$13,2,FALSE))","v":"Creil - Rutten"}]
[10,15,"v",1.8213773148148146E-2,1.639239583333333E-2,{"$f":"IF( ISBLANK(A502),\"\",IF(ISBLANK(B502),\"\",VLOOKUP(B502,Teams!A$2:B$95,2,0)))","v":"Aves"},{"$f":"IF(ISBLANK(A502),\"\",VLOOKUP(A502,Etappe!A$2:B$13,2,FALSE))","v":"Creil - Rutten"}]
[10,18,null,1.838738425925926E-2,1.838738425925926E-2,{"$f":"IF( ISBLANK(A503),\"\",IF(ISBLANK(B503),\"\",VLOOKUP(B503,Teams!A$2:B$95,2,0)))","v":"Fit Fun/ Anytime"},{"$f":"IF(ISBLANK(A503),\"\",VLOOKUP(A503,Etappe!A$2:B$13,2,FALSE))","v":"Creil - Rutten"}]
[10,26,null,1.8421759259259259E-2,1.8421759259259259E-2,{"$f":"IF( ISBLANK(A504),\"\",IF(ISBLANK(B504),\"\",VLOOKUP(B504,Teams!A$2:B$95,2,0)))","v":"van Vilsteren Marknesse.nl"},{"$f":"IF(ISBLANK(A504),\"\",VLOOKUP(A504,Etappe!A$2:B$13,2,FALSE))","v":"Creil - Rutten"}]
[10,54,null,1.8491203703703704E-2,1.8491203703703704E-2,{"$f":"IF( ISBLANK(A505),\"\",IF(ISBLANK(B505),\"\",VLOOKUP(B505,Teams!A$2:B$95,2,0)))","v":"De Dijkies"},{"$f":"IF(ISBLANK(A505),\"\",VLOOKUP(A505,Etappe!A$2:B$13,2,FALSE))","v":"Creil - Rutten"}]
[10,13,"v",1.865763888888889E-2,1.6791875000000001E-2,{"$f":"IF( ISBLANK(A506),\"\",IF(ISBLANK(B506),\"\",VLOOKUP(B506,Teams!A$2:B$95,2,0)))","v":"KLIF18 ladies"},{"$f":"IF(ISBLANK(A506),\"\",VLOOKUP(A506,Etappe!A$2:B$13,2,FALSE))","v":"Creil - Rutten"}]
[10,22,null,1.8704282407407406E-2,1.8704282407407406E-2,{"$f":"IF( ISBLANK(A507),\"\",IF(ISBLANK(B507),\"\",VLOOKUP(B507,Teams!A$2:B$95,2,0)))","v":"Tollebeek in beweging"},{"$f":"IF(ISBLANK(A507),\"\",VLOOKUP(A507,Etappe!A$2:B$13,2,FALSE))","v":"Creil - Rutten"}]
[10,33,null,1.8864120370370368E-2,1.8864120370370368E-2,{"$f":"IF( ISBLANK(A508),\"\",IF(ISBLANK(B508),\"\",VLOOKUP(B508,Teams!A$2:B$95,2,0)))","v":"woensdagavondlopers"},{"$f":"IF(ISBLANK(A508),\"\",VLOOKUP(A508,Etappe!A$2:B$13,2,FALSE))","v":"Creil - Rutten"}]
[10,52,null,1.8895949074074072E-2,1.8895949074074072E-2,{"$f":"IF( ISBLANK(A509),\"\",IF(ISBLANK(B509),\"\",VLOOKUP(B509,Teams!A$2:B$95,2,0)))","v":"Pool-der run4fun"},{"$f":"IF(ISBLANK(A509),\"\",VLOOKUP(A509,Etappe!A$2:B$13,2,FALSE))","v":"Creil - Rutten"}]
[10,19,"v",1.8919097222222223E-2,1.7027187500000002E-2,{"$f":"IF( ISBLANK(A510),\"\",IF(ISBLANK(B510),\"\",VLOOKUP(B510,Teams!A$2:B$95,2,0)))","v":"STC Rutten"},{"$f":"IF(ISBLANK(A510),\"\",VLOOKUP(A510,Etappe!A$2:B$13,2,FALSE))","v":"Creil - Rutten"}]
[10,35,null,1.896539351851852E-2,1.896539351851852E-2,{"$f":"IF( ISBLANK(A511),\"\",IF(ISBLANK(B511),\"\",VLOOKUP(B511,Teams!A$2:B$95,2,0)))","v":"Waterman Onions 2"},{"$f":"IF(ISBLANK(A511),\"\",VLOOKUP(A511,Etappe!A$2:B$13,2,FALSE))","v":"Creil - Rutten"}]
[10,51,null,1.9033449074074074E-2,1.9033449074074074E-2,{"$f":"IF( ISBLANK(A512),\"\",IF(ISBLANK(B512),\"\",VLOOKUP(B512,Teams!A$2:B$95,2,0)))","v":"Van Urk voeding"},{"$f":"IF(ISBLANK(A512),\"\",VLOOKUP(A512,Etappe!A$2:B$13,2,FALSE))","v":"Creil - Rutten"}]
[10,17,null,1.9045717592592593E-2,1.9045717592592593E-2,{"$f":"IF( ISBLANK(A513),\"\",IF(ISBLANK(B513),\"\",VLOOKUP(B513,Teams!A$2:B$95,2,0)))","v":"SAMEN ONDER WEG"},{"$f":"IF(ISBLANK(A513),\"\",VLOOKUP(A513,Etappe!A$2:B$13,2,FALSE))","v":"Creil - Rutten"}]
[10,46,null,1.9137962962962964E-2,1.9137962962962964E-2,{"$f":"IF( ISBLANK(A514),\"\",IF(ISBLANK(B514),\"\",VLOOKUP(B514,Teams!A$2:B$95,2,0)))","v":"Hoekstra Assurantie B.V."},{"$f":"IF(ISBLANK(A514),\"\",VLOOKUP(A514,Etappe!A$2:B$13,2,FALSE))","v":"Creil - Rutten"}]
[10,28,null,1.9174421296296294E-2,{"$f":"IF(ISBLANK(A515),\"\",IF(C515=\"v\",0.9*D515,D515))","v":1.9174421296296294E-2},{"$f":"IF( ISBLANK(A515),\"\",IF(ISBLANK(B515),\"\",VLOOKUP(B515,Teams!A$2:B$95,2,0)))","v":"Waterman Onions 1"},{"$f":"IF(ISBLANK(A515),\"\",VLOOKUP(A515,Etappe!A$2:B$13,2,FALSE))","v":"Creil - Rutten"}]
[10,29,"v",1.9247916666666667E-2,1.7323125000000002E-2,{"$f":"IF( ISBLANK(A516),\"\",IF(ISBLANK(B516),\"\",VLOOKUP(B516,Teams!A$2:B$95,2,0)))","v":"Waterman Onions Pink Ladies"},{"$f":"IF(ISBLANK(A516),\"\",VLOOKUP(A516,Etappe!A$2:B$13,2,FALSE))","v":"Creil - Rutten"}]
[10,34,null,1.9381018518518516E-2,1.9381018518518516E-2,{"$f":"IF( ISBLANK(A517),\"\",IF(ISBLANK(B517),\"\",VLOOKUP(B517,Teams!A$2:B$95,2,0)))","v":"Team 't Voorhuys"},{"$f":"IF(ISBLANK(A517),\"\",VLOOKUP(A517,Etappe!A$2:B$13,2,FALSE))","v":"Creil - Rutten"}]
[10,32,null,1.9405208333333333E-2,1.9405208333333333E-2,{"$f":"IF( ISBLANK(A518),\"\",IF(ISBLANK(B518),\"\",VLOOKUP(B518,Teams!A$2:B$95,2,0)))","v":"Ber-di-do"},{"$f":"IF(ISBLANK(A518),\"\",VLOOKUP(A518,Etappe!A$2:B$13,2,FALSE))","v":"Creil - Rutten"}]
[10,30,null,1.941574074074074E-2,1.941574074074074E-2,{"$f":"IF( ISBLANK(A519),\"\",IF(ISBLANK(B519),\"\",VLOOKUP(B519,Teams!A$2:B$95,2,0)))","v":"Autofirst Minnaard "},{"$f":"IF(ISBLANK(A519),\"\",VLOOKUP(A519,Etappe!A$2:B$13,2,FALSE))","v":"Creil - Rutten"}]
[10,56,null,1.9471759259259258E-2,1.9471759259259258E-2,{"$f":"IF( ISBLANK(A520),\"\",IF(ISBLANK(B520),\"\",VLOOKUP(B520,Teams!A$2:B$95,2,0)))","v":"De Broodlopers"},{"$f":"IF(ISBLANK(A520),\"\",VLOOKUP(A520,Etappe!A$2:B$13,2,FALSE))","v":"Creil - Rutten"}]
[10,12,null,1.9485879629629627E-2,1.9485879629629627E-2,{"$f":"IF( ISBLANK(A521),\"\",IF(ISBLANK(B521),\"\",VLOOKUP(B521,Teams!A$2:B$95,2,0)))","v":"Hekwerkwebshop.nl"},{"$f":"IF(ISBLANK(A521),\"\",VLOOKUP(A521,Etappe!A$2:B$13,2,FALSE))","v":"Creil - Rutten"}]
[10,42,null,1.9838888888888889E-2,1.9838888888888889E-2,{"$f":"IF( ISBLANK(A522),\"\",IF(ISBLANK(B522),\"\",VLOOKUP(B522,Teams!A$2:B$95,2,0)))","v":"Kinderopvang Pipo"},{"$f":"IF(ISBLANK(A522),\"\",VLOOKUP(A522,Etappe!A$2:B$13,2,FALSE))","v":"Creil - Rutten"}]
[10,45,null,1.9910185185185184E-2,1.9910185185185184E-2,{"$f":"IF( ISBLANK(A523),\"\",IF(ISBLANK(B523),\"\",VLOOKUP(B523,Teams!A$2:B$95,2,0)))","v":"Berechja College "},{"$f":"IF(ISBLANK(A523),\"\",VLOOKUP(A523,Etappe!A$2:B$13,2,FALSE))","v":"Creil - Rutten"}]
[10,37,null,2.0033449074074075E-2,2.0033449074074075E-2,{"$f":"IF( ISBLANK(A524),\"\",IF(ISBLANK(B524),\"\",VLOOKUP(B524,Teams!A$2:B$95,2,0)))","v":"Van Staveren"},{"$f":"IF(ISBLANK(A524),\"\",VLOOKUP(A524,Etappe!A$2:B$13,2,FALSE))","v":"Creil - Rutten"}]
[10,7,null,2.0126736111111113E-2,2.0126736111111113E-2,{"$f":"IF( ISBLANK(A525),\"\",IF(ISBLANK(B525),\"\",VLOOKUP(B525,Teams!A$2:B$95,2,0)))","v":"ASV Rutten"},{"$f":"IF(ISBLANK(A525),\"\",VLOOKUP(A525,Etappe!A$2:B$13,2,FALSE))","v":"Creil - Rutten"}]
[10,38,null,2.0318865740740742E-2,2.0318865740740742E-2,{"$f":"IF( ISBLANK(A526),\"\",IF(ISBLANK(B526),\"\",VLOOKUP(B526,Teams!A$2:B$95,2,0)))","v":"Vegterlopers"},{"$f":"IF(ISBLANK(A526),\"\",VLOOKUP(A526,Etappe!A$2:B$13,2,FALSE))","v":"Creil - Rutten"}]
[10,14,null,2.0366550925925927E-2,2.0366550925925927E-2,{"$f":"IF( ISBLANK(A527),\"\",IF(ISBLANK(B527),\"\",VLOOKUP(B527,Teams!A$2:B$95,2,0)))","v":"Vivan komt dr’an"},{"$f":"IF(ISBLANK(A527),\"\",VLOOKUP(A527,Etappe!A$2:B$13,2,FALSE))","v":"Creil - Rutten"}]
[10,24,null,2.0411111111111113E-2,2.0411111111111113E-2,{"$f":"IF( ISBLANK(A528),\"\",IF(ISBLANK(B528),\"\",VLOOKUP(B528,Teams!A$2:B$95,2,0)))","v":"Ter Haar Family & Friends"},{"$f":"IF(ISBLANK(A528),\"\",VLOOKUP(A528,Etappe!A$2:B$13,2,FALSE))","v":"Creil - Rutten"}]
[10,47,"v",2.0696412037037034E-2,1.862677083333333E-2,{"$f":"IF( ISBLANK(A529),\"\",IF(ISBLANK(B529),\"\",VLOOKUP(B529,Teams!A$2:B$95,2,0)))","v":"CrossFit Urk"},{"$f":"IF(ISBLANK(A529),\"\",VLOOKUP(A529,Etappe!A$2:B$13,2,FALSE))","v":"Creil - Rutten"}]
[10,49,null,2.0958680555555553E-2,2.0958680555555553E-2,{"$f":"IF( ISBLANK(A530),\"\",IF(ISBLANK(B530),\"\",VLOOKUP(B530,Teams!A$2:B$95,2,0)))","v":"Flynth"},{"$f":"IF(ISBLANK(A530),\"\",VLOOKUP(A530,Etappe!A$2:B$13,2,FALSE))","v":"Creil - Rutten"}]
[10,40,null,2.1199884259259259E-2,2.1199884259259259E-2,{"$f":"IF( ISBLANK(A531),\"\",IF(ISBLANK(B531),\"\",VLOOKUP(B531,Teams!A$2:B$95,2,0)))","v":"Mercatus, lopen op z’n best"},{"$f":"IF(ISBLANK(A531),\"\",VLOOKUP(A531,Etappe!A$2:B$13,2,FALSE))","v":"Creil - Rutten"}]
[10,23,null,2.1205671296296299E-2,2.1205671296296299E-2,{"$f":"IF( ISBLANK(A532),\"\",IF(ISBLANK(B532),\"\",VLOOKUP(B532,Teams!A$2:B$95,2,0)))","v":"Seaconcept"},{"$f":"IF(ISBLANK(A532),\"\",VLOOKUP(A532,Etappe!A$2:B$13,2,FALSE))","v":"Creil - Rutten"}]
[10,43,null,2.1572453703703701E-2,2.1572453703703701E-2,{"$f":"IF( ISBLANK(A533),\"\",IF(ISBLANK(B533),\"\",VLOOKUP(B533,Teams!A$2:B$95,2,0)))","v":"Lerøy Seafood NL"},{"$f":"IF(ISBLANK(A533),\"\",VLOOKUP(A533,Etappe!A$2:B$13,2,FALSE))","v":"Creil - Rutten"}]
[10,50,"v",2.1583680555555554E-2,1.94253125E-2,{"$f":"IF( ISBLANK(A534),\"\",IF(ISBLANK(B534),\"\",VLOOKUP(B534,Teams!A$2:B$95,2,0)))","v":"Nick & de rest"},{"$f":"IF(ISBLANK(A534),\"\",VLOOKUP(A534,Etappe!A$2:B$13,2,FALSE))","v":"Creil - Rutten"}]
[10,27,"v",2.1617361111111111E-2,1.9455625000000001E-2,{"$f":"IF( ISBLANK(A535),\"\",IF(ISBLANK(B535),\"\",VLOOKUP(B535,Teams!A$2:B$95,2,0)))","v":"Running Team Espel"},{"$f":"IF(ISBLANK(A535),\"\",VLOOKUP(A535,Etappe!A$2:B$13,2,FALSE))","v":"Creil - Rutten"}]
[10,41,"v",2.1679861111111112E-2,1.9511875000000001E-2,{"$f":"IF( ISBLANK(A536),\"\",IF(ISBLANK(B536),\"\",VLOOKUP(B536,Teams!A$2:B$95,2,0)))","v":"Advies en Kies en Runners"},{"$f":"IF(ISBLANK(A536),\"\",VLOOKUP(A536,Etappe!A$2:B$13,2,FALSE))","v":"Creil - Rutten"}]
[10,20,"v",2.1738541666666666E-2,1.95646875E-2,{"$f":"IF( ISBLANK(A537),\"\",IF(ISBLANK(B537),\"\",VLOOKUP(B537,Teams!A$2:B$95,2,0)))","v":"Creil"},{"$f":"IF(ISBLANK(A537),\"\",VLOOKUP(A537,Etappe!A$2:B$13,2,FALSE))","v":"Creil - Rutten"}]
[10,55,"v",2.1844791666666665E-2,1.9660312499999999E-2,{"$f":"IF( ISBLANK(A538),\"\",IF(ISBLANK(B538),\"\",VLOOKUP(B538,Teams!A$2:B$95,2,0)))","v":"Fifty-Five"},{"$f":"IF(ISBLANK(A538),\"\",VLOOKUP(A538,Etappe!A$2:B$13,2,FALSE))","v":"Creil - Rutten"}]
[10,36,"v",2.2133796296296294E-2,1.9920416666666666E-2,{"$f":"IF( ISBLANK(A539),\"\",IF(ISBLANK(B539),\"\",VLOOKUP(B539,Teams!A$2:B$95,2,0)))","v":"Schol op Urk"},{"$f":"IF(ISBLANK(A539),\"\",VLOOKUP(A539,Etappe!A$2:B$13,2,FALSE))","v":"Creil - Rutten"}]
[10,44,null,2.2877777777777778E-2,2.2877777777777778E-2,{"$f":"IF( ISBLANK(A540),\"\",IF(ISBLANK(B540),\"\",VLOOKUP(B540,Teams!A$2:B$95,2,0)))","v":"Tafelronde Noordoostpolder"},{"$f":"IF(ISBLANK(A540),\"\",VLOOKUP(A540,Etappe!A$2:B$13,2,FALSE))","v":"Creil - Rutten"}]
[10,39,null,2.3588541666666667E-2,2.3588541666666667E-2,{"$f":"IF( ISBLANK(A541),\"\",IF(ISBLANK(B541),\"\",VLOOKUP(B541,Teams!A$2:B$95,2,0)))","v":"Suplacon"},{"$f":"IF(ISBLANK(A541),\"\",VLOOKUP(A541,Etappe!A$2:B$13,2,FALSE))","v":"Creil - Rutten"}]
[11,2,null,1.735810185185185E-2,1.735810185185185E-2,{"$f":"IF( ISBLANK(A542),\"\",IF(ISBLANK(B542),\"\",VLOOKUP(B542,Teams!A$2:B$95,2,0)))","v":"hardloopbegeleidingopmaat/klif 18"},{"$f":"IF(ISBLANK(A542),\"\",VLOOKUP(A542,Etappe!A$2:B$13,2,FALSE))","v":"Rutten - Bant"}]
[11,8,null,1.8152662037037037E-2,1.8152662037037037E-2,{"$f":"IF( ISBLANK(A543),\"\",IF(ISBLANK(B543),\"\",VLOOKUP(B543,Teams!A$2:B$95,2,0)))","v":"Hardloopteam Bant"},{"$f":"IF(ISBLANK(A543),\"\",VLOOKUP(A543,Etappe!A$2:B$13,2,FALSE))","v":"Rutten - Bant"}]
[11,44,null,1.8751967592592594E-2,1.8751967592592594E-2,{"$f":"IF( ISBLANK(A544),\"\",IF(ISBLANK(B544),\"\",VLOOKUP(B544,Teams!A$2:B$95,2,0)))","v":"Tafelronde Noordoostpolder"},{"$f":"IF(ISBLANK(A544),\"\",VLOOKUP(A544,Etappe!A$2:B$13,2,FALSE))","v":"Rutten - Bant"}]
[11,10,null,1.9021064814814814E-2,1.9021064814814814E-2,{"$f":"IF( ISBLANK(A545),\"\",IF(ISBLANK(B545),\"\",VLOOKUP(B545,Teams!A$2:B$95,2,0)))","v":"RUN TEAM MARKNESSE"},{"$f":"IF(ISBLANK(A545),\"\",VLOOKUP(A545,Etappe!A$2:B$13,2,FALSE))","v":"Rutten - Bant"}]
[11,3,null,1.9075347222222223E-2,1.9075347222222223E-2,{"$f":"IF( ISBLANK(A546),\"\",IF(ISBLANK(B546),\"\",VLOOKUP(B546,Teams!A$2:B$95,2,0)))","v":"Quick Jewels"},{"$f":"IF(ISBLANK(A546),\"\",VLOOKUP(A546,Etappe!A$2:B$13,2,FALSE))","v":"Rutten - Bant"}]
[11,1,null,1.912314814814815E-2,1.912314814814815E-2,{"$f":"IF( ISBLANK(A547),\"\",IF(ISBLANK(B547),\"\",VLOOKUP(B547,Teams!A$2:B$95,2,0)))","v":"De Corner"},{"$f":"IF(ISBLANK(A547),\"\",VLOOKUP(A547,Etappe!A$2:B$13,2,FALSE))","v":"Rutten - Bant"}]
[11,12,null,1.914837962962963E-2,1.914837962962963E-2,{"$f":"IF( ISBLANK(A548),\"\",IF(ISBLANK(B548),\"\",VLOOKUP(B548,Teams!A$2:B$95,2,0)))","v":"Hekwerkwebshop.nl"},{"$f":"IF(ISBLANK(A548),\"\",VLOOKUP(A548,Etappe!A$2:B$13,2,FALSE))","v":"Rutten - Bant"}]
[11,4,"v",1.9217824074074071E-2,1.7296041666666664E-2,{"$f":"IF( ISBLANK(A549),\"\",IF(ISBLANK(B549),\"\",VLOOKUP(B549,Teams!A$2:B$95,2,0)))","v":"Klif 18"},{"$f":"IF(ISBLANK(A549),\"\",VLOOKUP(A549,Etappe!A$2:B$13,2,FALSE))","v":"Rutten - Bant"}]
[11,9,null,1.9447569444444444E-2,1.9447569444444444E-2,{"$f":"IF( ISBLANK(A550),\"\",IF(ISBLANK(B550),\"\",VLOOKUP(B550,Teams!A$2:B$95,2,0)))","v":"VAN BLOOIS SPORTADVIES"},{"$f":"IF(ISBLANK(A550),\"\",VLOOKUP(A550,Etappe!A$2:B$13,2,FALSE))","v":"Rutten - Bant"}]
[11,17,null,1.982951388888889E-2,1.982951388888889E-2,{"$f":"IF( ISBLANK(A551),\"\",IF(ISBLANK(B551),\"\",VLOOKUP(B551,Teams!A$2:B$95,2,0)))","v":"SAMEN ONDER WEG"},{"$f":"IF(ISBLANK(A551),\"\",VLOOKUP(A551,Etappe!A$2:B$13,2,FALSE))","v":"Rutten - Bant"}]
[11,15,null,1.986712962962963E-2,1.986712962962963E-2,{"$f":"IF( ISBLANK(A552),\"\",IF(ISBLANK(B552),\"\",VLOOKUP(B552,Teams!A$2:B$95,2,0)))","v":"Aves"},{"$f":"IF(ISBLANK(A552),\"\",VLOOKUP(A552,Etappe!A$2:B$13,2,FALSE))","v":"Rutten - Bant"}]
[11,31,null,2.0368750000000001E-2,2.0368750000000001E-2,{"$f":"IF( ISBLANK(A553),\"\",IF(ISBLANK(B553),\"\",VLOOKUP(B553,Teams!A$2:B$95,2,0)))","v":"fam.Dekker Draaft Door"},{"$f":"IF(ISBLANK(A553),\"\",VLOOKUP(A553,Etappe!A$2:B$13,2,FALSE))","v":"Rutten - Bant"}]
[11,6,null,2.042986111111111E-2,2.042986111111111E-2,{"$f":"IF( ISBLANK(A554),\"\",IF(ISBLANK(B554),\"\",VLOOKUP(B554,Teams!A$2:B$95,2,0)))","v":"Running Ruijters"},{"$f":"IF(ISBLANK(A554),\"\",VLOOKUP(A554,Etappe!A$2:B$13,2,FALSE))","v":"Rutten - Bant"}]
[11,7,null,2.0791203703703704E-2,2.0791203703703704E-2,{"$f":"IF( ISBLANK(A555),\"\",IF(ISBLANK(B555),\"\",VLOOKUP(B555,Teams!A$2:B$95,2,0)))","v":"ASV Rutten"},{"$f":"IF(ISBLANK(A555),\"\",VLOOKUP(A555,Etappe!A$2:B$13,2,FALSE))","v":"Rutten - Bant"}]
[11,5,null,2.0939467592592593E-2,2.0939467592592593E-2,{"$f":"IF( ISBLANK(A556),\"\",IF(ISBLANK(B556),\"\",VLOOKUP(B556,Teams!A$2:B$95,2,0)))","v":"Dujob"},{"$f":"IF(ISBLANK(A556),\"\",VLOOKUP(A556,Etappe!A$2:B$13,2,FALSE))","v":"Rutten - Bant"}]
[11,21,null,2.1136689814814813E-2,2.1136689814814813E-2,{"$f":"IF( ISBLANK(A557),\"\",IF(ISBLANK(B557),\"\",VLOOKUP(B557,Teams!A$2:B$95,2,0)))","v":"050media"},{"$f":"IF(ISBLANK(A557),\"\",VLOOKUP(A557,Etappe!A$2:B$13,2,FALSE))","v":"Rutten - Bant"}]
[11,19,null,2.1424884259259258E-2,2.1424884259259258E-2,{"$f":"IF( ISBLANK(A558),\"\",IF(ISBLANK(B558),\"\",VLOOKUP(B558,Teams!A$2:B$95,2,0)))","v":"STC Rutten"},{"$f":"IF(ISBLANK(A558),\"\",VLOOKUP(A558,Etappe!A$2:B$13,2,FALSE))","v":"Rutten - Bant"}]
[11,11,null,2.1566319444444444E-2,2.1566319444444444E-2,{"$f":"IF( ISBLANK(A559),\"\",IF(ISBLANK(B559),\"\",VLOOKUP(B559,Teams!A$2:B$95,2,0)))","v":"Kraggenburg 4"},{"$f":"IF(ISBLANK(A559),\"\",VLOOKUP(A559,Etappe!A$2:B$13,2,FALSE))","v":"Rutten - Bant"}]
[11,54,null,2.1706597222222221E-2,2.1706597222222221E-2,{"$f":"IF( ISBLANK(A560),\"\",IF(ISBLANK(B560),\"\",VLOOKUP(B560,Teams!A$2:B$95,2,0)))","v":"De Dijkies"},{"$f":"IF(ISBLANK(A560),\"\",VLOOKUP(A560,Etappe!A$2:B$13,2,FALSE))","v":"Rutten - Bant"}]
[11,34,null,2.1824189814814817E-2,2.1824189814814817E-2,{"$f":"IF( ISBLANK(A561),\"\",IF(ISBLANK(B561),\"\",VLOOKUP(B561,Teams!A$2:B$95,2,0)))","v":"Team 't Voorhuys"},{"$f":"IF(ISBLANK(A561),\"\",VLOOKUP(A561,Etappe!A$2:B$13,2,FALSE))","v":"Rutten - Bant"}]
[11,27,null,2.1975694444444444E-2,2.1975694444444444E-2,{"$f":"IF( ISBLANK(A562),\"\",IF(ISBLANK(B562),\"\",VLOOKUP(B562,Teams!A$2:B$95,2,0)))","v":"Running Team Espel"},{"$f":"IF(ISBLANK(A562),\"\",VLOOKUP(A562,Etappe!A$2:B$13,2,FALSE))","v":"Rutten - Bant"}]
[11,23,null,2.2118634259259261E-2,2.2118634259259261E-2,{"$f":"IF( ISBLANK(A563),\"\",IF(ISBLANK(B563),\"\",VLOOKUP(B563,Teams!A$2:B$95,2,0)))","v":"Seaconcept"},{"$f":"IF(ISBLANK(A563),\"\",VLOOKUP(A563,Etappe!A$2:B$13,2,FALSE))","v":"Rutten - Bant"}]
[11,30,null,2.2139930555555552E-2,2.2139930555555552E-2,{"$f":"IF( ISBLANK(A564),\"\",IF(ISBLANK(B564),\"\",VLOOKUP(B564,Teams!A$2:B$95,2,0)))","v":"Autofirst Minnaard "},{"$f":"IF(ISBLANK(A564),\"\",VLOOKUP(A564,Etappe!A$2:B$13,2,FALSE))","v":"Rutten - Bant"}]
[11,25,null,2.2181944444444445E-2,2.2181944444444445E-2,{"$f":"IF( ISBLANK(A565),\"\",IF(ISBLANK(B565),\"\",VLOOKUP(B565,Teams!A$2:B$95,2,0)))","v":"Hardloop groep Ens"},{"$f":"IF(ISBLANK(A565),\"\",VLOOKUP(A565,Etappe!A$2:B$13,2,FALSE))","v":"Rutten - Bant"}]
[11,32,null,2.2197800925925926E-2,2.2197800925925926E-2,{"$f":"IF( ISBLANK(A566),\"\",IF(ISBLANK(B566),\"\",VLOOKUP(B566,Teams!A$2:B$95,2,0)))","v":"Ber-di-do"},{"$f":"IF(ISBLANK(A566),\"\",VLOOKUP(A566,Etappe!A$2:B$13,2,FALSE))","v":"Rutten - Bant"}]
[11,41,null,2.2211226851851854E-2,2.2211226851851854E-2,{"$f":"IF( ISBLANK(A567),\"\",IF(ISBLANK(B567),\"\",VLOOKUP(B567,Teams!A$2:B$95,2,0)))","v":"Advies en Kies en Runners"},{"$f":"IF(ISBLANK(A567),\"\",VLOOKUP(A567,Etappe!A$2:B$13,2,FALSE))","v":"Rutten - Bant"}]
[11,52,null,2.2234722222222222E-2,2.2234722222222222E-2,{"$f":"IF( ISBLANK(A568),\"\",IF(ISBLANK(B568),\"\",VLOOKUP(B568,Teams!A$2:B$95,2,0)))","v":"Pool-der run4fun"},{"$f":"IF(ISBLANK(A568),\"\",VLOOKUP(A568,Etappe!A$2:B$13,2,FALSE))","v":"Rutten - Bant"}]
[11,47,null,2.2409837962962965E-2,2.2409837962962965E-2,{"$f":"IF( ISBLANK(A569),\"\",IF(ISBLANK(B569),\"\",VLOOKUP(B569,Teams!A$2:B$95,2,0)))","v":"CrossFit Urk"},{"$f":"IF(ISBLANK(A569),\"\",VLOOKUP(A569,Etappe!A$2:B$13,2,FALSE))","v":"Rutten - Bant"}]
[11,22,null,2.2585185185185184E-2,2.2585185185185184E-2,{"$f":"IF( ISBLANK(A570),\"\",IF(ISBLANK(B570),\"\",VLOOKUP(B570,Teams!A$2:B$95,2,0)))","v":"Tollebeek in beweging"},{"$f":"IF(ISBLANK(A570),\"\",VLOOKUP(A570,Etappe!A$2:B$13,2,FALSE))","v":"Rutten - Bant"}]
[11,46,null,2.2835069444444443E-2,2.2835069444444443E-2,{"$f":"IF( ISBLANK(A571),\"\",IF(ISBLANK(B571),\"\",VLOOKUP(B571,Teams!A$2:B$95,2,0)))","v":"Hoekstra Assurantie B.V."},{"$f":"IF(ISBLANK(A571),\"\",VLOOKUP(A571,Etappe!A$2:B$13,2,FALSE))","v":"Rutten - Bant"}]
[11,18,null,2.2923032407407406E-2,2.2923032407407406E-2,{"$f":"IF( ISBLANK(A572),\"\",IF(ISBLANK(B572),\"\",VLOOKUP(B572,Teams!A$2:B$95,2,0)))","v":"Fit Fun/ Anytime"},{"$f":"IF(ISBLANK(A572),\"\",VLOOKUP(A572,Etappe!A$2:B$13,2,FALSE))","v":"Rutten - Bant"}]
[11,28,null,2.2997916666666663E-2,2.2997916666666663E-2,{"$f":"IF( ISBLANK(A573),\"\",IF(ISBLANK(B573),\"\",VLOOKUP(B573,Teams!A$2:B$95,2,0)))","v":"Waterman Onions 1"},{"$f":"IF(ISBLANK(A573),\"\",VLOOKUP(A573,Etappe!A$2:B$13,2,FALSE))","v":"Rutten - Bant"}]
[11,36,null,2.333611111111111E-2,2.333611111111111E-2,{"$f":"IF( ISBLANK(A574),\"\",IF(ISBLANK(B574),\"\",VLOOKUP(B574,Teams!A$2:B$95,2,0)))","v":"Schol op Urk"},{"$f":"IF(ISBLANK(A574),\"\",VLOOKUP(A574,Etappe!A$2:B$13,2,FALSE))","v":"Rutten - Bant"}]
[11,50,null,2.338449074074074E-2,2.338449074074074E-2,{"$f":"IF( ISBLANK(A575),\"\",IF(ISBLANK(B575),\"\",VLOOKUP(B575,Teams!A$2:B$95,2,0)))","v":"Nick & de rest"},{"$f":"IF(ISBLANK(A575),\"\",VLOOKUP(A575,Etappe!A$2:B$13,2,FALSE))","v":"Rutten - Bant"}]
[11,56,null,2.3469212962962963E-2,2.3469212962962963E-2,{"$f":"IF( ISBLANK(A576),\"\",IF(ISBLANK(B576),\"\",VLOOKUP(B576,Teams!A$2:B$95,2,0)))","v":"De Broodlopers"},{"$f":"IF(ISBLANK(A576),\"\",VLOOKUP(A576,Etappe!A$2:B$13,2,FALSE))","v":"Rutten - Bant"}]
[11,26,"v",2.3489814814814814E-2,2.1140833333333334E-2,{"$f":"IF( ISBLANK(A577),\"\",IF(ISBLANK(B577),\"\",VLOOKUP(B577,Teams!A$2:B$95,2,0)))","v":"van Vilsteren Marknesse.nl"},{"$f":"IF(ISBLANK(A577),\"\",VLOOKUP(A577,Etappe!A$2:B$13,2,FALSE))","v":"Rutten - Bant"}]
[11,38,null,2.3580555555555559E-2,2.3580555555555559E-2,{"$f":"IF( ISBLANK(A578),\"\",IF(ISBLANK(B578),\"\",VLOOKUP(B578,Teams!A$2:B$95,2,0)))","v":"Vegterlopers"},{"$f":"IF(ISBLANK(A578),\"\",VLOOKUP(A578,Etappe!A$2:B$13,2,FALSE))","v":"Rutten - Bant"}]
[11,49,null,2.3592476851851851E-2,{"$f":"IF(ISBLANK(A579),\"\",IF(C579=\"v\",0.9*D579,D579))","v":2.3592476851851851E-2},{"$f":"IF( ISBLANK(A579),\"\",IF(ISBLANK(B579),\"\",VLOOKUP(B579,Teams!A$2:B$95,2,0)))","v":"Flynth"},{"$f":"IF(ISBLANK(A579),\"\",VLOOKUP(A579,Etappe!A$2:B$13,2,FALSE))","v":"Rutten - Bant"}]
[11,16,null,2.3630439814814816E-2,2.3630439814814816E-2,{"$f":"IF( ISBLANK(A580),\"\",IF(ISBLANK(B580),\"\",VLOOKUP(B580,Teams!A$2:B$95,2,0)))","v":"Team Nagele"},{"$f":"IF(ISBLANK(A580),\"\",VLOOKUP(A580,Etappe!A$2:B$13,2,FALSE))","v":"Rutten - Bant"}]
[11,33,null,2.3909027777777783E-2,2.3909027777777783E-2,{"$f":"IF( ISBLANK(A581),\"\",IF(ISBLANK(B581),\"\",VLOOKUP(B581,Teams!A$2:B$95,2,0)))","v":"woensdagavondlopers"},{"$f":"IF(ISBLANK(A581),\"\",VLOOKUP(A581,Etappe!A$2:B$13,2,FALSE))","v":"Rutten - Bant"}]
[11,24,null,2.3982060185185183E-2,2.3982060185185183E-2,{"$f":"IF( ISBLANK(A582),\"\",IF(ISBLANK(B582),\"\",VLOOKUP(B582,Teams!A$2:B$95,2,0)))","v":"Ter Haar Family & Friends"},{"$f":"IF(ISBLANK(A582),\"\",VLOOKUP(A582,Etappe!A$2:B$13,2,FALSE))","v":"Rutten - Bant"}]
[11,13,"v",2.4067013888888891E-2,2.1660312500000004E-2,{"$f":"IF( ISBLANK(A583),\"\",IF(ISBLANK(B583),\"\",VLOOKUP(B583,Teams!A$2:B$95,2,0)))","v":"KLIF18 ladies"},{"$f":"IF(ISBLANK(A583),\"\",VLOOKUP(A583,Etappe!A$2:B$13,2,FALSE))","v":"Rutten - Bant"}]
[11,42,null,2.430324074074074E-2,2.430324074074074E-2,{"$f":"IF( ISBLANK(A584),\"\",IF(ISBLANK(B584),\"\",VLOOKUP(B584,Teams!A$2:B$95,2,0)))","v":"Kinderopvang Pipo"},{"$f":"IF(ISBLANK(A584),\"\",VLOOKUP(A584,Etappe!A$2:B$13,2,FALSE))","v":"Rutten - Bant"}]
[11,29,"v",2.4372337962962964E-2,2.1935104166666667E-2,{"$f":"IF( ISBLANK(A585),\"\",IF(ISBLANK(B585),\"\",VLOOKUP(B585,Teams!A$2:B$95,2,0)))","v":"Waterman Onions Pink Ladies"},{"$f":"IF(ISBLANK(A585),\"\",VLOOKUP(A585,Etappe!A$2:B$13,2,FALSE))","v":"Rutten - Bant"}]
[11,14,null,2.4437384259259259E-2,2.4437384259259259E-2,{"$f":"IF( ISBLANK(A586),\"\",IF(ISBLANK(B586),\"\",VLOOKUP(B586,Teams!A$2:B$95,2,0)))","v":"Vivan komt dr’an"},{"$f":"IF(ISBLANK(A586),\"\",VLOOKUP(A586,Etappe!A$2:B$13,2,FALSE))","v":"Rutten - Bant"}]
[11,39,"v",2.4543750000000003E-2,2.2089375000000005E-2,{"$f":"IF( ISBLANK(A587),\"\",IF(ISBLANK(B587),\"\",VLOOKUP(B587,Teams!A$2:B$95,2,0)))","v":"Suplacon"},{"$f":"IF(ISBLANK(A587),\"\",VLOOKUP(A587,Etappe!A$2:B$13,2,FALSE))","v":"Rutten - Bant"}]
[11,20,"v",2.4660879629629626E-2,2.2194791666666665E-2,{"$f":"IF( ISBLANK(A588),\"\",IF(ISBLANK(B588),\"\",VLOOKUP(B588,Teams!A$2:B$95,2,0)))","v":"Creil"},{"$f":"IF(ISBLANK(A588),\"\",VLOOKUP(A588,Etappe!A$2:B$13,2,FALSE))","v":"Rutten - Bant"}]
[11,35,"v",2.5122453703703706E-2,2.2610208333333336E-2,{"$f":"IF( ISBLANK(A589),\"\",IF(ISBLANK(B589),\"\",VLOOKUP(B589,Teams!A$2:B$95,2,0)))","v":"Waterman Onions 2"},{"$f":"IF(ISBLANK(A589),\"\",VLOOKUP(A589,Etappe!A$2:B$13,2,FALSE))","v":"Rutten - Bant"}]
[11,51,"v",2.5378472222222222E-2,2.2840625E-2,{"$f":"IF( ISBLANK(A590),\"\",IF(ISBLANK(B590),\"\",VLOOKUP(B590,Teams!A$2:B$95,2,0)))","v":"Van Urk voeding"},{"$f":"IF(ISBLANK(A590),\"\",VLOOKUP(A590,Etappe!A$2:B$13,2,FALSE))","v":"Rutten - Bant"}]
[11,37,"v",2.5642592592592592E-2,2.3078333333333333E-2,{"$f":"IF( ISBLANK(A591),\"\",IF(ISBLANK(B591),\"\",VLOOKUP(B591,Teams!A$2:B$95,2,0)))","v":"Van Staveren"},{"$f":"IF(ISBLANK(A591),\"\",VLOOKUP(A591,Etappe!A$2:B$13,2,FALSE))","v":"Rutten - Bant"}]
[11,45,null,2.5856365740740742E-2,2.5856365740740742E-2,{"$f":"IF( ISBLANK(A592),\"\",IF(ISBLANK(B592),\"\",VLOOKUP(B592,Teams!A$2:B$95,2,0)))","v":"Berechja College "},{"$f":"IF(ISBLANK(A592),\"\",VLOOKUP(A592,Etappe!A$2:B$13,2,FALSE))","v":"Rutten - Bant"}]
[11,40,"v",2.6396643518518517E-2,2.3756979166666668E-2,{"$f":"IF( ISBLANK(A593),\"\",IF(ISBLANK(B593),\"\",VLOOKUP(B593,Teams!A$2:B$95,2,0)))","v":"Mercatus, lopen op z’n best"},{"$f":"IF(ISBLANK(A593),\"\",VLOOKUP(A593,Etappe!A$2:B$13,2,FALSE))","v":"Rutten - Bant"}]
[11,55,"v",2.7086805555555555E-2,2.4378125E-2,{"$f":"IF( ISBLANK(A594),\"\",IF(ISBLANK(B594),\"\",VLOOKUP(B594,Teams!A$2:B$95,2,0)))","v":"Fifty-Five"},{"$f":"IF(ISBLANK(A594),\"\",VLOOKUP(A594,Etappe!A$2:B$13,2,FALSE))","v":"Rutten - Bant"}]
[11,43,"v",2.7133101851851849E-2,2.4419791666666666E-2,{"$f":"IF( ISBLANK(A595),\"\",IF(ISBLANK(B595),\"\",VLOOKUP(B595,Teams!A$2:B$95,2,0)))","v":"Lerøy Seafood NL"},{"$f":"IF(ISBLANK(A595),\"\",VLOOKUP(A595,Etappe!A$2:B$13,2,FALSE))","v":"Rutten - Bant"}]
[12,2,null,1.3839583333333334E-2,1.3839583333333334E-2,{"$f":"IF( ISBLANK(A596),\"\",IF(ISBLANK(B596),\"\",VLOOKUP(B596,Teams!A$2:B$95,2,0)))","v":"hardloopbegeleidingopmaat/klif 18"},{"$f":"IF(ISBLANK(A596),\"\",VLOOKUP(A596,Etappe!A$2:B$13,2,FALSE))","v":"Bant - Emmeloord"}]
[12,1,null,1.3991782407407408E-2,1.3991782407407408E-2,{"$f":"IF( ISBLANK(A597),\"\",IF(ISBLANK(B597),\"\",VLOOKUP(B597,Teams!A$2:B$95,2,0)))","v":"De Corner"},{"$f":"IF(ISBLANK(A597),\"\",VLOOKUP(A597,Etappe!A$2:B$13,2,FALSE))","v":"Bant - Emmeloord"}]
[12,4,null,1.4196180555555556E-2,1.4196180555555556E-2,{"$f":"IF( ISBLANK(A598),\"\",IF(ISBLANK(B598),\"\",VLOOKUP(B598,Teams!A$2:B$95,2,0)))","v":"Klif 18"},{"$f":"IF(ISBLANK(A598),\"\",VLOOKUP(A598,Etappe!A$2:B$13,2,FALSE))","v":"Bant - Emmeloord"}]
[12,31,null,1.4914467592592592E-2,1.4914467592592592E-2,{"$f":"IF( ISBLANK(A599),\"\",IF(ISBLANK(B599),\"\",VLOOKUP(B599,Teams!A$2:B$95,2,0)))","v":"fam.Dekker Draaft Door"},{"$f":"IF(ISBLANK(A599),\"\",VLOOKUP(A599,Etappe!A$2:B$13,2,FALSE))","v":"Bant - Emmeloord"}]
[12,9,null,1.5106597222222221E-2,1.5106597222222221E-2,{"$f":"IF( ISBLANK(A600),\"\",IF(ISBLANK(B600),\"\",VLOOKUP(B600,Teams!A$2:B$95,2,0)))","v":"VAN BLOOIS SPORTADVIES"},{"$f":"IF(ISBLANK(A600),\"\",VLOOKUP(A600,Etappe!A$2:B$13,2,FALSE))","v":"Bant - Emmeloord"}]
[12,24,null,1.5162615740740742E-2,1.5162615740740742E-2,{"$f":"IF( ISBLANK(A601),\"\",IF(ISBLANK(B601),\"\",VLOOKUP(B601,Teams!A$2:B$95,2,0)))","v":"Ter Haar Family & Friends"},{"$f":"IF(ISBLANK(A601),\"\",VLOOKUP(A601,Etappe!A$2:B$13,2,FALSE))","v":"Bant - Emmeloord"}]
[12,3,null,1.5204513888888889E-2,1.5204513888888889E-2,{"$f":"IF( ISBLANK(A602),\"\",IF(ISBLANK(B602),\"\",VLOOKUP(B602,Teams!A$2:B$95,2,0)))","v":"Quick Jewels"},{"$f":"IF(ISBLANK(A602),\"\",VLOOKUP(A602,Etappe!A$2:B$13,2,FALSE))","v":"Bant - Emmeloord"}]
[12,26,null,1.557638888888889E-2,1.557638888888889E-2,{"$f":"IF( ISBLANK(A603),\"\",IF(ISBLANK(B603),\"\",VLOOKUP(B603,Teams!A$2:B$95,2,0)))","v":"van Vilsteren Marknesse.nl"},{"$f":"IF(ISBLANK(A603),\"\",VLOOKUP(A603,Etappe!A$2:B$13,2,FALSE))","v":"Bant - Emmeloord"}]
[12,8,null,1.6005324074074075E-2,1.6005324074074075E-2,{"$f":"IF( ISBLANK(A604),\"\",IF(ISBLANK(B604),\"\",VLOOKUP(B604,Teams!A$2:B$95,2,0)))","v":"Hardloopteam Bant"},{"$f":"IF(ISBLANK(A604),\"\",VLOOKUP(A604,Etappe!A$2:B$13,2,FALSE))","v":"Bant - Emmeloord"}]
[12,32,null,1.6074768518518519E-2,1.6074768518518519E-2,{"$f":"IF( ISBLANK(A605),\"\",IF(ISBLANK(B605),\"\",VLOOKUP(B605,Teams!A$2:B$95,2,0)))","v":"Ber-di-do"},{"$f":"IF(ISBLANK(A605),\"\",VLOOKUP(A605,Etappe!A$2:B$13,2,FALSE))","v":"Bant - Emmeloord"}]
[12,44,null,1.7029629629629627E-2,1.7029629629629627E-2,{"$f":"IF( ISBLANK(A606),\"\",IF(ISBLANK(B606),\"\",VLOOKUP(B606,Teams!A$2:B$95,2,0)))","v":"Tafelronde Noordoostpolder"},{"$f":"IF(ISBLANK(A606),\"\",VLOOKUP(A606,Etappe!A$2:B$13,2,FALSE))","v":"Bant - Emmeloord"}]
[12,47,null,1.7242708333333332E-2,1.7242708333333332E-2,{"$f":"IF( ISBLANK(A607),\"\",IF(ISBLANK(B607),\"\",VLOOKUP(B607,Teams!A$2:B$95,2,0)))","v":"CrossFit Urk"},{"$f":"IF(ISBLANK(A607),\"\",VLOOKUP(A607,Etappe!A$2:B$13,2,FALSE))","v":"Bant - Emmeloord"}]
[12,11,null,1.733599537037037E-2,1.733599537037037E-2,{"$f":"IF( ISBLANK(A608),\"\",IF(ISBLANK(B608),\"\",VLOOKUP(B608,Teams!A$2:B$95,2,0)))","v":"Kraggenburg 4"},{"$f":"IF(ISBLANK(A608),\"\",VLOOKUP(A608,Etappe!A$2:B$13,2,FALSE))","v":"Bant - Emmeloord"}]
[12,17,null,1.7553703703703707E-2,1.7553703703703707E-2,{"$f":"IF( ISBLANK(A609),\"\",IF(ISBLANK(B609),\"\",VLOOKUP(B609,Teams!A$2:B$95,2,0)))","v":"SAMEN ONDER WEG"},{"$f":"IF(ISBLANK(A609),\"\",VLOOKUP(A609,Etappe!A$2:B$13,2,FALSE))","v":"Bant - Emmeloord"}]
[12,6,null,1.7628240740740739E-2,1.7628240740740739E-2,{"$f":"IF( ISBLANK(A610),\"\",IF(ISBLANK(B610),\"\",VLOOKUP(B610,Teams!A$2:B$95,2,0)))","v":"Running Ruijters"},{"$f":"IF(ISBLANK(A610),\"\",VLOOKUP(A610,Etappe!A$2:B$13,2,FALSE))","v":"Bant - Emmeloord"}]
[12,5,null,1.7890046296296296E-2,1.7890046296296296E-2,{"$f":"IF( ISBLANK(A611),\"\",IF(ISBLANK(B611),\"\",VLOOKUP(B611,Teams!A$2:B$95,2,0)))","v":"Dujob"},{"$f":"IF(ISBLANK(A611),\"\",VLOOKUP(A611,Etappe!A$2:B$13,2,FALSE))","v":"Bant - Emmeloord"}]
[12,50,null,1.7989236111111109E-2,1.7989236111111109E-2,{"$f":"IF( ISBLANK(A612),\"\",IF(ISBLANK(B612),\"\",VLOOKUP(B612,Teams!A$2:B$95,2,0)))","v":"Nick & de rest"},{"$f":"IF(ISBLANK(A612),\"\",VLOOKUP(A612,Etappe!A$2:B$13,2,FALSE))","v":"Bant - Emmeloord"}]
[12,15,"v",1.8074189814814814E-2,1.6266770833333333E-2,{"$f":"IF( ISBLANK(A613),\"\",IF(ISBLANK(B613),\"\",VLOOKUP(B613,Teams!A$2:B$95,2,0)))","v":"Aves"},{"$f":"IF(ISBLANK(A613),\"\",VLOOKUP(A613,Etappe!A$2:B$13,2,FALSE))","v":"Bant - Emmeloord"}]
[12,16,null,1.8324537037037038E-2,1.8324537037037038E-2,{"$f":"IF( ISBLANK(A614),\"\",IF(ISBLANK(B614),\"\",VLOOKUP(B614,Teams!A$2:B$95,2,0)))","v":"Team Nagele"},{"$f":"IF(ISBLANK(A614),\"\",VLOOKUP(A614,Etappe!A$2:B$13,2,FALSE))","v":"Bant - Emmeloord"}]
[12,25,"v",1.8420717592592593E-2,1.6578645833333332E-2,{"$f":"IF( ISBLANK(A615),\"\",IF(ISBLANK(B615),\"\",VLOOKUP(B615,Teams!A$2:B$95,2,0)))","v":"Hardloop groep Ens"},{"$f":"IF(ISBLANK(A615),\"\",VLOOKUP(A615,Etappe!A$2:B$13,2,FALSE))","v":"Bant - Emmeloord"}]
[12,20,null,1.8425810185185184E-2,1.8425810185185184E-2,{"$f":"IF( ISBLANK(A616),\"\",IF(ISBLANK(B616),\"\",VLOOKUP(B616,Teams!A$2:B$95,2,0)))","v":"Creil"},{"$f":"IF(ISBLANK(A616),\"\",VLOOKUP(A616,Etappe!A$2:B$13,2,FALSE))","v":"Bant - Emmeloord"}]
[12,22,null,1.8431134259259258E-2,1.8431134259259258E-2,{"$f":"IF( ISBLANK(A617),\"\",IF(ISBLANK(B617),\"\",VLOOKUP(B617,Teams!A$2:B$95,2,0)))","v":"Tollebeek in beweging"},{"$f":"IF(ISBLANK(A617),\"\",VLOOKUP(A617,Etappe!A$2:B$13,2,FALSE))","v":"Bant - Emmeloord"}]
[12,14,null,1.8930324074074075E-2,1.8930324074074075E-2,{"$f":"IF( ISBLANK(A618),\"\",IF(ISBLANK(B618),\"\",VLOOKUP(B618,Teams!A$2:B$95,2,0)))","v":"Vivan komt dr’an"},{"$f":"IF(ISBLANK(A618),\"\",VLOOKUP(A618,Etappe!A$2:B$13,2,FALSE))","v":"Bant - Emmeloord"}]
[12,18,"v",1.9285532407407407E-2,1.7356979166666668E-2,{"$f":"IF( ISBLANK(A619),\"\",IF(ISBLANK(B619),\"\",VLOOKUP(B619,Teams!A$2:B$95,2,0)))","v":"Fit Fun/ Anytime"},{"$f":"IF(ISBLANK(A619),\"\",VLOOKUP(A619,Etappe!A$2:B$13,2,FALSE))","v":"Bant - Emmeloord"}]
[12,41,"v",1.929386574074074E-2,1.7364479166666665E-2,{"$f":"IF( ISBLANK(A620),\"\",IF(ISBLANK(B620),\"\",VLOOKUP(B620,Teams!A$2:B$95,2,0)))","v":"Advies en Kies en Runners"},{"$f":"IF(ISBLANK(A620),\"\",VLOOKUP(A620,Etappe!A$2:B$13,2,FALSE))","v":"Bant - Emmeloord"}]
[12,21,null,1.9313657407407408E-2,1.9313657407407408E-2,{"$f":"IF( ISBLANK(A621),\"\",IF(ISBLANK(B621),\"\",VLOOKUP(B621,Teams!A$2:B$95,2,0)))","v":"050media"},{"$f":"IF(ISBLANK(A621),\"\",VLOOKUP(A621,Etappe!A$2:B$13,2,FALSE))","v":"Bant - Emmeloord"}]
[12,46,null,1.9320254629629632E-2,1.9320254629629632E-2,{"$f":"IF( ISBLANK(A622),\"\",IF(ISBLANK(B622),\"\",VLOOKUP(B622,Teams!A$2:B$95,2,0)))","v":"Hoekstra Assurantie B.V."},{"$f":"IF(ISBLANK(A622),\"\",VLOOKUP(A622,Etappe!A$2:B$13,2,FALSE))","v":"Bant - Emmeloord"}]
[12,27,null,1.9349537037037037E-2,1.9349537037037037E-2,{"$f":"IF( ISBLANK(A623),\"\",IF(ISBLANK(B623),\"\",VLOOKUP(B623,Teams!A$2:B$95,2,0)))","v":"Running Team Espel"},{"$f":"IF(ISBLANK(A623),\"\",VLOOKUP(A623,Etappe!A$2:B$13,2,FALSE))","v":"Bant - Emmeloord"}]
[12,30,null,1.9421180555555556E-2,1.9421180555555556E-2,{"$f":"IF( ISBLANK(A624),\"\",IF(ISBLANK(B624),\"\",VLOOKUP(B624,Teams!A$2:B$95,2,0)))","v":"Autofirst Minnaard "},{"$f":"IF(ISBLANK(A624),\"\",VLOOKUP(A624,Etappe!A$2:B$13,2,FALSE))","v":"Bant - Emmeloord"}]
[12,37,null,1.9553472222222222E-2,1.9553472222222222E-2,{"$f":"IF( ISBLANK(A625),\"\",IF(ISBLANK(B625),\"\",VLOOKUP(B625,Teams!A$2:B$95,2,0)))","v":"Van Staveren"},{"$f":"IF(ISBLANK(A625),\"\",VLOOKUP(A625,Etappe!A$2:B$13,2,FALSE))","v":"Bant - Emmeloord"}]
[12,13,"v",1.9596180555555554E-2,1.7636562499999998E-2,{"$f":"IF( ISBLANK(A626),\"\",IF(ISBLANK(B626),\"\",VLOOKUP(B626,Teams!A$2:B$95,2,0)))","v":"KLIF18 ladies"},{"$f":"IF(ISBLANK(A626),\"\",VLOOKUP(A626,Etappe!A$2:B$13,2,FALSE))","v":"Bant - Emmeloord"}]
[12,10,null,1.9705439814814815E-2,1.9705439814814815E-2,{"$f":"IF( ISBLANK(A627),\"\",IF(ISBLANK(B627),\"\",VLOOKUP(B627,Teams!A$2:B$95,2,0)))","v":"RUN TEAM MARKNESSE"},{"$f":"IF(ISBLANK(A627),\"\",VLOOKUP(A627,Etappe!A$2:B$13,2,FALSE))","v":"Bant - Emmeloord"}]
[12,34,null,1.9984259259259261E-2,1.9984259259259261E-2,{"$f":"IF( ISBLANK(A628),\"\",IF(ISBLANK(B628),\"\",VLOOKUP(B628,Teams!A$2:B$95,2,0)))","v":"Team 't Voorhuys"},{"$f":"IF(ISBLANK(A628),\"\",VLOOKUP(A628,Etappe!A$2:B$13,2,FALSE))","v":"Bant - Emmeloord"}]
[12,7,null,2.0015393518518519E-2,2.0015393518518519E-2,{"$f":"IF( ISBLANK(A629),\"\",IF(ISBLANK(B629),\"\",VLOOKUP(B629,Teams!A$2:B$95,2,0)))","v":"ASV Rutten"},{"$f":"IF(ISBLANK(A629),\"\",VLOOKUP(A629,Etappe!A$2:B$13,2,FALSE))","v":"Bant - Emmeloord"}]
[12,54,null,2.0032060185185184E-2,2.0032060185185184E-2,{"$f":"IF( ISBLANK(A630),\"\",IF(ISBLANK(B630),\"\",VLOOKUP(B630,Teams!A$2:B$95,2,0)))","v":"De Dijkies"},{"$f":"IF(ISBLANK(A630),\"\",VLOOKUP(A630,Etappe!A$2:B$13,2,FALSE))","v":"Bant - Emmeloord"}]
[12,43,null,2.0097800925925925E-2,2.0097800925925925E-2,{"$f":"IF( ISBLANK(A631),\"\",IF(ISBLANK(B631),\"\",VLOOKUP(B631,Teams!A$2:B$95,2,0)))","v":"Lerøy Seafood NL"},{"$f":"IF(ISBLANK(A631),\"\",VLOOKUP(A631,Etappe!A$2:B$13,2,FALSE))","v":"Bant - Emmeloord"}]
[12,49,null,2.0157523148148147E-2,2.0157523148148147E-2,{"$f":"IF( ISBLANK(A632),\"\",IF(ISBLANK(B632),\"\",VLOOKUP(B632,Teams!A$2:B$95,2,0)))","v":"Flynth"},{"$f":"IF(ISBLANK(A632),\"\",VLOOKUP(A632,Etappe!A$2:B$13,2,FALSE))","v":"Bant - Emmeloord"}]
[12,52,null,2.0176736111111111E-2,2.0176736111111111E-2,{"$f":"IF( ISBLANK(A633),\"\",IF(ISBLANK(B633),\"\",VLOOKUP(B633,Teams!A$2:B$95,2,0)))","v":"Pool-der run4fun"},{"$f":"IF(ISBLANK(A633),\"\",VLOOKUP(A633,Etappe!A$2:B$13,2,FALSE))","v":"Bant - Emmeloord"}]
[12,42,null,2.0677662037037036E-2,2.0677662037037036E-2,{"$f":"IF( ISBLANK(A634),\"\",IF(ISBLANK(B634),\"\",VLOOKUP(B634,Teams!A$2:B$95,2,0)))","v":"Kinderopvang Pipo"},{"$f":"IF(ISBLANK(A634),\"\",VLOOKUP(A634,Etappe!A$2:B$13,2,FALSE))","v":"Bant - Emmeloord"}]
[12,45,"v",2.0857754629629629E-2,1.8771979166666668E-2,{"$f":"IF( ISBLANK(A635),\"\",IF(ISBLANK(B635),\"\",VLOOKUP(B635,Teams!A$2:B$95,2,0)))","v":"Berechja College "},{"$f":"IF(ISBLANK(A635),\"\",VLOOKUP(A635,Etappe!A$2:B$13,2,FALSE))","v":"Bant - Emmeloord"}]
[12,29,"v",2.0862500000000003E-2,1.8776250000000001E-2,{"$f":"IF( ISBLANK(A636),\"\",IF(ISBLANK(B636),\"\",VLOOKUP(B636,Teams!A$2:B$95,2,0)))","v":"Waterman Onions Pink Ladies"},{"$f":"IF(ISBLANK(A636),\"\",VLOOKUP(A636,Etappe!A$2:B$13,2,FALSE))","v":"Bant - Emmeloord"}]
[12,33,null,2.0899768518518519E-2,2.0899768518518519E-2,{"$f":"IF( ISBLANK(A637),\"\",IF(ISBLANK(B637),\"\",VLOOKUP(B637,Teams!A$2:B$95,2,0)))","v":"woensdagavondlopers"},{"$f":"IF(ISBLANK(A637),\"\",VLOOKUP(A637,Etappe!A$2:B$13,2,FALSE))","v":"Bant - Emmeloord"}]
[12,12,null,2.0964814814814815E-2,2.0964814814814815E-2,{"$f":"IF( ISBLANK(A638),\"\",IF(ISBLANK(B638),\"\",VLOOKUP(B638,Teams!A$2:B$95,2,0)))","v":"Hekwerkwebshop.nl"},{"$f":"IF(ISBLANK(A638),\"\",VLOOKUP(A638,Etappe!A$2:B$13,2,FALSE))","v":"Bant - Emmeloord"}]
[12,23,null,2.1098263888888889E-2,2.1098263888888889E-2,{"$f":"IF( ISBLANK(A639),\"\",IF(ISBLANK(B639),\"\",VLOOKUP(B639,Teams!A$2:B$95,2,0)))","v":"Seaconcept"},{"$f":"IF(ISBLANK(A639),\"\",VLOOKUP(A639,Etappe!A$2:B$13,2,FALSE))","v":"Bant - Emmeloord"}]
[12,39,null,2.1153587962962964E-2,2.1153587962962964E-2,{"$f":"IF( ISBLANK(A640),\"\",IF(ISBLANK(B640),\"\",VLOOKUP(B640,Teams!A$2:B$95,2,0)))","v":"Suplacon"},{"$f":"IF(ISBLANK(A640),\"\",VLOOKUP(A640,Etappe!A$2:B$13,2,FALSE))","v":"Bant - Emmeloord"}]
[12,51,null,2.1182523148148152E-2,2.1182523148148152E-2,{"$f":"IF( ISBLANK(A641),\"\",IF(ISBLANK(B641),\"\",VLOOKUP(B641,Teams!A$2:B$95,2,0)))","v":"Van Urk voeding"},{"$f":"IF(ISBLANK(A641),\"\",VLOOKUP(A641,Etappe!A$2:B$13,2,FALSE))","v":"Bant - Emmeloord"}]
[12,19,"v",2.1355092592592592E-2,1.9219583333333335E-2,{"$f":"IF( ISBLANK(A642),\"\",IF(ISBLANK(B642),\"\",VLOOKUP(B642,Teams!A$2:B$95,2,0)))","v":"STC Rutten"},{"$f":"IF(ISBLANK(A642),\"\",VLOOKUP(A642,Etappe!A$2:B$13,2,FALSE))","v":"Bant - Emmeloord"}]
[12,38,null,2.1546412037037038E-2,{"$f":"IF(ISBLANK(A643),\"\",IF(C643=\"v\",0.9*D643,D643))","v":2.1546412037037038E-2},{"$f":"IF( ISBLANK(A643),\"\",IF(ISBLANK(B643),\"\",VLOOKUP(B643,Teams!A$2:B$95,2,0)))","v":"Vegterlopers"},{"$f":"IF(ISBLANK(A643),\"\",VLOOKUP(A643,Etappe!A$2:B$13,2,FALSE))","v":"Bant - Emmeloord"}]
[12,28,"v",2.1573958333333334E-2,1.9416562500000002E-2,{"$f":"IF( ISBLANK(A644),\"\",IF(ISBLANK(B644),\"\",VLOOKUP(B644,Teams!A$2:B$95,2,0)))","v":"Waterman Onions 1"},{"$f":"IF(ISBLANK(A644),\"\",VLOOKUP(A644,Etappe!A$2:B$13,2,FALSE))","v":"Bant - Emmeloord"}]
[12,56,null,2.1930902777777778E-2,2.1930902777777778E-2,{"$f":"IF( ISBLANK(A645),\"\",IF(ISBLANK(B645),\"\",VLOOKUP(B645,Teams!A$2:B$95,2,0)))","v":"De Broodlopers"},{"$f":"IF(ISBLANK(A645),\"\",VLOOKUP(A645,Etappe!A$2:B$13,2,FALSE))","v":"Bant - Emmeloord"}]
[12,55,null,2.1957291666666667E-2,2.1957291666666667E-2,{"$f":"IF( ISBLANK(A646),\"\",IF(ISBLANK(B646),\"\",VLOOKUP(B646,Teams!A$2:B$95,2,0)))","v":"Fifty-Five"},{"$f":"IF(ISBLANK(A646),\"\",VLOOKUP(A646,Etappe!A$2:B$13,2,FALSE))","v":"Bant - Emmeloord"}]
[12,36,"v",2.2962847222222221E-2,2.0666562499999999E-2,{"$f":"IF( ISBLANK(A647),\"\",IF(ISBLANK(B647),\"\",VLOOKUP(B647,Teams!A$2:B$95,2,0)))","v":"Schol op Urk"},{"$f":"IF(ISBLANK(A647),\"\",VLOOKUP(A647,Etappe!A$2:B$13,2,FALSE))","v":"Bant - Emmeloord"}]
[12,40,null,2.3572916666666666E-2,2.3572916666666666E-2,{"$f":"IF( ISBLANK(A648),\"\",IF(ISBLANK(B648),\"\",VLOOKUP(B648,Teams!A$2:B$95,2,0)))","v":"Mercatus, lopen op z’n best"},{"$f":"IF(ISBLANK(A648),\"\",VLOOKUP(A648,Etappe!A$2:B$13,2,FALSE))","v":"Bant - Emmeloord"}]
[12,35,"v",3.2638888888888891E-2,2.9375000000000002E-2,{"$f":"IF( ISBLANK(A649),\"\",IF(ISBLANK(B649),\"\",VLOOKUP(B649,Teams!A$2:B$95,2,0)))","v":"Waterman Onions 2"},{"$f":"IF(ISBLANK(A649),\"\",VLOOKUP(A649,Etappe!A$2:B$13,2,FALSE))","v":"Bant - Emmeloord"}]
[null,null,null,null,"",{"$f":"IF( ISBLANK(A650),\"\",IF(ISBLANK(B650),\"\",VLOOKUP(B650,Teams!A$2:B$95,2,0)))","v":""},{"$f":"IF(ISBLANK(A650),\"\",VLOOKUP(A650,Etappe!A$2:B$13,2,FALSE))","v":""}]
[null,null,null,null,"",{"$f":"IF( ISBLANK(A651),\"\",IF(ISBLANK(B651),\"\",VLOOKUP(B651,Teams!A$2:B$95,2,0)))","v":""},{"$f":"IF(ISBLANK(A651),\"\",VLOOKUP(A651,Etappe!A$2:B$13,2,FALSE))","v":""}]
[null,null,null,null,"",{"$f":"IF( ISBLANK(A652),\"\",IF(ISBLANK(B652),\"\",VLOOKUP(B652,Teams!A$2:B$95,2,0)))","v":""},{"$f":"IF(ISBLANK(A652),\"\",VLOOKUP(A652,Etappe!A$2:B$13,2,FALSE))","v":""}]
[null,null,null,null,"",{"$f":"IF( ISBLANK(A653),\"\",IF(ISBLANK(B653),\"\",VLOOKUP(B653,Teams!A$2:B$95,2,0)))","v":""},{"$f":"IF(ISBLANK(A653),\"\",VLOOKUP(A653,Etappe!A$2:B$13,2,FALSE))","v":""}]
[null,null,null,null,"",{"$f":"IF( ISBLANK(A654),\"\",IF(ISBLANK(B654),\"\",VLOOKUP(B654,Teams!A$2:B$95,2,0)))","v":""},{"$f":"IF(ISBLANK(A654),\"\",VLOOKUP(A654,Etappe!A$2:B$13,2,FALSE))","v":""}]
[null,null,null,null,"",{"$f":"IF( ISBLANK(A655),\"\",IF(ISBLANK(B655),\"\",VLOOKUP(B655,Teams!A$2:B$95,2,0)))","v":""},{"$f":"IF(ISBLANK(A655),\"\",VLOOKUP(A655,Etappe!A$2:B$13,2,FALSE))","v":""}]
[null,null,null,null,"",{"$f":"IF( ISBLANK(A656),\"\",IF(ISBLANK(B656),\"\",VLOOKUP(B656,Teams!A$2:B$95,2,0)))","v":""},{"$f":"IF(ISBLANK(A656),\"\",VLOOKUP(A656,Etappe!A$2:B$13,2,FALSE))","v":""}]
[null,null,null,null,"",{"$f":"IF( ISBLANK(A657),\"\",IF(ISBLANK(B657),\"\",VLOOKUP(B657,Teams!A$2:B$95,2,0)))","v":""},{"$f":"IF(ISBLANK(A657),\"\",VLOOKUP(A657,Etappe!A$2:B$13,2,FALSE))","v":""}]
[null,null,null,null,"",{"$f":"IF( ISBLANK(A658),\"\",IF(ISBLANK(B658),\"\",VLOOKUP(B658,Teams!A$2:B$95,2,0)))","v":""},{"$f":"IF(ISBLANK(A658),\"\",VLOOKUP(A658,Etappe!A$2:B$13,2,FALSE))","v":""}]
[null,null,null,null,"",{"$f":"IF( ISBLANK(A659),\"\",IF(ISBLANK(B659),\"\",VLOOKUP(B659,Teams!A$2:B$95,2,0)))","v":""},{"$f":"IF(ISBLANK(A659),\"\",VLOOKUP(A659,Etappe!A$2:B$13,2,FALSE))","v":""}]
[null,null,null,null,"",{"$f":"IF( ISBLANK(A660),\"\",IF(ISBLANK(B660),\"\",VLOOKUP(B660,Teams!A$2:B$95,2,0)))","v":""},{"$f":"IF(ISBLANK(A660),\"\",VLOOKUP(A660,Etappe!A$2:B$13,2,FALSE))","v":""}]
[null,null,null,null,"",{"$f":"IF( ISBLANK(A661),\"\",IF(ISBLANK(B661),\"\",VLOOKUP(B661,Teams!A$2:B$95,2,0)))","v":""},{"$f":"IF(ISBLANK(A661),\"\",VLOOKUP(A661,Etappe!A$2:B$13,2,FALSE))","v":""}]
[null,null,null,null,"",{"$f":"IF( ISBLANK(A662),\"\",IF(ISBLANK(B662),\"\",VLOOKUP(B662,Teams!A$2:B$95,2,0)))","v":""},{"$f":"IF(ISBLANK(A662),\"\",VLOOKUP(A662,Etappe!A$2:B$13,2,FALSE))","v":""}]
[null,null,null,null,"",{"$f":"IF( ISBLANK(A663),\"\",IF(ISBLANK(B663),\"\",VLOOKUP(B663,Teams!A$2:B$95,2,0)))","v":""},{"$f":"IF(ISBLANK(A663),\"\",VLOOKUP(A663,Etappe!A$2:B$13,2,FALSE))","v":""}]
[null,null,null,null,"",{"$f":"IF( ISBLANK(A664),\"\",IF(ISBLANK(B664),\"\",VLOOKUP(B664,Teams!A$2:B$95,2,0)))","v":""},{"$f":"IF(ISBLANK(A664),\"\",VLOOKUP(A664,Etappe!A$2:B$13,2,FALSE))","v":""}]
[null,null,null,null,"",{"$f":"IF( ISBLANK(A665),\"\",IF(ISBLANK(B665),\"\",VLOOKUP(B665,Teams!A$2:B$95,2,0)))","v":""},{"$f":"IF(ISBLANK(A665),\"\",VLOOKUP(A665,Etappe!A$2:B$13,2,FALSE))","v":""}]
[null,null,null,null,"",{"$f":"IF( ISBLANK(A666),\"\",IF(ISBLANK(B666),\"\",VLOOKUP(B666,Teams!A$2:B$95,2,0)))","v":""},{"$f":"IF(ISBLANK(A666),\"\",VLOOKUP(A666,Etappe!A$2:B$13,2,FALSE))","v":""}]
[null,null,null,null,"",{"$f":"IF( ISBLANK(A667),\"\",IF(ISBLANK(B667),\"\",VLOOKUP(B667,Teams!A$2:B$95,2,0)))","v":""},{"$f":"IF(ISBLANK(A667),\"\",VLOOKUP(A667,Etappe!A$2:B$13,2,FALSE))","v":""}]
[null,null,null,null,"",{"$f":"IF( ISBLANK(A668),\"\",IF(ISBLANK(B668),\"\",VLOOKUP(B668,Teams!A$2:B$95,2,0)))","v":""},{"$f":"IF(ISBLANK(A668),\"\",VLOOKUP(A668,Etappe!A$2:B$13,2,FALSE))","v":""}]
[null,null,null,null,"",{"$f":"IF( ISBLANK(A669),\"\",IF(ISBLANK(B669),\"\",VLOOKUP(B669,Teams!A$2:B$95,2,0)))","v":""},{"$f":"IF(ISBLANK(A669),\"\",VLOOKUP(A669,Etappe!A$2:B$13,2,FALSE))","v":""}]
[null,null,null,null,"",{"$f":"IF( ISBLANK(A670),\"\",IF(ISBLANK(B670),\"\",VLOOKUP(B670,Teams!A$2:B$95,2,0)))","v":""},{"$f":"IF(ISBLANK(A670),\"\",VLOOKUP(A670,Etappe!A$2:B$13,2,FALSE))","v":""}]
[null,null,null,null,"",{"$f":"IF( ISBLANK(A671),\"\",IF(ISBLANK(B671),\"\",VLOOKUP(B671,Teams!A$2:B$95,2,0)))","v":""},{"$f":"IF(ISBLANK(A671),\"\",VLOOKUP(A671,Etappe!A$2:B$13,2,FALSE))","v":""}]
[null,null,null,null,"",{"$f":"IF( ISBLANK(A672),\"\",IF(ISBLANK(B672),\"\",VLOOKUP(B672,Teams!A$2:B$95,2,0)))","v":""},{"$f":"IF(ISBLANK(A672),\"\",VLOOKUP(A672,Etappe!A$2:B$13,2,FALSE))","v":""}]
[null,null,null,null,"",{"$f":"IF( ISBLANK(A673),\"\",IF(ISBLANK(B673),\"\",VLOOKUP(B673,Teams!A$2:B$95,2,0)))","v":""},{"$f":"IF(ISBLANK(A673),\"\",VLOOKUP(A673,Etappe!A$2:B$13,2,FALSE))","v":""}]
[null,null,null,null,"",{"$f":"IF( ISBLANK(A674),\"\",IF(ISBLANK(B674),\"\",VLOOKUP(B674,Teams!A$2:B$95,2,0)))","v":""},{"$f":"IF(ISBLANK(A674),\"\",VLOOKUP(A674,Etappe!A$2:B$13,2,FALSE))","v":""}]
[null,null,null,null,"",{"$f":"IF( ISBLANK(A675),\"\",IF(ISBLANK(B675),\"\",VLOOKUP(B675,Teams!A$2:B$95,2,0)))","v":""},{"$f":"IF(ISBLANK(A675),\"\",VLOOKUP(A675,Etappe!A$2:B$13,2,FALSE))","v":""}]
[null,null,null,null,"",{"$f":"IF( ISBLANK(A676),\"\",IF(ISBLANK(B676),\"\",VLOOKUP(B676,Teams!A$2:B$95,2,0)))","v":""},{"$f":"IF(ISBLANK(A676),\"\",VLOOKUP(A676,Etappe!A$2:B$13,2,FALSE))","v":""}]
[null,null,null,null,"",{"$f":"IF( ISBLANK(A677),\"\",IF(ISBLANK(B677),\"\",VLOOKUP(B677,Teams!A$2:B$95,2,0)))","v":""},{"$f":"IF(ISBLANK(A677),\"\",VLOOKUP(A677,Etappe!A$2:B$13,2,FALSE))","v":""}]
[null,null,null,null,"",{"$f":"IF( ISBLANK(A678),\"\",IF(ISBLANK(B678),\"\",VLOOKUP(B678,Teams!A$2:B$95,2,0)))","v":""},{"$f":"IF(ISBLANK(A678),\"\",VLOOKUP(A678,Etappe!A$2:B$13,2,FALSE))","v":""}]
[null,null,null,null,"",{"$f":"IF( ISBLANK(A679),\"\",IF(ISBLANK(B679),\"\",VLOOKUP(B679,Teams!A$2:B$95,2,0)))","v":""},{"$f":"IF(ISBLANK(A679),\"\",VLOOKUP(A679,Etappe!A$2:B$13,2,FALSE))","v":""}]
[null,null,null,null,"",{"$f":"IF( ISBLANK(A680),\"\",IF(ISBLANK(B680),\"\",VLOOKUP(B680,Teams!A$2:B$95,2,0)))","v":""},{"$f":"IF(ISBLANK(A680),\"\",VLOOKUP(A680,Etappe!A$2:B$13,2,FALSE))","v":""}]
[null,null,null,null,"",{"$f":"IF( ISBLANK(A681),\"\",IF(ISBLANK(B681),\"\",VLOOKUP(B681,Teams!A$2:B$95,2,0)))","v":""},{"$f":"IF(ISBLANK(A681),\"\",VLOOKUP(A681,Etappe!A$2:B$13,2,FALSE))","v":""}]
[null,null,null,null,"",{"$f":"IF( ISBLANK(A682),\"\",IF(ISBLANK(B682),\"\",VLOOKUP(B682,Teams!A$2:B$95,2,0)))","v":""},{"$f":"IF(ISBLANK(A682),\"\",VLOOKUP(A682,Etappe!A$2:B$13,2,FALSE))","v":""}]
[null,null,null,null,"",{"$f":"IF( ISBLANK(A683),\"\",IF(ISBLANK(B683),\"\",VLOOKUP(B683,Teams!A$2:B$95,2,0)))","v":""},{"$f":"IF(ISBLANK(A683),\"\",VLOOKUP(A683,Etappe!A$2:B$13,2,FALSE))","v":""}]
[null,null,null,null,"",{"$f":"IF( ISBLANK(A684),\"\",IF(ISBLANK(B684),\"\",VLOOKUP(B684,Teams!A$2:B$95,2,0)))","v":""},{"$f":"IF(ISBLANK(A684),\"\",VLOOKUP(A684,Etappe!A$2:B$13,2,FALSE))","v":""}]
[null,null,null,null,"",{"$f":"IF( ISBLANK(A685),\"\",IF(ISBLANK(B685),\"\",VLOOKUP(B685,Teams!A$2:B$95,2,0)))","v":""},{"$f":"IF(ISBLANK(A685),\"\",VLOOKUP(A685,Etappe!A$2:B$13,2,FALSE))","v":""}]
[null,null,null,null,"",{"$f":"IF( ISBLANK(A686),\"\",IF(ISBLANK(B686),\"\",VLOOKUP(B686,Teams!A$2:B$95,2,0)))","v":""},{"$f":"IF(ISBLANK(A686),\"\",VLOOKUP(A686,Etappe!A$2:B$13,2,FALSE))","v":""}]
[null,null,null,null,"",{"$f":"IF( ISBLANK(A687),\"\",IF(ISBLANK(B687),\"\",VLOOKUP(B687,Teams!A$2:B$95,2,0)))","v":""},{"$f":"IF(ISBLANK(A687),\"\",VLOOKUP(A687,Etappe!A$2:B$13,2,FALSE))","v":""}]
[null,null,null,null,"",{"$f":"IF( ISBLANK(A688),\"\",IF(ISBLANK(B688),\"\",VLOOKUP(B688,Teams!A$2:B$95,2,0)))","v":""},{"$f":"IF(ISBLANK(A688),\"\",VLOOKUP(A688,Etappe!A$2:B$13,2,FALSE))","v":""}]
[null,null,null,null,"",{"$f":"IF( ISBLANK(A689),\"\",IF(ISBLANK(B689),\"\",VLOOKUP(B689,Teams!A$2:B$95,2,0)))","v":""},{"$f":"IF(ISBLANK(A689),\"\",VLOOKUP(A689,Etappe!A$2:B$13,2,FALSE))","v":""}]
[null,null,null,null,"",{"$f":"IF( ISBLANK(A690),\"\",IF(ISBLANK(B690),\"\",VLOOKUP(B690,Teams!A$2:B$95,2,0)))","v":""},{"$f":"IF(ISBLANK(A690),\"\",VLOOKUP(A690,Etappe!A$2:B$13,2,FALSE))","v":""}]
[null,null,null,null,"",{"$f":"IF( ISBLANK(A691),\"\",IF(ISBLANK(B691),\"\",VLOOKUP(B691,Teams!A$2:B$95,2,0)))","v":""},{"$f":"IF(ISBLANK(A691),\"\",VLOOKUP(A691,Etappe!A$2:B$13,2,FALSE))","v":""}]
[null,null,null,null,"",{"$f":"IF( ISBLANK(A692),\"\",IF(ISBLANK(B692),\"\",VLOOKUP(B692,Teams!A$2:B$95,2,0)))","v":""},{"$f":"IF(ISBLANK(A692),\"\",VLOOKUP(A692,Etappe!A$2:B$13,2,FALSE))","v":""}]
[null,null,null,null,"",{"$f":"IF( ISBLANK(A693),\"\",IF(ISBLANK(B693),\"\",VLOOKUP(B693,Teams!A$2:B$95,2,0)))","v":""},{"$f":"IF(ISBLANK(A693),\"\",VLOOKUP(A693,Etappe!A$2:B$13,2,FALSE))","v":""}]
[null,null,null,null,"",{"$f":"IF( ISBLANK(A694),\"\",IF(ISBLANK(B694),\"\",VLOOKUP(B694,Teams!A$2:B$95,2,0)))","v":""},{"$f":"IF(ISBLANK(A694),\"\",VLOOKUP(A694,Etappe!A$2:B$13,2,FALSE))","v":""}]
[null,null,null,null,"",{"$f":"IF( ISBLANK(A695),\"\",IF(ISBLANK(B695),\"\",VLOOKUP(B695,Teams!A$2:B$95,2,0)))","v":""},{"$f":"IF(ISBLANK(A695),\"\",VLOOKUP(A695,Etappe!A$2:B$13,2,FALSE))","v":""}]
[null,null,null,null,"",{"$f":"IF( ISBLANK(A696),\"\",IF(ISBLANK(B696),\"\",VLOOKUP(B696,Teams!A$2:B$95,2,0)))","v":""},{"$f":"IF(ISBLANK(A696),\"\",VLOOKUP(A696,Etappe!A$2:B$13,2,FALSE))","v":""}]
[null,null,null,null,"",{"$f":"IF( ISBLANK(A697),\"\",IF(ISBLANK(B697),\"\",VLOOKUP(B697,Teams!A$2:B$95,2,0)))","v":""},{"$f":"IF(ISBLANK(A697),\"\",VLOOKUP(A697,Etappe!A$2:B$13,2,FALSE))","v":""}]
[null,null,null,null,"",{"$f":"IF( ISBLANK(A698),\"\",IF(ISBLANK(B698),\"\",VLOOKUP(B698,Teams!A$2:B$95,2,0)))","v":""},{"$f":"IF(ISBLANK(A698),\"\",VLOOKUP(A698,Etappe!A$2:B$13,2,FALSE))","v":""}]
[null,null,null,null,"",{"$f":"IF( ISBLANK(A699),\"\",IF(ISBLANK(B699),\"\",VLOOKUP(B699,Teams!A$2:B$95,2,0)))","v":""},{"$f":"IF(ISBLANK(A699),\"\",VLOOKUP(A699,Etappe!A$2:B$13,2,FALSE))","v":""}]
[null,null,null,null,"",{"$f":"IF( ISBLANK(A700),\"\",IF(ISBLANK(B700),\"\",VLOOKUP(B700,Teams!A$2:B$95,2,0)))","v":""},{"$f":"IF(ISBLANK(A700),\"\",VLOOKUP(A700,Etappe!A$2:B$13,2,FALSE))","v":""}]
[null,null,null,null,"",{"$f":"IF( ISBLANK(A701),\"\",IF(ISBLANK(B701),\"\",VLOOKUP(B701,Teams!A$2:B$95,2,0)))","v":""},{"$f":"IF(ISBLANK(A701),\"\",VLOOKUP(A701,Etappe!A$2:B$13,2,FALSE))","v":""}]
[null,null,null,null,"",{"$f":"IF( ISBLANK(A702),\"\",IF(ISBLANK(B702),\"\",VLOOKUP(B702,Teams!A$2:B$95,2,0)))","v":""},{"$f":"IF(ISBLANK(A702),\"\",VLOOKUP(A702,Etappe!A$2:B$13,2,FALSE))","v":""}]
[null,null,null,null,"",{"$f":"IF( ISBLANK(A703),\"\",IF(ISBLANK(B703),\"\",VLOOKUP(B703,Teams!A$2:B$95,2,0)))","v":""},{"$f":"IF(ISBLANK(A703),\"\",VLOOKUP(A703,Etappe!A$2:B$13,2,FALSE))","v":""}]
[null,null,null,null,"",{"$f":"IF( ISBLANK(A704),\"\",IF(ISBLANK(B704),\"\",VLOOKUP(B704,Teams!A$2:B$95,2,0)))","v":""},{"$f":"IF(ISBLANK(A704),\"\",VLOOKUP(A704,Etappe!A$2:B$13,2,FALSE))","v":""}]
[null,null,null,null,"",{"$f":"IF( ISBLANK(A705),\"\",IF(ISBLANK(B705),\"\",VLOOKUP(B705,Teams!A$2:B$95,2,0)))","v":""},{"$f":"IF(ISBLANK(A705),\"\",VLOOKUP(A705,Etappe!A$2:B$13,2,FALSE))","v":""}]
[null,null,null,null,"",{"$f":"IF( ISBLANK(A706),\"\",IF(ISBLANK(B706),\"\",VLOOKUP(B706,Teams!A$2:B$95,2,0)))","v":""},{"$f":"IF(ISBLANK(A706),\"\",VLOOKUP(A706,Etappe!A$2:B$13,2,FALSE))","v":""}]
[null,null,null,null,{"$f":"IF(ISBLANK(A707),\"\",IF(C707=\"v\",0.9*D707,D707))","v":""},{"$f":"IF( ISBLANK(A707),\"\",IF(ISBLANK(B707),\"\",VLOOKUP(B707,Teams!A$2:B$95,2,0)))","v":""},{"$f":"IF(ISBLANK(A707),\"\",VLOOKUP(A707,Etappe!A$2:B$13,2,FALSE))","v":""}]
[null,null,null,null,"",{"$f":"IF( ISBLANK(A708),\"\",IF(ISBLANK(B708),\"\",VLOOKUP(B708,Teams!A$2:B$95,2,0)))","v":""},{"$f":"IF(ISBLANK(A708),\"\",VLOOKUP(A708,Etappe!A$2:B$13,2,FALSE))","v":""}]
[null,null,null,null,"",{"$f":"IF( ISBLANK(A709),\"\",IF(ISBLANK(B709),\"\",VLOOKUP(B709,Teams!A$2:B$95,2,0)))","v":""},{"$f":"IF(ISBLANK(A709),\"\",VLOOKUP(A709,Etappe!A$2:B$13,2,FALSE))","v":""}]
[null,null,null,null,"",{"$f":"IF( ISBLANK(A710),\"\",IF(ISBLANK(B710),\"\",VLOOKUP(B710,Teams!A$2:B$95,2,0)))","v":""},{"$f":"IF(ISBLANK(A710),\"\",VLOOKUP(A710,Etappe!A$2:B$13,2,FALSE))","v":""}]
[null,null,null,null,"",{"$f":"IF( ISBLANK(A711),\"\",IF(ISBLANK(B711),\"\",VLOOKUP(B711,Teams!A$2:B$95,2,0)))","v":""},{"$f":"IF(ISBLANK(A711),\"\",VLOOKUP(A711,Etappe!A$2:B$13,2,FALSE))","v":""}]
[null,null,null,null,"",{"$f":"IF( ISBLANK(A712),\"\",IF(ISBLANK(B712),\"\",VLOOKUP(B712,Teams!A$2:B$95,2,0)))","v":""},{"$f":"IF(ISBLANK(A712),\"\",VLOOKUP(A712,Etappe!A$2:B$13,2,FALSE))","v":""}]
[null,null,null,null,"",{"$f":"IF( ISBLANK(A713),\"\",IF(ISBLANK(B713),\"\",VLOOKUP(B713,Teams!A$2:B$95,2,0)))","v":""},{"$f":"IF(ISBLANK(A713),\"\",VLOOKUP(A713,Etappe!A$2:B$13,2,FALSE))","v":""}]
[null,null,null,null,"",{"$f":"IF( ISBLANK(A714),\"\",IF(ISBLANK(B714),\"\",VLOOKUP(B714,Teams!A$2:B$95,2,0)))","v":""},{"$f":"IF(ISBLANK(A714),\"\",VLOOKUP(A714,Etappe!A$2:B$13,2,FALSE))","v":""}]
[null,null,null,null,"",{"$f":"IF( ISBLANK(A715),\"\",IF(ISBLANK(B715),\"\",VLOOKUP(B715,Teams!A$2:B$95,2,0)))","v":""},{"$f":"IF(ISBLANK(A715),\"\",VLOOKUP(A715,Etappe!A$2:B$13,2,FALSE))","v":""}]
[null,null,null,null,"",{"$f":"IF( ISBLANK(A716),\"\",IF(ISBLANK(B716),\"\",VLOOKUP(B716,Teams!A$2:B$95,2,0)))","v":""},{"$f":"IF(ISBLANK(A716),\"\",VLOOKUP(A716,Etappe!A$2:B$13,2,FALSE))","v":""}]
[null,null,null,null,"",{"$f":"IF( ISBLANK(A717),\"\",IF(ISBLANK(B717),\"\",VLOOKUP(B717,Teams!A$2:B$95,2,0)))","v":""},{"$f":"IF(ISBLANK(A717),\"\",VLOOKUP(A717,Etappe!A$2:B$13,2,FALSE))","v":""}]
[null,null,null,null,"",{"$f":"IF( ISBLANK(A718),\"\",IF(ISBLANK(B718),\"\",VLOOKUP(B718,Teams!A$2:B$95,2,0)))","v":""},{"$f":"IF(ISBLANK(A718),\"\",VLOOKUP(A718,Etappe!A$2:B$13,2,FALSE))","v":""}]
[null,null,null,null,"",{"$f":"IF( ISBLANK(A719),\"\",IF(ISBLANK(B719),\"\",VLOOKUP(B719,Teams!A$2:B$95,2,0)))","v":""},{"$f":"IF(ISBLANK(A719),\"\",VLOOKUP(A719,Etappe!A$2:B$13,2,FALSE))","v":""}]
[null,null,null,null,"",{"$f":"IF( ISBLANK(A720),\"\",IF(ISBLANK(B720),\"\",VLOOKUP(B720,Teams!A$2:B$95,2,0)))","v":""},{"$f":"IF(ISBLANK(A720),\"\",VLOOKUP(A720,Etappe!A$2:B$13,2,FALSE))","v":""}]
[null,null,null,null,"",{"$f":"IF( ISBLANK(A721),\"\",IF(ISBLANK(B721),\"\",VLOOKUP(B721,Teams!A$2:B$95,2,0)))","v":""},{"$f":"IF(ISBLANK(A721),\"\",VLOOKUP(A721,Etappe!A$2:B$13,2,FALSE))","v":""}]
[null,null,null,null,"",{"$f":"IF( ISBLANK(A722),\"\",IF(ISBLANK(B722),\"\",VLOOKUP(B722,Teams!A$2:B$95,2,0)))","v":""},{"$f":"IF(ISBLANK(A722),\"\",VLOOKUP(A722,Etappe!A$2:B$13,2,FALSE))","v":""}]
[null,null,null,null,"",{"$f":"IF( ISBLANK(A723),\"\",IF(ISBLANK(B723),\"\",VLOOKUP(B723,Teams!A$2:B$95,2,0)))","v":""},{"$f":"IF(ISBLANK(A723),\"\",VLOOKUP(A723,Etappe!A$2:B$13,2,FALSE))","v":""}]
[null,null,null,null,"",{"$f":"IF( ISBLANK(A724),\"\",IF(ISBLANK(B724),\"\",VLOOKUP(B724,Teams!A$2:B$95,2,0)))","v":""},{"$f":"IF(ISBLANK(A724),\"\",VLOOKUP(A724,Etappe!A$2:B$13,2,FALSE))","v":""}]
[null,null,null,null,"",{"$f":"IF( ISBLANK(A725),\"\",IF(ISBLANK(B725),\"\",VLOOKUP(B725,Teams!A$2:B$95,2,0)))","v":""},{"$f":"IF(ISBLANK(A725),\"\",VLOOKUP(A725,Etappe!A$2:B$13,2,FALSE))","v":""}]
[null,null,null,null,"",{"$f":"IF( ISBLANK(A726),\"\",IF(ISBLANK(B726),\"\",VLOOKUP(B726,Teams!A$2:B$95,2,0)))","v":""},{"$f":"IF(ISBLANK(A726),\"\",VLOOKUP(A726,Etappe!A$2:B$13,2,FALSE))","v":""}]
[null,null,null,null,"",{"$f":"IF( ISBLANK(A727),\"\",IF(ISBLANK(B727),\"\",VLOOKUP(B727,Teams!A$2:B$95,2,0)))","v":""},{"$f":"IF(ISBLANK(A727),\"\",VLOOKUP(A727,Etappe!A$2:B$13,2,FALSE))","v":""}]
[null,null,null,null,"",{"$f":"IF( ISBLANK(A728),\"\",IF(ISBLANK(B728),\"\",VLOOKUP(B728,Teams!A$2:B$95,2,0)))","v":""},{"$f":"IF(ISBLANK(A728),\"\",VLOOKUP(A728,Etappe!A$2:B$13,2,FALSE))","v":""}]
[null,null,null,null,"",{"$f":"IF( ISBLANK(A729),\"\",IF(ISBLANK(B729),\"\",VLOOKUP(B729,Teams!A$2:B$95,2,0)))","v":""},{"$f":"IF(ISBLANK(A729),\"\",VLOOKUP(A729,Etappe!A$2:B$13,2,FALSE))","v":""}]
[null,null,null,null,"",{"$f":"IF( ISBLANK(A730),\"\",IF(ISBLANK(B730),\"\",VLOOKUP(B730,Teams!A$2:B$95,2,0)))","v":""},{"$f":"IF(ISBLANK(A730),\"\",VLOOKUP(A730,Etappe!A$2:B$13,2,FALSE))","v":""}]
[null,null,null,null,"",{"$f":"IF( ISBLANK(A731),\"\",IF(ISBLANK(B731),\"\",VLOOKUP(B731,Teams!A$2:B$95,2,0)))","v":""},{"$f":"IF(ISBLANK(A731),\"\",VLOOKUP(A731,Etappe!A$2:B$13,2,FALSE))","v":""}]
[null,null,null,null,"",{"$f":"IF( ISBLANK(A732),\"\",IF(ISBLANK(B732),\"\",VLOOKUP(B732,Teams!A$2:B$95,2,0)))","v":""},{"$f":"IF(ISBLANK(A732),\"\",VLOOKUP(A732,Etappe!A$2:B$13,2,FALSE))","v":""}]
[null,null,null,null,"",{"$f":"IF( ISBLANK(A733),\"\",IF(ISBLANK(B733),\"\",VLOOKUP(B733,Teams!A$2:B$95,2,0)))","v":""},{"$f":"IF(ISBLANK(A733),\"\",VLOOKUP(A733,Etappe!A$2:B$13,2,FALSE))","v":""}]
[null,null,null,null,"",{"$f":"IF( ISBLANK(A734),\"\",IF(ISBLANK(B734),\"\",VLOOKUP(B734,Teams!A$2:B$95,2,0)))","v":""},{"$f":"IF(ISBLANK(A734),\"\",VLOOKUP(A734,Etappe!A$2:B$13,2,FALSE))","v":""}]
[null,null,null,null,"",{"$f":"IF( ISBLANK(A735),\"\",IF(ISBLANK(B735),\"\",VLOOKUP(B735,Teams!A$2:B$95,2,0)))","v":""},{"$f":"IF(ISBLANK(A735),\"\",VLOOKUP(A735,Etappe!A$2:B$13,2,FALSE))","v":""}]
[null,null,null,null,"",{"$f":"IF( ISBLANK(A736),\"\",IF(ISBLANK(B736),\"\",VLOOKUP(B736,Teams!A$2:B$95,2,0)))","v":""},{"$f":"IF(ISBLANK(A736),\"\",VLOOKUP(A736,Etappe!A$2:B$13,2,FALSE))","v":""}]
[null,null,null,null,"",{"$f":"IF( ISBLANK(A737),\"\",IF(ISBLANK(B737),\"\",VLOOKUP(B737,Teams!A$2:B$95,2,0)))","v":""},{"$f":"IF(ISBLANK(A737),\"\",VLOOKUP(A737,Etappe!A$2:B$13,2,FALSE))","v":""}]
[null,null,null,null,"",{"$f":"IF( ISBLANK(A738),\"\",IF(ISBLANK(B738),\"\",VLOOKUP(B738,Teams!A$2:B$95,2,0)))","v":""},{"$f":"IF(ISBLANK(A738),\"\",VLOOKUP(A738,Etappe!A$2:B$13,2,FALSE))","v":""}]
[null,null,null,null,"",{"$f":"IF( ISBLANK(A739),\"\",IF(ISBLANK(B739),\"\",VLOOKUP(B739,Teams!A$2:B$95,2,0)))","v":""},{"$f":"IF(ISBLANK(A739),\"\",VLOOKUP(A739,Etappe!A$2:B$13,2,FALSE))","v":""}]
[null,null,null,null,"",{"$f":"IF( ISBLANK(A740),\"\",IF(ISBLANK(B740),\"\",VLOOKUP(B740,Teams!A$2:B$95,2,0)))","v":""},{"$f":"IF(ISBLANK(A740),\"\",VLOOKUP(A740,Etappe!A$2:B$13,2,FALSE))","v":""}]
[null,null,null,null,"",{"$f":"IF( ISBLANK(A741),\"\",IF(ISBLANK(B741),\"\",VLOOKUP(B741,Teams!A$2:B$95,2,0)))","v":""},{"$f":"IF(ISBLANK(A741),\"\",VLOOKUP(A741,Etappe!A$2:B$13,2,FALSE))","v":""}]
[null,null,null,null,"",{"$f":"IF( ISBLANK(A742),\"\",IF(ISBLANK(B742),\"\",VLOOKUP(B742,Teams!A$2:B$95,2,0)))","v":""},{"$f":"IF(ISBLANK(A742),\"\",VLOOKUP(A742,Etappe!A$2:B$13,2,FALSE))","v":""}]
[null,null,null,null,"",{"$f":"IF( ISBLANK(A743),\"\",IF(ISBLANK(B743),\"\",VLOOKUP(B743,Teams!A$2:B$95,2,0)))","v":""},{"$f":"IF(ISBLANK(A743),\"\",VLOOKUP(A743,Etappe!A$2:B$13,2,FALSE))","v":""}]
[null,null,null,null,"",{"$f":"IF( ISBLANK(A744),\"\",IF(ISBLANK(B744),\"\",VLOOKUP(B744,Teams!A$2:B$95,2,0)))","v":""},{"$f":"IF(ISBLANK(A744),\"\",VLOOKUP(A744,Etappe!A$2:B$13,2,FALSE))","v":""}]
[null,null,null,null,"",{"$f":"IF( ISBLANK(A745),\"\",IF(ISBLANK(B745),\"\",VLOOKUP(B745,Teams!A$2:B$95,2,0)))","v":""},{"$f":"IF(ISBLANK(A745),\"\",VLOOKUP(A745,Etappe!A$2:B$13,2,FALSE))","v":""}]
[null,null,null,null,"",{"$f":"IF( ISBLANK(A746),\"\",IF(ISBLANK(B746),\"\",VLOOKUP(B746,Teams!A$2:B$95,2,0)))","v":""},{"$f":"IF(ISBLANK(A746),\"\",VLOOKUP(A746,Etappe!A$2:B$13,2,FALSE))","v":""}]
[null,null,null,null,"",{"$f":"IF( ISBLANK(A747),\"\",IF(ISBLANK(B747),\"\",VLOOKUP(B747,Teams!A$2:B$95,2,0)))","v":""},{"$f":"IF(ISBLANK(A747),\"\",VLOOKUP(A747,Etappe!A$2:B$13,2,FALSE))","v":""}]
[null,null,null,null,"",{"$f":"IF( ISBLANK(A748),\"\",IF(ISBLANK(B748),\"\",VLOOKUP(B748,Teams!A$2:B$95,2,0)))","v":""},{"$f":"IF(ISBLANK(A748),\"\",VLOOKUP(A748,Etappe!A$2:B$13,2,FALSE))","v":""}]
[null,null,null,null,"",{"$f":"IF( ISBLANK(A749),\"\",IF(ISBLANK(B749),\"\",VLOOKUP(B749,Teams!A$2:B$95,2,0)))","v":""},{"$f":"IF(ISBLANK(A749),\"\",VLOOKUP(A749,Etappe!A$2:B$13,2,FALSE))","v":""}]
[null,null,null,null,"",{"$f":"IF( ISBLANK(A750),\"\",IF(ISBLANK(B750),\"\",VLOOKUP(B750,Teams!A$2:B$95,2,0)))","v":""},{"$f":"IF(ISBLANK(A750),\"\",VLOOKUP(A750,Etappe!A$2:B$13,2,FALSE))","v":""}]
[null,null,null,null,"",{"$f":"IF( ISBLANK(A751),\"\",IF(ISBLANK(B751),\"\",VLOOKUP(B751,Teams!A$2:B$95,2,0)))","v":""},{"$f":"IF(ISBLANK(A751),\"\",VLOOKUP(A751,Etappe!A$2:B$13,2,FALSE))","v":""}]
[null,null,null,null,"",{"$f":"IF( ISBLANK(A752),\"\",IF(ISBLANK(B752),\"\",VLOOKUP(B752,Teams!A$2:B$95,2,0)))","v":""},{"$f":"IF(ISBLANK(A752),\"\",VLOOKUP(A752,Etappe!A$2:B$13,2,FALSE))","v":""}]
[null,null,null,null,"",{"$f":"IF( ISBLANK(A753),\"\",IF(ISBLANK(B753),\"\",VLOOKUP(B753,Teams!A$2:B$95,2,0)))","v":""},{"$f":"IF(ISBLANK(A753),\"\",VLOOKUP(A753,Etappe!A$2:B$13,2,FALSE))","v":""}]
[null,null,null,null,"",{"$f":"IF( ISBLANK(A754),\"\",IF(ISBLANK(B754),\"\",VLOOKUP(B754,Teams!A$2:B$95,2,0)))","v":""},{"$f":"IF(ISBLANK(A754),\"\",VLOOKUP(A754,Etappe!A$2:B$13,2,FALSE))","v":""}]
[null,null,null,null,"",{"$f":"IF( ISBLANK(A755),\"\",IF(ISBLANK(B755),\"\",VLOOKUP(B755,Teams!A$2:B$95,2,0)))","v":""},{"$f":"IF(ISBLANK(A755),\"\",VLOOKUP(A755,Etappe!A$2:B$13,2,FALSE))","v":""}]
[null,null,null,null,"",{"$f":"IF( ISBLANK(A756),\"\",IF(ISBLANK(B756),\"\",VLOOKUP(B756,Teams!A$2:B$95,2,0)))","v":""},{"$f":"IF(ISBLANK(A756),\"\",VLOOKUP(A756,Etappe!A$2:B$13,2,FALSE))","v":""}]
[null,null,null,null,"",{"$f":"IF( ISBLANK(A757),\"\",IF(ISBLANK(B757),\"\",VLOOKUP(B757,Teams!A$2:B$95,2,0)))","v":""},{"$f":"IF(ISBLANK(A757),\"\",VLOOKUP(A757,Etappe!A$2:B$13,2,FALSE))","v":""}]
[null,null,null,null,"",{"$f":"IF( ISBLANK(A758),\"\",IF(ISBLANK(B758),\"\",VLOOKUP(B758,Teams!A$2:B$95,2,0)))","v":""},{"$f":"IF(ISBLANK(A758),\"\",VLOOKUP(A758,Etappe!A$2:B$13,2,FALSE))","v":""}]
[null,null,null,null,"",{"$f":"IF( ISBLANK(A759),\"\",IF(ISBLANK(B759),\"\",VLOOKUP(B759,Teams!A$2:B$95,2,0)))","v":""},{"$f":"IF(ISBLANK(A759),\"\",VLOOKUP(A759,Etappe!A$2:B$13,2,FALSE))","v":""}]
[null,null,null,null,"",{"$f":"IF( ISBLANK(A760),\"\",IF(ISBLANK(B760),\"\",VLOOKUP(B760,Teams!A$2:B$95,2,0)))","v":""},{"$f":"IF(ISBLANK(A760),\"\",VLOOKUP(A760,Etappe!A$2:B$13,2,FALSE))","v":""}]
[null,null,null,null,"",{"$f":"IF( ISBLANK(A761),\"\",IF(ISBLANK(B761),\"\",VLOOKUP(B761,Teams!A$2:B$95,2,0)))","v":""},{"$f":"IF(ISBLANK(A761),\"\",VLOOKUP(A761,Etappe!A$2:B$13,2,FALSE))","v":""}]
[null,null,null,null,"",{"$f":"IF( ISBLANK(A762),\"\",IF(ISBLANK(B762),\"\",VLOOKUP(B762,Teams!A$2:B$95,2,0)))","v":""},{"$f":"IF(ISBLANK(A762),\"\",VLOOKUP(A762,Etappe!A$2:B$13,2,FALSE))","v":""}]
[null,null,null,null,"",{"$f":"IF( ISBLANK(A763),\"\",IF(ISBLANK(B763),\"\",VLOOKUP(B763,Teams!A$2:B$95,2,0)))","v":""},{"$f":"IF(ISBLANK(A763),\"\",VLOOKUP(A763,Etappe!A$2:B$13,2,FALSE))","v":""}]
[null,null,null,null,"",{"$f":"IF( ISBLANK(A764),\"\",IF(ISBLANK(B764),\"\",VLOOKUP(B764,Teams!A$2:B$95,2,0)))","v":""},{"$f":"IF(ISBLANK(A764),\"\",VLOOKUP(A764,Etappe!A$2:B$13,2,FALSE))","v":""}]
[null,null,null,null,"",{"$f":"IF( ISBLANK(A765),\"\",IF(ISBLANK(B765),\"\",VLOOKUP(B765,Teams!A$2:B$95,2,0)))","v":""},{"$f":"IF(ISBLANK(A765),\"\",VLOOKUP(A765,Etappe!A$2:B$13,2,FALSE))","v":""}]
[null,null,null,null,"",{"$f":"IF( ISBLANK(A766),\"\",IF(ISBLANK(B766),\"\",VLOOKUP(B766,Teams!A$2:B$95,2,0)))","v":""},{"$f":"IF(ISBLANK(A766),\"\",VLOOKUP(A766,Etappe!A$2:B$13,2,FALSE))","v":""}]
[null,null,null,null,"",{"$f":"IF( ISBLANK(A767),\"\",IF(ISBLANK(B767),\"\",VLOOKUP(B767,Teams!A$2:B$95,2,0)))","v":""},{"$f":"IF(ISBLANK(A767),\"\",VLOOKUP(A767,Etappe!A$2:B$13,2,FALSE))","v":""}]
[null,null,null,null,"",{"$f":"IF( ISBLANK(A768),\"\",IF(ISBLANK(B768),\"\",VLOOKUP(B768,Teams!A$2:B$95,2,0)))","v":""},{"$f":"IF(ISBLANK(A768),\"\",VLOOKUP(A768,Etappe!A$2:B$13,2,FALSE))","v":""}]
[null,null,null,null,"",{"$f":"IF( ISBLANK(A769),\"\",IF(ISBLANK(B769),\"\",VLOOKUP(B769,Teams!A$2:B$95,2,0)))","v":""},{"$f":"IF(ISBLANK(A769),\"\",VLOOKUP(A769,Etappe!A$2:B$13,2,FALSE))","v":""}]
[null,null,null,null,"",{"$f":"IF( ISBLANK(A770),\"\",IF(ISBLANK(B770),\"\",VLOOKUP(B770,Teams!A$2:B$95,2,0)))","v":""},{"$f":"IF(ISBLANK(A770),\"\",VLOOKUP(A770,Etappe!A$2:B$13,2,FALSE))","v":""}]
[null,null,null,null,{"$f":"IF(ISBLANK(A771),\"\",IF(C771=\"v\",0.9*D771,D771))","v":""},{"$f":"IF( ISBLANK(A771),\"\",IF(ISBLANK(B771),\"\",VLOOKUP(B771,Teams!A$2:B$95,2,0)))","v":""},{"$f":"IF(ISBLANK(A771),\"\",VLOOKUP(A771,Etappe!A$2:B$13,2,FALSE))","v":""}]
[null,null,null,null,"",{"$f":"IF( ISBLANK(A772),\"\",IF(ISBLANK(B772),\"\",VLOOKUP(B772,Teams!A$2:B$95,2,0)))","v":""},{"$f":"IF(ISBLANK(A772),\"\",VLOOKUP(A772,Etappe!A$2:B$13,2,FALSE))","v":""}]
[null,null,null,null,"",{"$f":"IF( ISBLANK(A773),\"\",IF(ISBLANK(B773),\"\",VLOOKUP(B773,Teams!A$2:B$95,2,0)))","v":""},{"$f":"IF(ISBLANK(A773),\"\",VLOOKUP(A773,Etappe!A$2:B$13,2,FALSE))","v":""}]
[null,null,null,null,"",{"$f":"IF( ISBLANK(A774),\"\",IF(ISBLANK(B774),\"\",VLOOKUP(B774,Teams!A$2:B$95,2,0)))","v":""},{"$f":"IF(ISBLANK(A774),\"\",VLOOKUP(A774,Etappe!A$2:B$13,2,FALSE))","v":""}]
[null,null,null,null,"",{"$f":"IF( ISBLANK(A775),\"\",IF(ISBLANK(B775),\"\",VLOOKUP(B775,Teams!A$2:B$95,2,0)))","v":""},{"$f":"IF(ISBLANK(A775),\"\",VLOOKUP(A775,Etappe!A$2:B$13,2,FALSE))","v":""}]
[null,null,null,null,"",{"$f":"IF( ISBLANK(A776),\"\",IF(ISBLANK(B776),\"\",VLOOKUP(B776,Teams!A$2:B$95,2,0)))","v":""},{"$f":"IF(ISBLANK(A776),\"\",VLOOKUP(A776,Etappe!A$2:B$13,2,FALSE))","v":""}]
[null,null,null,null,"",{"$f":"IF( ISBLANK(A777),\"\",IF(ISBLANK(B777),\"\",VLOOKUP(B777,Teams!A$2:B$95,2,0)))","v":""},{"$f":"IF(ISBLANK(A777),\"\",VLOOKUP(A777,Etappe!A$2:B$13,2,FALSE))","v":""}]
[null,null,null,null,"",{"$f":"IF( ISBLANK(A778),\"\",IF(ISBLANK(B778),\"\",VLOOKUP(B778,Teams!A$2:B$95,2,0)))","v":""},{"$f":"IF(ISBLANK(A778),\"\",VLOOKUP(A778,Etappe!A$2:B$13,2,FALSE))","v":""}]
[null,null,null,null,"",{"$f":"IF( ISBLANK(A779),\"\",IF(ISBLANK(B779),\"\",VLOOKUP(B779,Teams!A$2:B$95,2,0)))","v":""},{"$f":"IF(ISBLANK(A779),\"\",VLOOKUP(A779,Etappe!A$2:B$13,2,FALSE))","v":""}]
[null,null,null,null,"",{"$f":"IF( ISBLANK(A780),\"\",IF(ISBLANK(B780),\"\",VLOOKUP(B780,Teams!A$2:B$95,2,0)))","v":""},{"$f":"IF(ISBLANK(A780),\"\",VLOOKUP(A780,Etappe!A$2:B$13,2,FALSE))","v":""}]
[null,null,null,null,"",{"$f":"IF( ISBLANK(A781),\"\",IF(ISBLANK(B781),\"\",VLOOKUP(B781,Teams!A$2:B$95,2,0)))","v":""},{"$f":"IF(ISBLANK(A781),\"\",VLOOKUP(A781,Etappe!A$2:B$13,2,FALSE))","v":""}]
[null,null,null,null,"",{"$f":"IF( ISBLANK(A782),\"\",IF(ISBLANK(B782),\"\",VLOOKUP(B782,Teams!A$2:B$95,2,0)))","v":""},{"$f":"IF(ISBLANK(A782),\"\",VLOOKUP(A782,Etappe!A$2:B$13,2,FALSE))","v":""}]
[null,null,null,null,"",{"$f":"IF( ISBLANK(A783),\"\",IF(ISBLANK(B783),\"\",VLOOKUP(B783,Teams!A$2:B$95,2,0)))","v":""},{"$f":"IF(ISBLANK(A783),\"\",VLOOKUP(A783,Etappe!A$2:B$13,2,FALSE))","v":""}]
[null,null,null,null,"",{"$f":"IF( ISBLANK(A784),\"\",IF(ISBLANK(B784),\"\",VLOOKUP(B784,Teams!A$2:B$95,2,0)))","v":""},{"$f":"IF(ISBLANK(A784),\"\",VLOOKUP(A784,Etappe!A$2:B$13,2,FALSE))","v":""}]
[null,null,null,null,"",{"$f":"IF( ISBLANK(A785),\"\",IF(ISBLANK(B785),\"\",VLOOKUP(B785,Teams!A$2:B$95,2,0)))","v":""},{"$f":"IF(ISBLANK(A785),\"\",VLOOKUP(A785,Etappe!A$2:B$13,2,FALSE))","v":""}]
[null,null,null,null,"",{"$f":"IF( ISBLANK(A786),\"\",IF(ISBLANK(B786),\"\",VLOOKUP(B786,Teams!A$2:B$95,2,0)))","v":""},{"$f":"IF(ISBLANK(A786),\"\",VLOOKUP(A786,Etappe!A$2:B$13,2,FALSE))","v":""}]
[null,null,null,null,"",{"$f":"IF( ISBLANK(A787),\"\",IF(ISBLANK(B787),\"\",VLOOKUP(B787,Teams!A$2:B$95,2,0)))","v":""},{"$f":"IF(ISBLANK(A787),\"\",VLOOKUP(A787,Etappe!A$2:B$13,2,FALSE))","v":""}]
[null,null,null,null,"",{"$f":"IF( ISBLANK(A788),\"\",IF(ISBLANK(B788),\"\",VLOOKUP(B788,Teams!A$2:B$95,2,0)))","v":""},{"$f":"IF(ISBLANK(A788),\"\",VLOOKUP(A788,Etappe!A$2:B$13,2,FALSE))","v":""}]
[null,null,null,null,"",{"$f":"IF( ISBLANK(A789),\"\",IF(ISBLANK(B789),\"\",VLOOKUP(B789,Teams!A$2:B$95,2,0)))","v":""},{"$f":"IF(ISBLANK(A789),\"\",VLOOKUP(A789,Etappe!A$2:B$13,2,FALSE))","v":""}]
[null,null,null,null,"",{"$f":"IF( ISBLANK(A790),\"\",IF(ISBLANK(B790),\"\",VLOOKUP(B790,Teams!A$2:B$95,2,0)))","v":""},{"$f":"IF(ISBLANK(A790),\"\",VLOOKUP(A790,Etappe!A$2:B$13,2,FALSE))","v":""}]
[null,null,null,null,"",{"$f":"IF( ISBLANK(A791),\"\",IF(ISBLANK(B791),\"\",VLOOKUP(B791,Teams!A$2:B$95,2,0)))","v":""},{"$f":"IF(ISBLANK(A791),\"\",VLOOKUP(A791,Etappe!A$2:B$13,2,FALSE))","v":""}]
[null,null,null,null,"",{"$f":"IF( ISBLANK(A792),\"\",IF(ISBLANK(B792),\"\",VLOOKUP(B792,Teams!A$2:B$95,2,0)))","v":""},{"$f":"IF(ISBLANK(A792),\"\",VLOOKUP(A792,Etappe!A$2:B$13,2,FALSE))","v":""}]
[null,null,null,null,"",{"$f":"IF( ISBLANK(A793),\"\",IF(ISBLANK(B793),\"\",VLOOKUP(B793,Teams!A$2:B$95,2,0)))","v":""},{"$f":"IF(ISBLANK(A793),\"\",VLOOKUP(A793,Etappe!A$2:B$13,2,FALSE))","v":""}]
[null,null,null,null,"",{"$f":"IF( ISBLANK(A794),\"\",IF(ISBLANK(B794),\"\",VLOOKUP(B794,Teams!A$2:B$95,2,0)))","v":""},{"$f":"IF(ISBLANK(A794),\"\",VLOOKUP(A794,Etappe!A$2:B$13,2,FALSE))","v":""}]
[null,null,null,null,"",{"$f":"IF( ISBLANK(A795),\"\",IF(ISBLANK(B795),\"\",VLOOKUP(B795,Teams!A$2:B$95,2,0)))","v":""},{"$f":"IF(ISBLANK(A795),\"\",VLOOKUP(A795,Etappe!A$2:B$13,2,FALSE))","v":""}]
[null,null,null,null,"",{"$f":"IF( ISBLANK(A796),\"\",IF(ISBLANK(B796),\"\",VLOOKUP(B796,Teams!A$2:B$95,2,0)))","v":""},{"$f":"IF(ISBLANK(A796),\"\",VLOOKUP(A796,Etappe!A$2:B$13,2,FALSE))","v":""}]
[null,null,null,null,"",{"$f":"IF( ISBLANK(A797),\"\",IF(ISBLANK(B797),\"\",VLOOKUP(B797,Teams!A$2:B$95,2,0)))","v":""},{"$f":"IF(ISBLANK(A797),\"\",VLOOKUP(A797,Etappe!A$2:B$13,2,FALSE))","v":""}]
[null,null,null,null,"",{"$f":"IF( ISBLANK(A798),\"\",IF(ISBLANK(B798),\"\",VLOOKUP(B798,Teams!A$2:B$95,2,0)))","v":""},{"$f":"IF(ISBLANK(A798),\"\",VLOOKUP(A798,Etappe!A$2:B$13,2,FALSE))","v":""}]
[null,null,null,null,"",{"$f":"IF( ISBLANK(A799),\"\",IF(ISBLANK(B799),\"\",VLOOKUP(B799,Teams!A$2:B$95,2,0)))","v":""},{"$f":"IF(ISBLANK(A799),\"\",VLOOKUP(A799,Etappe!A$2:B$13,2,FALSE))","v":""}]
[null,null,null,null,"",{"$f":"IF( ISBLANK(A800),\"\",IF(ISBLANK(B800),\"\",VLOOKUP(B800,Teams!A$2:B$95,2,0)))","v":""},{"$f":"IF(ISBLANK(A800),\"\",VLOOKUP(A800,Etappe!A$2:B$13,2,FALSE))","v":""}]
[null,null,null,null,"",{"$f":"IF( ISBLANK(A801),\"\",IF(ISBLANK(B801),\"\",VLOOKUP(B801,Teams!A$2:B$95,2,0)))","v":""},{"$f":"IF(ISBLANK(A801),\"\",VLOOKUP(A801,Etappe!A$2:B$13,2,FALSE))","v":""}]
[null,null,null,null,"",{"$f":"IF( ISBLANK(A802),\"\",IF(ISBLANK(B802),\"\",VLOOKUP(B802,Teams!A$2:B$95,2,0)))","v":""},{"$f":"IF(ISBLANK(A802),\"\",VLOOKUP(A802,Etappe!A$2:B$13,2,FALSE))","v":""}]
[null,null,null,null,"",{"$f":"IF( ISBLANK(A803),\"\",IF(ISBLANK(B803),\"\",VLOOKUP(B803,Teams!A$2:B$95,2,0)))","v":""},{"$f":"IF(ISBLANK(A803),\"\",VLOOKUP(A803,Etappe!A$2:B$13,2,FALSE))","v":""}]
[null,null,null,null,"",{"$f":"IF( ISBLANK(A804),\"\",IF(ISBLANK(B804),\"\",VLOOKUP(B804,Teams!A$2:B$95,2,0)))","v":""},{"$f":"IF(ISBLANK(A804),\"\",VLOOKUP(A804,Etappe!A$2:B$13,2,FALSE))","v":""}]
[null,null,null,null,"",{"$f":"IF( ISBLANK(A805),\"\",IF(ISBLANK(B805),\"\",VLOOKUP(B805,Teams!A$2:B$95,2,0)))","v":""},{"$f":"IF(ISBLANK(A805),\"\",VLOOKUP(A805,Etappe!A$2:B$13,2,FALSE))","v":""}]
[null,null,null,null,"",{"$f":"IF( ISBLANK(A806),\"\",IF(ISBLANK(B806),\"\",VLOOKUP(B806,Teams!A$2:B$95,2,0)))","v":""},{"$f":"IF(ISBLANK(A806),\"\",VLOOKUP(A806,Etappe!A$2:B$13,2,FALSE))","v":""}]
[null,null,null,null,"",{"$f":"IF( ISBLANK(A807),\"\",IF(ISBLANK(B807),\"\",VLOOKUP(B807,Teams!A$2:B$95,2,0)))","v":""},{"$f":"IF(ISBLANK(A807),\"\",VLOOKUP(A807,Etappe!A$2:B$13,2,FALSE))","v":""}]
[null,null,null,null,"",{"$f":"IF( ISBLANK(A808),\"\",IF(ISBLANK(B808),\"\",VLOOKUP(B808,Teams!A$2:B$95,2,0)))","v":""},{"$f":"IF(ISBLANK(A808),\"\",VLOOKUP(A808,Etappe!A$2:B$13,2,FALSE))","v":""}]
[null,null,null,null,"",{"$f":"IF( ISBLANK(A809),\"\",IF(ISBLANK(B809),\"\",VLOOKUP(B809,Teams!A$2:B$95,2,0)))","v":""},{"$f":"IF(ISBLANK(A809),\"\",VLOOKUP(A809,Etappe!A$2:B$13,2,FALSE))","v":""}]
[null,null,null,null,"",{"$f":"IF( ISBLANK(A810),\"\",IF(ISBLANK(B810),\"\",VLOOKUP(B810,Teams!A$2:B$95,2,0)))","v":""},{"$f":"IF(ISBLANK(A810),\"\",VLOOKUP(A810,Etappe!A$2:B$13,2,FALSE))","v":""}]
[null,null,null,null,"",{"$f":"IF( ISBLANK(A811),\"\",IF(ISBLANK(B811),\"\",VLOOKUP(B811,Teams!A$2:B$95,2,0)))","v":""},{"$f":"IF(ISBLANK(A811),\"\",VLOOKUP(A811,Etappe!A$2:B$13,2,FALSE))","v":""}]
[null,null,null,null,"",{"$f":"IF( ISBLANK(A812),\"\",IF(ISBLANK(B812),\"\",VLOOKUP(B812,Teams!A$2:B$95,2,0)))","v":""},{"$f":"IF(ISBLANK(A812),\"\",VLOOKUP(A812,Etappe!A$2:B$13,2,FALSE))","v":""}]
[null,null,null,null,"",{"$f":"IF( ISBLANK(A813),\"\",IF(ISBLANK(B813),\"\",VLOOKUP(B813,Teams!A$2:B$95,2,0)))","v":""},{"$f":"IF(ISBLANK(A813),\"\",VLOOKUP(A813,Etappe!A$2:B$13,2,FALSE))","v":""}]
[null,null,null,null,"",{"$f":"IF( ISBLANK(A814),\"\",IF(ISBLANK(B814),\"\",VLOOKUP(B814,Teams!A$2:B$95,2,0)))","v":""},{"$f":"IF(ISBLANK(A814),\"\",VLOOKUP(A814,Etappe!A$2:B$13,2,FALSE))","v":""}]
[null,null,null,null,"",{"$f":"IF( ISBLANK(A815),\"\",IF(ISBLANK(B815),\"\",VLOOKUP(B815,Teams!A$2:B$95,2,0)))","v":""},{"$f":"IF(ISBLANK(A815),\"\",VLOOKUP(A815,Etappe!A$2:B$13,2,FALSE))","v":""}]
[null,null,null,null,"",{"$f":"IF( ISBLANK(A816),\"\",IF(ISBLANK(B816),\"\",VLOOKUP(B816,Teams!A$2:B$95,2,0)))","v":""},{"$f":"IF(ISBLANK(A816),\"\",VLOOKUP(A816,Etappe!A$2:B$13,2,FALSE))","v":""}]
[null,null,null,null,"",{"$f":"IF( ISBLANK(A817),\"\",IF(ISBLANK(B817),\"\",VLOOKUP(B817,Teams!A$2:B$95,2,0)))","v":""},{"$f":"IF(ISBLANK(A817),\"\",VLOOKUP(A817,Etappe!A$2:B$13,2,FALSE))","v":""}]
[null,null,null,null,"",{"$f":"IF( ISBLANK(A818),\"\",IF(ISBLANK(B818),\"\",VLOOKUP(B818,Teams!A$2:B$95,2,0)))","v":""},{"$f":"IF(ISBLANK(A818),\"\",VLOOKUP(A818,Etappe!A$2:B$13,2,FALSE))","v":""}]
[null,null,null,null,"",{"$f":"IF( ISBLANK(A819),\"\",IF(ISBLANK(B819),\"\",VLOOKUP(B819,Teams!A$2:B$95,2,0)))","v":""},{"$f":"IF(ISBLANK(A819),\"\",VLOOKUP(A819,Etappe!A$2:B$13,2,FALSE))","v":""}]
[null,null,null,null,"",{"$f":"IF( ISBLANK(A820),\"\",IF(ISBLANK(B820),\"\",VLOOKUP(B820,Teams!A$2:B$95,2,0)))","v":""},{"$f":"IF(ISBLANK(A820),\"\",VLOOKUP(A820,Etappe!A$2:B$13,2,FALSE))","v":""}]
[null,null,null,null,"",{"$f":"IF( ISBLANK(A821),\"\",IF(ISBLANK(B821),\"\",VLOOKUP(B821,Teams!A$2:B$95,2,0)))","v":""},{"$f":"IF(ISBLANK(A821),\"\",VLOOKUP(A821,Etappe!A$2:B$13,2,FALSE))","v":""}]
[null,null,null,null,"",{"$f":"IF( ISBLANK(A822),\"\",IF(ISBLANK(B822),\"\",VLOOKUP(B822,Teams!A$2:B$95,2,0)))","v":""},{"$f":"IF(ISBLANK(A822),\"\",VLOOKUP(A822,Etappe!A$2:B$13,2,FALSE))","v":""}]
[null,null,null,null,"",{"$f":"IF( ISBLANK(A823),\"\",IF(ISBLANK(B823),\"\",VLOOKUP(B823,Teams!A$2:B$95,2,0)))","v":""},{"$f":"IF(ISBLANK(A823),\"\",VLOOKUP(A823,Etappe!A$2:B$13,2,FALSE))","v":""}]
[null,null,null,null,"",{"$f":"IF( ISBLANK(A824),\"\",IF(ISBLANK(B824),\"\",VLOOKUP(B824,Teams!A$2:B$95,2,0)))","v":""},{"$f":"IF(ISBLANK(A824),\"\",VLOOKUP(A824,Etappe!A$2:B$13,2,FALSE))","v":""}]
[null,null,null,null,"",{"$f":"IF( ISBLANK(A825),\"\",IF(ISBLANK(B825),\"\",VLOOKUP(B825,Teams!A$2:B$95,2,0)))","v":""},{"$f":"IF(ISBLANK(A825),\"\",VLOOKUP(A825,Etappe!A$2:B$13,2,FALSE))","v":""}]
[null,null,null,null,"",{"$f":"IF( ISBLANK(A826),\"\",IF(ISBLANK(B826),\"\",VLOOKUP(B826,Teams!A$2:B$95,2,0)))","v":""},{"$f":"IF(ISBLANK(A826),\"\",VLOOKUP(A826,Etappe!A$2:B$13,2,FALSE))","v":""}]
[null,null,null,null,"",{"$f":"IF( ISBLANK(A827),\"\",IF(ISBLANK(B827),\"\",VLOOKUP(B827,Teams!A$2:B$95,2,0)))","v":""},{"$f":"IF(ISBLANK(A827),\"\",VLOOKUP(A827,Etappe!A$2:B$13,2,FALSE))","v":""}]
[null,null,null,null,"",{"$f":"IF( ISBLANK(A828),\"\",IF(ISBLANK(B828),\"\",VLOOKUP(B828,Teams!A$2:B$95,2,0)))","v":""},{"$f":"IF(ISBLANK(A828),\"\",VLOOKUP(A828,Etappe!A$2:B$13,2,FALSE))","v":""}]
[null,null,null,null,"",{"$f":"IF( ISBLANK(A829),\"\",IF(ISBLANK(B829),\"\",VLOOKUP(B829,Teams!A$2:B$95,2,0)))","v":""},{"$f":"IF(ISBLANK(A829),\"\",VLOOKUP(A829,Etappe!A$2:B$13,2,FALSE))","v":""}]
[null,null,null,null,"",{"$f":"IF( ISBLANK(A830),\"\",IF(ISBLANK(B830),\"\",VLOOKUP(B830,Teams!A$2:B$95,2,0)))","v":""},{"$f":"IF(ISBLANK(A830),\"\",VLOOKUP(A830,Etappe!A$2:B$13,2,FALSE))","v":""}]
[null,null,null,null,"",{"$f":"IF( ISBLANK(A831),\"\",IF(ISBLANK(B831),\"\",VLOOKUP(B831,Teams!A$2:B$95,2,0)))","v":""},{"$f":"IF(ISBLANK(A831),\"\",VLOOKUP(A831,Etappe!A$2:B$13,2,FALSE))","v":""}]
[null,null,null,null,"",{"$f":"IF( ISBLANK(A832),\"\",IF(ISBLANK(B832),\"\",VLOOKUP(B832,Teams!A$2:B$95,2,0)))","v":""},{"$f":"IF(ISBLANK(A832),\"\",VLOOKUP(A832,Etappe!A$2:B$13,2,FALSE))","v":""}]
[null,null,null,null,"",{"$f":"IF( ISBLANK(A833),\"\",IF(ISBLANK(B833),\"\",VLOOKUP(B833,Teams!A$2:B$95,2,0)))","v":""},{"$f":"IF(ISBLANK(A833),\"\",VLOOKUP(A833,Etappe!A$2:B$13,2,FALSE))","v":""}]
[null,null,null,null,"",{"$f":"IF( ISBLANK(A834),\"\",IF(ISBLANK(B834),\"\",VLOOKUP(B834,Teams!A$2:B$95,2,0)))","v":""},{"$f":"IF(ISBLANK(A834),\"\",VLOOKUP(A834,Etappe!A$2:B$13,2,FALSE))","v":""}]
[null,null,null,null,{"$f":"IF(ISBLANK(A835),\"\",IF(C835=\"v\",0.9*D835,D835))","v":""},{"$f":"IF( ISBLANK(A835),\"\",IF(ISBLANK(B835),\"\",VLOOKUP(B835,Teams!A$2:B$95,2,0)))","v":""},{"$f":"IF(ISBLANK(A835),\"\",VLOOKUP(A835,Etappe!A$2:B$13,2,FALSE))","v":""}]
[null,null,null,null,"",{"$f":"IF( ISBLANK(A836),\"\",IF(ISBLANK(B836),\"\",VLOOKUP(B836,Teams!A$2:B$95,2,0)))","v":""},{"$f":"IF(ISBLANK(A836),\"\",VLOOKUP(A836,Etappe!A$2:B$13,2,FALSE))","v":""}]
[null,null,null,null,"",{"$f":"IF( ISBLANK(A837),\"\",IF(ISBLANK(B837),\"\",VLOOKUP(B837,Teams!A$2:B$95,2,0)))","v":""},{"$f":"IF(ISBLANK(A837),\"\",VLOOKUP(A837,Etappe!A$2:B$13,2,FALSE))","v":""}]
[null,null,null,null,"",{"$f":"IF( ISBLANK(A838),\"\",IF(ISBLANK(B838),\"\",VLOOKUP(B838,Teams!A$2:B$95,2,0)))","v":""},{"$f":"IF(ISBLANK(A838),\"\",VLOOKUP(A838,Etappe!A$2:B$13,2,FALSE))","v":""}]
[null,null,null,null,"",{"$f":"IF( ISBLANK(A839),\"\",IF(ISBLANK(B839),\"\",VLOOKUP(B839,Teams!A$2:B$95,2,0)))","v":""},{"$f":"IF(ISBLANK(A839),\"\",VLOOKUP(A839,Etappe!A$2:B$13,2,FALSE))","v":""}]
[null,null,null,null,"",{"$f":"IF( ISBLANK(A840),\"\",IF(ISBLANK(B840),\"\",VLOOKUP(B840,Teams!A$2:B$95,2,0)))","v":""},{"$f":"IF(ISBLANK(A840),\"\",VLOOKUP(A840,Etappe!A$2:B$13,2,FALSE))","v":""}]
[null,null,null,null,"",{"$f":"IF( ISBLANK(A841),\"\",IF(ISBLANK(B841),\"\",VLOOKUP(B841,Teams!A$2:B$95,2,0)))","v":""},{"$f":"IF(ISBLANK(A841),\"\",VLOOKUP(A841,Etappe!A$2:B$13,2,FALSE))","v":""}]
[null,null,null,null,"",{"$f":"IF( ISBLANK(A842),\"\",IF(ISBLANK(B842),\"\",VLOOKUP(B842,Teams!A$2:B$95,2,0)))","v":""},{"$f":"IF(ISBLANK(A842),\"\",VLOOKUP(A842,Etappe!A$2:B$13,2,FALSE))","v":""}]
[null,null,null,null,"",{"$f":"IF( ISBLANK(A843),\"\",IF(ISBLANK(B843),\"\",VLOOKUP(B843,Teams!A$2:B$95,2,0)))","v":""},{"$f":"IF(ISBLANK(A843),\"\",VLOOKUP(A843,Etappe!A$2:B$13,2,FALSE))","v":""}]
[null,null,null,null,"",{"$f":"IF( ISBLANK(A844),\"\",IF(ISBLANK(B844),\"\",VLOOKUP(B844,Teams!A$2:B$95,2,0)))","v":""},{"$f":"IF(ISBLANK(A844),\"\",VLOOKUP(A844,Etappe!A$2:B$13,2,FALSE))","v":""}]
[null,null,null,null,"",{"$f":"IF( ISBLANK(A845),\"\",IF(ISBLANK(B845),\"\",VLOOKUP(B845,Teams!A$2:B$95,2,0)))","v":""},{"$f":"IF(ISBLANK(A845),\"\",VLOOKUP(A845,Etappe!A$2:B$13,2,FALSE))","v":""}]
[null,null,null,null,"",{"$f":"IF( ISBLANK(A846),\"\",IF(ISBLANK(B846),\"\",VLOOKUP(B846,Teams!A$2:B$95,2,0)))","v":""},{"$f":"IF(ISBLANK(A846),\"\",VLOOKUP(A846,Etappe!A$2:B$13,2,FALSE))","v":""}]
[null,null,null,null,"",{"$f":"IF( ISBLANK(A847),\"\",IF(ISBLANK(B847),\"\",VLOOKUP(B847,Teams!A$2:B$95,2,0)))","v":""},{"$f":"IF(ISBLANK(A847),\"\",VLOOKUP(A847,Etappe!A$2:B$13,2,FALSE))","v":""}]
[null,null,null,null,"",{"$f":"IF( ISBLANK(A848),\"\",IF(ISBLANK(B848),\"\",VLOOKUP(B848,Teams!A$2:B$95,2,0)))","v":""},{"$f":"IF(ISBLANK(A848),\"\",VLOOKUP(A848,Etappe!A$2:B$13,2,FALSE))","v":""}]
[null,null,null,null,"",{"$f":"IF( ISBLANK(A849),\"\",IF(ISBLANK(B849),\"\",VLOOKUP(B849,Teams!A$2:B$95,2,0)))","v":""},{"$f":"IF(ISBLANK(A849),\"\",VLOOKUP(A849,Etappe!A$2:B$13,2,FALSE))","v":""}]
[null,null,null,null,"",{"$f":"IF( ISBLANK(A850),\"\",IF(ISBLANK(B850),\"\",VLOOKUP(B850,Teams!A$2:B$95,2,0)))","v":""},{"$f":"IF(ISBLANK(A850),\"\",VLOOKUP(A850,Etappe!A$2:B$13,2,FALSE))","v":""}]
[null,null,null,null,"",{"$f":"IF( ISBLANK(A851),\"\",IF(ISBLANK(B851),\"\",VLOOKUP(B851,Teams!A$2:B$95,2,0)))","v":""},{"$f":"IF(ISBLANK(A851),\"\",VLOOKUP(A851,Etappe!A$2:B$13,2,FALSE))","v":""}]
[null,null,null,null,"",{"$f":"IF( ISBLANK(A852),\"\",IF(ISBLANK(B852),\"\",VLOOKUP(B852,Teams!A$2:B$95,2,0)))","v":""},{"$f":"IF(ISBLANK(A852),\"\",VLOOKUP(A852,Etappe!A$2:B$13,2,FALSE))","v":""}]
[null,null,null,null,"",{"$f":"IF( ISBLANK(A853),\"\",IF(ISBLANK(B853),\"\",VLOOKUP(B853,Teams!A$2:B$95,2,0)))","v":""},{"$f":"IF(ISBLANK(A853),\"\",VLOOKUP(A853,Etappe!A$2:B$13,2,FALSE))","v":""}]
[null,null,null,null,"",{"$f":"IF( ISBLANK(A854),\"\",IF(ISBLANK(B854),\"\",VLOOKUP(B854,Teams!A$2:B$95,2,0)))","v":""},{"$f":"IF(ISBLANK(A854),\"\",VLOOKUP(A854,Etappe!A$2:B$13,2,FALSE))","v":""}]
[null,null,null,null,"",{"$f":"IF( ISBLANK(A855),\"\",IF(ISBLANK(B855),\"\",VLOOKUP(B855,Teams!A$2:B$95,2,0)))","v":""},{"$f":"IF(ISBLANK(A855),\"\",VLOOKUP(A855,Etappe!A$2:B$13,2,FALSE))","v":""}]
[null,null,null,null,"",{"$f":"IF( ISBLANK(A856),\"\",IF(ISBLANK(B856),\"\",VLOOKUP(B856,Teams!A$2:B$95,2,0)))","v":""},{"$f":"IF(ISBLANK(A856),\"\",VLOOKUP(A856,Etappe!A$2:B$13,2,FALSE))","v":""}]
[null,null,null,null,"",{"$f":"IF( ISBLANK(A857),\"\",IF(ISBLANK(B857),\"\",VLOOKUP(B857,Teams!A$2:B$95,2,0)))","v":""},{"$f":"IF(ISBLANK(A857),\"\",VLOOKUP(A857,Etappe!A$2:B$13,2,FALSE))","v":""}]
[null,null,null,null,"",{"$f":"IF( ISBLANK(A858),\"\",IF(ISBLANK(B858),\"\",VLOOKUP(B858,Teams!A$2:B$95,2,0)))","v":""},{"$f":"IF(ISBLANK(A858),\"\",VLOOKUP(A858,Etappe!A$2:B$13,2,FALSE))","v":""}]
[null,null,null,null,"",{"$f":"IF( ISBLANK(A859),\"\",IF(ISBLANK(B859),\"\",VLOOKUP(B859,Teams!A$2:B$95,2,0)))","v":""},{"$f":"IF(ISBLANK(A859),\"\",VLOOKUP(A859,Etappe!A$2:B$13,2,FALSE))","v":""}]
[null,null,null,null,"",{"$f":"IF( ISBLANK(A860),\"\",IF(ISBLANK(B860),\"\",VLOOKUP(B860,Teams!A$2:B$95,2,0)))","v":""},{"$f":"IF(ISBLANK(A860),\"\",VLOOKUP(A860,Etappe!A$2:B$13,2,FALSE))","v":""}]
[null,null,null,null,"",{"$f":"IF( ISBLANK(A861),\"\",IF(ISBLANK(B861),\"\",VLOOKUP(B861,Teams!A$2:B$95,2,0)))","v":""},{"$f":"IF(ISBLANK(A861),\"\",VLOOKUP(A861,Etappe!A$2:B$13,2,FALSE))","v":""}]
[null,null,null,null,"",{"$f":"IF( ISBLANK(A862),\"\",IF(ISBLANK(B862),\"\",VLOOKUP(B862,Teams!A$2:B$95,2,0)))","v":""},{"$f":"IF(ISBLANK(A862),\"\",VLOOKUP(A862,Etappe!A$2:B$13,2,FALSE))","v":""}]
[null,null,null,null,"",{"$f":"IF( ISBLANK(A863),\"\",IF(ISBLANK(B863),\"\",VLOOKUP(B863,Teams!A$2:B$95,2,0)))","v":""},{"$f":"IF(ISBLANK(A863),\"\",VLOOKUP(A863,Etappe!A$2:B$13,2,FALSE))","v":""}]
[null,null,null,null,"",{"$f":"IF( ISBLANK(A864),\"\",IF(ISBLANK(B864),\"\",VLOOKUP(B864,Teams!A$2:B$95,2,0)))","v":""},{"$f":"IF(ISBLANK(A864),\"\",VLOOKUP(A864,Etappe!A$2:B$13,2,FALSE))","v":""}]
[null,null,null,null,"",{"$f":"IF( ISBLANK(A865),\"\",IF(ISBLANK(B865),\"\",VLOOKUP(B865,Teams!A$2:B$95,2,0)))","v":""},{"$f":"IF(ISBLANK(A865),\"\",VLOOKUP(A865,Etappe!A$2:B$13,2,FALSE))","v":""}]
[null,null,null,null,"",{"$f":"IF( ISBLANK(A866),\"\",IF(ISBLANK(B866),\"\",VLOOKUP(B866,Teams!A$2:B$95,2,0)))","v":""},{"$f":"IF(ISBLANK(A866),\"\",VLOOKUP(A866,Etappe!A$2:B$13,2,FALSE))","v":""}]
[null,null,null,null,"",{"$f":"IF( ISBLANK(A867),\"\",IF(ISBLANK(B867),\"\",VLOOKUP(B867,Teams!A$2:B$95,2,0)))","v":""},{"$f":"IF(ISBLANK(A867),\"\",VLOOKUP(A867,Etappe!A$2:B$13,2,FALSE))","v":""}]
[null,null,null,null,"",{"$f":"IF( ISBLANK(A868),\"\",IF(ISBLANK(B868),\"\",VLOOKUP(B868,Teams!A$2:B$95,2,0)))","v":""},{"$f":"IF(ISBLANK(A868),\"\",VLOOKUP(A868,Etappe!A$2:B$13,2,FALSE))","v":""}]
[null,null,null,null,"",{"$f":"IF( ISBLANK(A869),\"\",IF(ISBLANK(B869),\"\",VLOOKUP(B869,Teams!A$2:B$95,2,0)))","v":""},{"$f":"IF(ISBLANK(A869),\"\",VLOOKUP(A869,Etappe!A$2:B$13,2,FALSE))","v":""}]
[null,null,null,null,"",{"$f":"IF( ISBLANK(A870),\"\",IF(ISBLANK(B870),\"\",VLOOKUP(B870,Teams!A$2:B$95,2,0)))","v":""},{"$f":"IF(ISBLANK(A870),\"\",VLOOKUP(A870,Etappe!A$2:B$13,2,FALSE))","v":""}]
[null,null,null,null,"",{"$f":"IF( ISBLANK(A871),\"\",IF(ISBLANK(B871),\"\",VLOOKUP(B871,Teams!A$2:B$95,2,0)))","v":""},{"$f":"IF(ISBLANK(A871),\"\",VLOOKUP(A871,Etappe!A$2:B$13,2,FALSE))","v":""}]
[null,null,null,null,"",{"$f":"IF( ISBLANK(A872),\"\",IF(ISBLANK(B872),\"\",VLOOKUP(B872,Teams!A$2:B$95,2,0)))","v":""},{"$f":"IF(ISBLANK(A872),\"\",VLOOKUP(A872,Etappe!A$2:B$13,2,FALSE))","v":""}]
[null,null,null,null,"",{"$f":"IF( ISBLANK(A873),\"\",IF(ISBLANK(B873),\"\",VLOOKUP(B873,Teams!A$2:B$95,2,0)))","v":""},{"$f":"IF(ISBLANK(A873),\"\",VLOOKUP(A873,Etappe!A$2:B$13,2,FALSE))","v":""}]
[null,null,null,null,"",{"$f":"IF( ISBLANK(A874),\"\",IF(ISBLANK(B874),\"\",VLOOKUP(B874,Teams!A$2:B$95,2,0)))","v":""},{"$f":"IF(ISBLANK(A874),\"\",VLOOKUP(A874,Etappe!A$2:B$13,2,FALSE))","v":""}]
[null,null,null,null,"",{"$f":"IF( ISBLANK(A875),\"\",IF(ISBLANK(B875),\"\",VLOOKUP(B875,Teams!A$2:B$95,2,0)))","v":""},{"$f":"IF(ISBLANK(A875),\"\",VLOOKUP(A875,Etappe!A$2:B$13,2,FALSE))","v":""}]
[null,null,null,null,"",{"$f":"IF( ISBLANK(A876),\"\",IF(ISBLANK(B876),\"\",VLOOKUP(B876,Teams!A$2:B$95,2,0)))","v":""},{"$f":"IF(ISBLANK(A876),\"\",VLOOKUP(A876,Etappe!A$2:B$13,2,FALSE))","v":""}]
[null,null,null,null,"",{"$f":"IF( ISBLANK(A877),\"\",IF(ISBLANK(B877),\"\",VLOOKUP(B877,Teams!A$2:B$95,2,0)))","v":""},{"$f":"IF(ISBLANK(A877),\"\",VLOOKUP(A877,Etappe!A$2:B$13,2,FALSE))","v":""}]
[null,null,null,null,"",{"$f":"IF( ISBLANK(A878),\"\",IF(ISBLANK(B878),\"\",VLOOKUP(B878,Teams!A$2:B$95,2,0)))","v":""},{"$f":"IF(ISBLANK(A878),\"\",VLOOKUP(A878,Etappe!A$2:B$13,2,FALSE))","v":""}]
[null,null,null,null,"",{"$f":"IF( ISBLANK(A879),\"\",IF(ISBLANK(B879),\"\",VLOOKUP(B879,Teams!A$2:B$95,2,0)))","v":""},{"$f":"IF(ISBLANK(A879),\"\",VLOOKUP(A879,Etappe!A$2:B$13,2,FALSE))","v":""}]
[null,null,null,null,"",{"$f":"IF( ISBLANK(A880),\"\",IF(ISBLANK(B880),\"\",VLOOKUP(B880,Teams!A$2:B$95,2,0)))","v":""},{"$f":"IF(ISBLANK(A880),\"\",VLOOKUP(A880,Etappe!A$2:B$13,2,FALSE))","v":""}]
[null,null,null,null,"",{"$f":"IF( ISBLANK(A881),\"\",IF(ISBLANK(B881),\"\",VLOOKUP(B881,Teams!A$2:B$95,2,0)))","v":""},{"$f":"IF(ISBLANK(A881),\"\",VLOOKUP(A881,Etappe!A$2:B$13,2,FALSE))","v":""}]
[null,null,null,null,"",{"$f":"IF( ISBLANK(A882),\"\",IF(ISBLANK(B882),\"\",VLOOKUP(B882,Teams!A$2:B$95,2,0)))","v":""},{"$f":"IF(ISBLANK(A882),\"\",VLOOKUP(A882,Etappe!A$2:B$13,2,FALSE))","v":""}]
[null,null,null,null,"",{"$f":"IF( ISBLANK(A883),\"\",IF(ISBLANK(B883),\"\",VLOOKUP(B883,Teams!A$2:B$95,2,0)))","v":""},{"$f":"IF(ISBLANK(A883),\"\",VLOOKUP(A883,Etappe!A$2:B$13,2,FALSE))","v":""}]
[null,null,null,null,"",{"$f":"IF( ISBLANK(A884),\"\",IF(ISBLANK(B884),\"\",VLOOKUP(B884,Teams!A$2:B$95,2,0)))","v":""},{"$f":"IF(ISBLANK(A884),\"\",VLOOKUP(A884,Etappe!A$2:B$13,2,FALSE))","v":""}]
[null,null,null,null,"",{"$f":"IF( ISBLANK(A885),\"\",IF(ISBLANK(B885),\"\",VLOOKUP(B885,Teams!A$2:B$95,2,0)))","v":""},{"$f":"IF(ISBLANK(A885),\"\",VLOOKUP(A885,Etappe!A$2:B$13,2,FALSE))","v":""}]
[null,null,null,null,"",{"$f":"IF( ISBLANK(A886),\"\",IF(ISBLANK(B886),\"\",VLOOKUP(B886,Teams!A$2:B$95,2,0)))","v":""},{"$f":"IF(ISBLANK(A886),\"\",VLOOKUP(A886,Etappe!A$2:B$13,2,FALSE))","v":""}]
[null,null,null,null,"",{"$f":"IF( ISBLANK(A887),\"\",IF(ISBLANK(B887),\"\",VLOOKUP(B887,Teams!A$2:B$95,2,0)))","v":""},{"$f":"IF(ISBLANK(A887),\"\",VLOOKUP(A887,Etappe!A$2:B$13,2,FALSE))","v":""}]
[null,null,null,null,"",{"$f":"IF( ISBLANK(A888),\"\",IF(ISBLANK(B888),\"\",VLOOKUP(B888,Teams!A$2:B$95,2,0)))","v":""},{"$f":"IF(ISBLANK(A888),\"\",VLOOKUP(A888,Etappe!A$2:B$13,2,FALSE))","v":""}]
[null,null,null,null,"",{"$f":"IF( ISBLANK(A889),\"\",IF(ISBLANK(B889),\"\",VLOOKUP(B889,Teams!A$2:B$95,2,0)))","v":""},{"$f":"IF(ISBLANK(A889),\"\",VLOOKUP(A889,Etappe!A$2:B$13,2,FALSE))","v":""}]
[null,null,null,null,"",{"$f":"IF( ISBLANK(A890),\"\",IF(ISBLANK(B890),\"\",VLOOKUP(B890,Teams!A$2:B$95,2,0)))","v":""},{"$f":"IF(ISBLANK(A890),\"\",VLOOKUP(A890,Etappe!A$2:B$13,2,FALSE))","v":""}]
[null,null,null,null,"",{"$f":"IF( ISBLANK(A891),\"\",IF(ISBLANK(B891),\"\",VLOOKUP(B891,Teams!A$2:B$95,2,0)))","v":""},{"$f":"IF(ISBLANK(A891),\"\",VLOOKUP(A891,Etappe!A$2:B$13,2,FALSE))","v":""}]
[null,null,null,null,"",{"$f":"IF( ISBLANK(A892),\"\",IF(ISBLANK(B892),\"\",VLOOKUP(B892,Teams!A$2:B$95,2,0)))","v":""},{"$f":"IF(ISBLANK(A892),\"\",VLOOKUP(A892,Etappe!A$2:B$13,2,FALSE))","v":""}]
[null,null,null,null,"",{"$f":"IF( ISBLANK(A893),\"\",IF(ISBLANK(B893),\"\",VLOOKUP(B893,Teams!A$2:B$95,2,0)))","v":""},{"$f":"IF(ISBLANK(A893),\"\",VLOOKUP(A893,Etappe!A$2:B$13,2,FALSE))","v":""}]
[null,null,null,null,"",{"$f":"IF( ISBLANK(A894),\"\",IF(ISBLANK(B894),\"\",VLOOKUP(B894,Teams!A$2:B$95,2,0)))","v":""},{"$f":"IF(ISBLANK(A894),\"\",VLOOKUP(A894,Etappe!A$2:B$13,2,FALSE))","v":""}]
[null,null,null,null,"",{"$f":"IF( ISBLANK(A895),\"\",IF(ISBLANK(B895),\"\",VLOOKUP(B895,Teams!A$2:B$95,2,0)))","v":""},{"$f":"IF(ISBLANK(A895),\"\",VLOOKUP(A895,Etappe!A$2:B$13,2,FALSE))","v":""}]
[null,null,null,null,"",{"$f":"IF( ISBLANK(A896),\"\",IF(ISBLANK(B896),\"\",VLOOKUP(B896,Teams!A$2:B$95,2,0)))","v":""},{"$f":"IF(ISBLANK(A896),\"\",VLOOKUP(A896,Etappe!A$2:B$13,2,FALSE))","v":""}]
[null,null,null,null,"",{"$f":"IF( ISBLANK(A897),\"\",IF(ISBLANK(B897),\"\",VLOOKUP(B897,Teams!A$2:B$95,2,0)))","v":""},{"$f":"IF(ISBLANK(A897),\"\",VLOOKUP(A897,Etappe!A$2:B$13,2,FALSE))","v":""}]
[null,null,null,null,"",{"$f":"IF( ISBLANK(A898),\"\",IF(ISBLANK(B898),\"\",VLOOKUP(B898,Teams!A$2:B$95,2,0)))","v":""},{"$f":"IF(ISBLANK(A898),\"\",VLOOKUP(A898,Etappe!A$2:B$13,2,FALSE))","v":""}]
[null,null,null,null,{"$f":"IF(ISBLANK(A899),\"\",IF(C899=\"v\",0.9*D899,D899))","v":""},{"$f":"IF( ISBLANK(A899),\"\",IF(ISBLANK(B899),\"\",VLOOKUP(B899,Teams!A$2:B$95,2,0)))","v":""},{"$f":"IF(ISBLANK(A899),\"\",VLOOKUP(A899,Etappe!A$2:B$13,2,FALSE))","v":""}]
[null,null,null,null,"",{"$f":"IF( ISBLANK(A900),\"\",IF(ISBLANK(B900),\"\",VLOOKUP(B900,Teams!A$2:B$95,2,0)))","v":""},{"$f":"IF(ISBLANK(A900),\"\",VLOOKUP(A900,Etappe!A$2:B$13,2,FALSE))","v":""}]
[null,null,null,null,"",{"$f":"IF( ISBLANK(A901),\"\",IF(ISBLANK(B901),\"\",VLOOKUP(B901,Teams!A$2:B$95,2,0)))","v":""},{"$f":"IF(ISBLANK(A901),\"\",VLOOKUP(A901,Etappe!A$2:B$13,2,FALSE))","v":""}]
[null,null,null,null,"",{"$f":"IF( ISBLANK(A902),\"\",IF(ISBLANK(B902),\"\",VLOOKUP(B902,Teams!A$2:B$95,2,0)))","v":""},{"$f":"IF(ISBLANK(A902),\"\",VLOOKUP(A902,Etappe!A$2:B$13,2,FALSE))","v":""}]
[null,null,null,null,"",{"$f":"IF( ISBLANK(A903),\"\",IF(ISBLANK(B903),\"\",VLOOKUP(B903,Teams!A$2:B$95,2,0)))","v":""},{"$f":"IF(ISBLANK(A903),\"\",VLOOKUP(A903,Etappe!A$2:B$13,2,FALSE))","v":""}]
[null,null,null,null,"",{"$f":"IF( ISBLANK(A904),\"\",IF(ISBLANK(B904),\"\",VLOOKUP(B904,Teams!A$2:B$95,2,0)))","v":""},{"$f":"IF(ISBLANK(A904),\"\",VLOOKUP(A904,Etappe!A$2:B$13,2,FALSE))","v":""}]
[null,null,null,null,"",{"$f":"IF( ISBLANK(A905),\"\",IF(ISBLANK(B905),\"\",VLOOKUP(B905,Teams!A$2:B$95,2,0)))","v":""},{"$f":"IF(ISBLANK(A905),\"\",VLOOKUP(A905,Etappe!A$2:B$13,2,FALSE))","v":""}]
[null,null,null,null,"",{"$f":"IF( ISBLANK(A906),\"\",IF(ISBLANK(B906),\"\",VLOOKUP(B906,Teams!A$2:B$95,2,0)))","v":""},{"$f":"IF(ISBLANK(A906),\"\",VLOOKUP(A906,Etappe!A$2:B$13,2,FALSE))","v":""}]
[null,null,null,null,"",{"$f":"IF( ISBLANK(A907),\"\",IF(ISBLANK(B907),\"\",VLOOKUP(B907,Teams!A$2:B$95,2,0)))","v":""},{"$f":"IF(ISBLANK(A907),\"\",VLOOKUP(A907,Etappe!A$2:B$13,2,FALSE))","v":""}]
[null,null,null,null,"",{"$f":"IF( ISBLANK(A908),\"\",IF(ISBLANK(B908),\"\",VLOOKUP(B908,Teams!A$2:B$95,2,0)))","v":""},{"$f":"IF(ISBLANK(A908),\"\",VLOOKUP(A908,Etappe!A$2:B$13,2,FALSE))","v":""}]
[null,null,null,null,"",{"$f":"IF( ISBLANK(A909),\"\",IF(ISBLANK(B909),\"\",VLOOKUP(B909,Teams!A$2:B$95,2,0)))","v":""},{"$f":"IF(ISBLANK(A909),\"\",VLOOKUP(A909,Etappe!A$2:B$13,2,FALSE))","v":""}]
[null,null,null,null,"",{"$f":"IF( ISBLANK(A910),\"\",IF(ISBLANK(B910),\"\",VLOOKUP(B910,Teams!A$2:B$95,2,0)))","v":""},{"$f":"IF(ISBLANK(A910),\"\",VLOOKUP(A910,Etappe!A$2:B$13,2,FALSE))","v":""}]
[null,null,null,null,"",{"$f":"IF( ISBLANK(A911),\"\",IF(ISBLANK(B911),\"\",VLOOKUP(B911,Teams!A$2:B$95,2,0)))","v":""},{"$f":"IF(ISBLANK(A911),\"\",VLOOKUP(A911,Etappe!A$2:B$13,2,FALSE))","v":""}]
[null,null,null,null,"",{"$f":"IF( ISBLANK(A912),\"\",IF(ISBLANK(B912),\"\",VLOOKUP(B912,Teams!A$2:B$95,2,0)))","v":""},{"$f":"IF(ISBLANK(A912),\"\",VLOOKUP(A912,Etappe!A$2:B$13,2,FALSE))","v":""}]
[null,null,null,null,"",{"$f":"IF( ISBLANK(A913),\"\",IF(ISBLANK(B913),\"\",VLOOKUP(B913,Teams!A$2:B$95,2,0)))","v":""},{"$f":"IF(ISBLANK(A913),\"\",VLOOKUP(A913,Etappe!A$2:B$13,2,FALSE))","v":""}]
[null,null,null,null,"",{"$f":"IF( ISBLANK(A914),\"\",IF(ISBLANK(B914),\"\",VLOOKUP(B914,Teams!A$2:B$95,2,0)))","v":""},{"$f":"IF(ISBLANK(A914),\"\",VLOOKUP(A914,Etappe!A$2:B$13,2,FALSE))","v":""}]
[null,null,null,null,"",{"$f":"IF( ISBLANK(A915),\"\",IF(ISBLANK(B915),\"\",VLOOKUP(B915,Teams!A$2:B$95,2,0)))","v":""},{"$f":"IF(ISBLANK(A915),\"\",VLOOKUP(A915,Etappe!A$2:B$13,2,FALSE))","v":""}]
[null,null,null,null,"",{"$f":"IF( ISBLANK(A916),\"\",IF(ISBLANK(B916),\"\",VLOOKUP(B916,Teams!A$2:B$95,2,0)))","v":""},{"$f":"IF(ISBLANK(A916),\"\",VLOOKUP(A916,Etappe!A$2:B$13,2,FALSE))","v":""}]
[null,null,null,null,"",{"$f":"IF( ISBLANK(A917),\"\",IF(ISBLANK(B917),\"\",VLOOKUP(B917,Teams!A$2:B$95,2,0)))","v":""},{"$f":"IF(ISBLANK(A917),\"\",VLOOKUP(A917,Etappe!A$2:B$13,2,FALSE))","v":""}]
[null,null,null,null,"",{"$f":"IF( ISBLANK(A918),\"\",IF(ISBLANK(B918),\"\",VLOOKUP(B918,Teams!A$2:B$95,2,0)))","v":""},{"$f":"IF(ISBLANK(A918),\"\",VLOOKUP(A918,Etappe!A$2:B$13,2,FALSE))","v":""}]
[null,null,null,null,"",{"$f":"IF( ISBLANK(A919),\"\",IF(ISBLANK(B919),\"\",VLOOKUP(B919,Teams!A$2:B$95,2,0)))","v":""},{"$f":"IF(ISBLANK(A919),\"\",VLOOKUP(A919,Etappe!A$2:B$13,2,FALSE))","v":""}]
[null,null,null,null,"",{"$f":"IF( ISBLANK(A920),\"\",IF(ISBLANK(B920),\"\",VLOOKUP(B920,Teams!A$2:B$95,2,0)))","v":""},{"$f":"IF(ISBLANK(A920),\"\",VLOOKUP(A920,Etappe!A$2:B$13,2,FALSE))","v":""}]
[null,null,null,null,"",{"$f":"IF( ISBLANK(A921),\"\",IF(ISBLANK(B921),\"\",VLOOKUP(B921,Teams!A$2:B$95,2,0)))","v":""},{"$f":"IF(ISBLANK(A921),\"\",VLOOKUP(A921,Etappe!A$2:B$13,2,FALSE))","v":""}]
[null,null,null,null,"",{"$f":"IF( ISBLANK(A922),\"\",IF(ISBLANK(B922),\"\",VLOOKUP(B922,Teams!A$2:B$95,2,0)))","v":""},{"$f":"IF(ISBLANK(A922),\"\",VLOOKUP(A922,Etappe!A$2:B$13,2,FALSE))","v":""}]
[null,null,null,null,"",{"$f":"IF( ISBLANK(A923),\"\",IF(ISBLANK(B923),\"\",VLOOKUP(B923,Teams!A$2:B$95,2,0)))","v":""},{"$f":"IF(ISBLANK(A923),\"\",VLOOKUP(A923,Etappe!A$2:B$13,2,FALSE))","v":""}]
[null,null,null,null,"",{"$f":"IF( ISBLANK(A924),\"\",IF(ISBLANK(B924),\"\",VLOOKUP(B924,Teams!A$2:B$95,2,0)))","v":""},{"$f":"IF(ISBLANK(A924),\"\",VLOOKUP(A924,Etappe!A$2:B$13,2,FALSE))","v":""}]
[null,null,null,null,"",{"$f":"IF( ISBLANK(A925),\"\",IF(ISBLANK(B925),\"\",VLOOKUP(B925,Teams!A$2:B$95,2,0)))","v":""},{"$f":"IF(ISBLANK(A925),\"\",VLOOKUP(A925,Etappe!A$2:B$13,2,FALSE))","v":""}]
[null,null,null,null,"",{"$f":"IF( ISBLANK(A926),\"\",IF(ISBLANK(B926),\"\",VLOOKUP(B926,Teams!A$2:B$95,2,0)))","v":""},{"$f":"IF(ISBLANK(A926),\"\",VLOOKUP(A926,Etappe!A$2:B$13,2,FALSE))","v":""}]
[null,null,null,null,"",{"$f":"IF( ISBLANK(A927),\"\",IF(ISBLANK(B927),\"\",VLOOKUP(B927,Teams!A$2:B$95,2,0)))","v":""},{"$f":"IF(ISBLANK(A927),\"\",VLOOKUP(A927,Etappe!A$2:B$13,2,FALSE))","v":""}]
[null,null,null,null,"",{"$f":"IF( ISBLANK(A928),\"\",IF(ISBLANK(B928),\"\",VLOOKUP(B928,Teams!A$2:B$95,2,0)))","v":""},{"$f":"IF(ISBLANK(A928),\"\",VLOOKUP(A928,Etappe!A$2:B$13,2,FALSE))","v":""}]
[null,null,null,null,"",{"$f":"IF( ISBLANK(A929),\"\",IF(ISBLANK(B929),\"\",VLOOKUP(B929,Teams!A$2:B$95,2,0)))","v":""},{"$f":"IF(ISBLANK(A929),\"\",VLOOKUP(A929,Etappe!A$2:B$13,2,FALSE))","v":""}]
[null,null,null,null,"",{"$f":"IF( ISBLANK(A930),\"\",IF(ISBLANK(B930),\"\",VLOOKUP(B930,Teams!A$2:B$95,2,0)))","v":""},{"$f":"IF(ISBLANK(A930),\"\",VLOOKUP(A930,Etappe!A$2:B$13,2,FALSE))","v":""}]
[null,null,null,null,"",{"$f":"IF( ISBLANK(A931),\"\",IF(ISBLANK(B931),\"\",VLOOKUP(B931,Teams!A$2:B$95,2,0)))","v":""},{"$f":"IF(ISBLANK(A931),\"\",VLOOKUP(A931,Etappe!A$2:B$13,2,FALSE))","v":""}]
[null,null,null,null,"",{"$f":"IF( ISBLANK(A932),\"\",IF(ISBLANK(B932),\"\",VLOOKUP(B932,Teams!A$2:B$95,2,0)))","v":""},{"$f":"IF(ISBLANK(A932),\"\",VLOOKUP(A932,Etappe!A$2:B$13,2,FALSE))","v":""}]
[null,null,null,null,"",{"$f":"IF( ISBLANK(A933),\"\",IF(ISBLANK(B933),\"\",VLOOKUP(B933,Teams!A$2:B$95,2,0)))","v":""},{"$f":"IF(ISBLANK(A933),\"\",VLOOKUP(A933,Etappe!A$2:B$13,2,FALSE))","v":""}]
[null,null,null,null,"",{"$f":"IF( ISBLANK(A934),\"\",IF(ISBLANK(B934),\"\",VLOOKUP(B934,Teams!A$2:B$95,2,0)))","v":""},{"$f":"IF(ISBLANK(A934),\"\",VLOOKUP(A934,Etappe!A$2:B$13,2,FALSE))","v":""}]
[null,null,null,null,"",{"$f":"IF( ISBLANK(A935),\"\",IF(ISBLANK(B935),\"\",VLOOKUP(B935,Teams!A$2:B$95,2,0)))","v":""},{"$f":"IF(ISBLANK(A935),\"\",VLOOKUP(A935,Etappe!A$2:B$13,2,FALSE))","v":""}]
[null,null,null,null,"",{"$f":"IF( ISBLANK(A936),\"\",IF(ISBLANK(B936),\"\",VLOOKUP(B936,Teams!A$2:B$95,2,0)))","v":""},{"$f":"IF(ISBLANK(A936),\"\",VLOOKUP(A936,Etappe!A$2:B$13,2,FALSE))","v":""}]
[null,null,null,null,"",{"$f":"IF( ISBLANK(A937),\"\",IF(ISBLANK(B937),\"\",VLOOKUP(B937,Teams!A$2:B$95,2,0)))","v":""},{"$f":"IF(ISBLANK(A937),\"\",VLOOKUP(A937,Etappe!A$2:B$13,2,FALSE))","v":""}]
[null,null,null,null,"",{"$f":"IF( ISBLANK(A938),\"\",IF(ISBLANK(B938),\"\",VLOOKUP(B938,Teams!A$2:B$95,2,0)))","v":""},{"$f":"IF(ISBLANK(A938),\"\",VLOOKUP(A938,Etappe!A$2:B$13,2,FALSE))","v":""}]
[null,null,null,null,"",{"$f":"IF( ISBLANK(A939),\"\",IF(ISBLANK(B939),\"\",VLOOKUP(B939,Teams!A$2:B$95,2,0)))","v":""},{"$f":"IF(ISBLANK(A939),\"\",VLOOKUP(A939,Etappe!A$2:B$13,2,FALSE))","v":""}]
[null,null,null,null,"",{"$f":"IF( ISBLANK(A940),\"\",IF(ISBLANK(B940),\"\",VLOOKUP(B940,Teams!A$2:B$95,2,0)))","v":""},{"$f":"IF(ISBLANK(A940),\"\",VLOOKUP(A940,Etappe!A$2:B$13,2,FALSE))","v":""}]
[null,null,null,null,"",{"$f":"IF( ISBLANK(A941),\"\",IF(ISBLANK(B941),\"\",VLOOKUP(B941,Teams!A$2:B$95,2,0)))","v":""},{"$f":"IF(ISBLANK(A941),\"\",VLOOKUP(A941,Etappe!A$2:B$13,2,FALSE))","v":""}]
[null,null,null,null,"",{"$f":"IF( ISBLANK(A942),\"\",IF(ISBLANK(B942),\"\",VLOOKUP(B942,Teams!A$2:B$95,2,0)))","v":""},{"$f":"IF(ISBLANK(A942),\"\",VLOOKUP(A942,Etappe!A$2:B$13,2,FALSE))","v":""}]
[null,null,null,null,"",{"$f":"IF( ISBLANK(A943),\"\",IF(ISBLANK(B943),\"\",VLOOKUP(B943,Teams!A$2:B$95,2,0)))","v":""},{"$f":"IF(ISBLANK(A943),\"\",VLOOKUP(A943,Etappe!A$2:B$13,2,FALSE))","v":""}]
[null,null,null,null,"",{"$f":"IF( ISBLANK(A944),\"\",IF(ISBLANK(B944),\"\",VLOOKUP(B944,Teams!A$2:B$95,2,0)))","v":""},{"$f":"IF(ISBLANK(A944),\"\",VLOOKUP(A944,Etappe!A$2:B$13,2,FALSE))","v":""}]
[null,null,null,null,"",{"$f":"IF( ISBLANK(A945),\"\",IF(ISBLANK(B945),\"\",VLOOKUP(B945,Teams!A$2:B$95,2,0)))","v":""},{"$f":"IF(ISBLANK(A945),\"\",VLOOKUP(A945,Etappe!A$2:B$13,2,FALSE))","v":""}]
[null,null,null,null,"",{"$f":"IF( ISBLANK(A946),\"\",IF(ISBLANK(B946),\"\",VLOOKUP(B946,Teams!A$2:B$95,2,0)))","v":""},{"$f":"IF(ISBLANK(A946),\"\",VLOOKUP(A946,Etappe!A$2:B$13,2,FALSE))","v":""}]
[null,null,null,null,"",{"$f":"IF( ISBLANK(A947),\"\",IF(ISBLANK(B947),\"\",VLOOKUP(B947,Teams!A$2:B$95,2,0)))","v":""},{"$f":"IF(ISBLANK(A947),\"\",VLOOKUP(A947,Etappe!A$2:B$13,2,FALSE))","v":""}]
[null,null,null,null,"",{"$f":"IF( ISBLANK(A948),\"\",IF(ISBLANK(B948),\"\",VLOOKUP(B948,Teams!A$2:B$95,2,0)))","v":""},{"$f":"IF(ISBLANK(A948),\"\",VLOOKUP(A948,Etappe!A$2:B$13,2,FALSE))","v":""}]
[null,null,null,null,"",{"$f":"IF( ISBLANK(A949),\"\",IF(ISBLANK(B949),\"\",VLOOKUP(B949,Teams!A$2:B$95,2,0)))","v":""},{"$f":"IF(ISBLANK(A949),\"\",VLOOKUP(A949,Etappe!A$2:B$13,2,FALSE))","v":""}]
[null,null,null,null,"",{"$f":"IF( ISBLANK(A950),\"\",IF(ISBLANK(B950),\"\",VLOOKUP(B950,Teams!A$2:B$95,2,0)))","v":""},{"$f":"IF(ISBLANK(A950),\"\",VLOOKUP(A950,Etappe!A$2:B$13,2,FALSE))","v":""}]
[null,null,null,null,"",{"$f":"IF( ISBLANK(A951),\"\",IF(ISBLANK(B951),\"\",VLOOKUP(B951,Teams!A$2:B$95,2,0)))","v":""},{"$f":"IF(ISBLANK(A951),\"\",VLOOKUP(A951,Etappe!A$2:B$13,2,FALSE))","v":""}]
[null,null,null,null,"",{"$f":"IF( ISBLANK(A952),\"\",IF(ISBLANK(B952),\"\",VLOOKUP(B952,Teams!A$2:B$95,2,0)))","v":""},{"$f":"IF(ISBLANK(A952),\"\",VLOOKUP(A952,Etappe!A$2:B$13,2,FALSE))","v":""}]
[null,null,null,null,"",{"$f":"IF( ISBLANK(A953),\"\",IF(ISBLANK(B953),\"\",VLOOKUP(B953,Teams!A$2:B$95,2,0)))","v":""},{"$f":"IF(ISBLANK(A953),\"\",VLOOKUP(A953,Etappe!A$2:B$13,2,FALSE))","v":""}]
[null,null,null,null,"",{"$f":"IF( ISBLANK(A954),\"\",IF(ISBLANK(B954),\"\",VLOOKUP(B954,Teams!A$2:B$95,2,0)))","v":""},{"$f":"IF(ISBLANK(A954),\"\",VLOOKUP(A954,Etappe!A$2:B$13,2,FALSE))","v":""}]
[null,null,null,null,"",{"$f":"IF( ISBLANK(A955),\"\",IF(ISBLANK(B955),\"\",VLOOKUP(B955,Teams!A$2:B$95,2,0)))","v":""},{"$f":"IF(ISBLANK(A955),\"\",VLOOKUP(A955,Etappe!A$2:B$13,2,FALSE))","v":""}]
[null,null,null,null,"",{"$f":"IF( ISBLANK(A956),\"\",IF(ISBLANK(B956),\"\",VLOOKUP(B956,Teams!A$2:B$95,2,0)))","v":""},{"$f":"IF(ISBLANK(A956),\"\",VLOOKUP(A956,Etappe!A$2:B$13,2,FALSE))","v":""}]
[null,null,null,null,"",{"$f":"IF( ISBLANK(A957),\"\",IF(ISBLANK(B957),\"\",VLOOKUP(B957,Teams!A$2:B$95,2,0)))","v":""},{"$f":"IF(ISBLANK(A957),\"\",VLOOKUP(A957,Etappe!A$2:B$13,2,FALSE))","v":""}]
[null,null,null,null,"",{"$f":"IF( ISBLANK(A958),\"\",IF(ISBLANK(B958),\"\",VLOOKUP(B958,Teams!A$2:B$95,2,0)))","v":""},{"$f":"IF(ISBLANK(A958),\"\",VLOOKUP(A958,Etappe!A$2:B$13,2,FALSE))","v":""}]
[null,null,null,null,"",{"$f":"IF( ISBLANK(A959),\"\",IF(ISBLANK(B959),\"\",VLOOKUP(B959,Teams!A$2:B$95,2,0)))","v":""},{"$f":"IF(ISBLANK(A959),\"\",VLOOKUP(A959,Etappe!A$2:B$13,2,FALSE))","v":""}]
[null,null,null,null,"",{"$f":"IF( ISBLANK(A960),\"\",IF(ISBLANK(B960),\"\",VLOOKUP(B960,Teams!A$2:B$95,2,0)))","v":""},{"$f":"IF(ISBLANK(A960),\"\",VLOOKUP(A960,Etappe!A$2:B$13,2,FALSE))","v":""}]
[null,null,null,null,"",{"$f":"IF( ISBLANK(A961),\"\",IF(ISBLANK(B961),\"\",VLOOKUP(B961,Teams!A$2:B$95,2,0)))","v":""},{"$f":"IF(ISBLANK(A961),\"\",VLOOKUP(A961,Etappe!A$2:B$13,2,FALSE))","v":""}]
[null,null,null,null,"",{"$f":"IF( ISBLANK(A962),\"\",IF(ISBLANK(B962),\"\",VLOOKUP(B962,Teams!A$2:B$95,2,0)))","v":""},{"$f":"IF(ISBLANK(A962),\"\",VLOOKUP(A962,Etappe!A$2:B$13,2,FALSE))","v":""}]
[null,null,null,null,{"$f":"IF(ISBLANK(A963),\"\",IF(C963=\"v\",0.9*D963,D963))","v":""},{"$f":"IF( ISBLANK(A963),\"\",IF(ISBLANK(B963),\"\",VLOOKUP(B963,Teams!A$2:B$95,2,0)))","v":""},{"$f":"IF(ISBLANK(A963),\"\",VLOOKUP(A963,Etappe!A$2:B$13,2,FALSE))","v":""}]
[null,null,null,null,"",{"$f":"IF( ISBLANK(A964),\"\",IF(ISBLANK(B964),\"\",VLOOKUP(B964,Teams!A$2:B$95,2,0)))","v":""},{"$f":"IF(ISBLANK(A964),\"\",VLOOKUP(A964,Etappe!A$2:B$13,2,FALSE))","v":""}]
[null,null,null,null,"",{"$f":"IF( ISBLANK(A965),\"\",IF(ISBLANK(B965),\"\",VLOOKUP(B965,Teams!A$2:B$95,2,0)))","v":""},{"$f":"IF(ISBLANK(A965),\"\",VLOOKUP(A965,Etappe!A$2:B$13,2,FALSE))","v":""}]
[null,null,null,null,"",{"$f":"IF( ISBLANK(A966),\"\",IF(ISBLANK(B966),\"\",VLOOKUP(B966,Teams!A$2:B$95,2,0)))","v":""},{"$f":"IF(ISBLANK(A966),\"\",VLOOKUP(A966,Etappe!A$2:B$13,2,FALSE))","v":""}]
[null,null,null,null,"",{"$f":"IF( ISBLANK(A967),\"\",IF(ISBLANK(B967),\"\",VLOOKUP(B967,Teams!A$2:B$95,2,0)))","v":""},{"$f":"IF(ISBLANK(A967),\"\",VLOOKUP(A967,Etappe!A$2:B$13,2,FALSE))","v":""}]
[null,null,null,null,"",{"$f":"IF( ISBLANK(A968),\"\",IF(ISBLANK(B968),\"\",VLOOKUP(B968,Teams!A$2:B$95,2,0)))","v":""},{"$f":"IF(ISBLANK(A968),\"\",VLOOKUP(A968,Etappe!A$2:B$13,2,FALSE))","v":""}]
[null,null,null,null,"",{"$f":"IF( ISBLANK(A969),\"\",IF(ISBLANK(B969),\"\",VLOOKUP(B969,Teams!A$2:B$95,2,0)))","v":""},{"$f":"IF(ISBLANK(A969),\"\",VLOOKUP(A969,Etappe!A$2:B$13,2,FALSE))","v":""}]
[null,null,null,null,"",{"$f":"IF( ISBLANK(A970),\"\",IF(ISBLANK(B970),\"\",VLOOKUP(B970,Teams!A$2:B$95,2,0)))","v":""},{"$f":"IF(ISBLANK(A970),\"\",VLOOKUP(A970,Etappe!A$2:B$13,2,FALSE))","v":""}]
[null,null,null,null,"",{"$f":"IF( ISBLANK(A971),\"\",IF(ISBLANK(B971),\"\",VLOOKUP(B971,Teams!A$2:B$95,2,0)))","v":""},{"$f":"IF(ISBLANK(A971),\"\",VLOOKUP(A971,Etappe!A$2:B$13,2,FALSE))","v":""}]
[null,null,null,null,"",{"$f":"IF( ISBLANK(A972),\"\",IF(ISBLANK(B972),\"\",VLOOKUP(B972,Teams!A$2:B$95,2,0)))","v":""},{"$f":"IF(ISBLANK(A972),\"\",VLOOKUP(A972,Etappe!A$2:B$13,2,FALSE))","v":""}]
[null,null,null,null,"",{"$f":"IF( ISBLANK(A973),\"\",IF(ISBLANK(B973),\"\",VLOOKUP(B973,Teams!A$2:B$95,2,0)))","v":""},{"$f":"IF(ISBLANK(A973),\"\",VLOOKUP(A973,Etappe!A$2:B$13,2,FALSE))","v":""}]
[null,null,null,null,"",{"$f":"IF( ISBLANK(A974),\"\",IF(ISBLANK(B974),\"\",VLOOKUP(B974,Teams!A$2:B$95,2,0)))","v":""},{"$f":"IF(ISBLANK(A974),\"\",VLOOKUP(A974,Etappe!A$2:B$13,2,FALSE))","v":""}]
[null,null,null,null,"",{"$f":"IF( ISBLANK(A975),\"\",IF(ISBLANK(B975),\"\",VLOOKUP(B975,Teams!A$2:B$95,2,0)))","v":""},{"$f":"IF(ISBLANK(A975),\"\",VLOOKUP(A975,Etappe!A$2:B$13,2,FALSE))","v":""}]
[null,null,null,null,"",{"$f":"IF( ISBLANK(A976),\"\",IF(ISBLANK(B976),\"\",VLOOKUP(B976,Teams!A$2:B$95,2,0)))","v":""},{"$f":"IF(ISBLANK(A976),\"\",VLOOKUP(A976,Etappe!A$2:B$13,2,FALSE))","v":""}]
[null,null,null,null,"",{"$f":"IF( ISBLANK(A977),\"\",IF(ISBLANK(B977),\"\",VLOOKUP(B977,Teams!A$2:B$95,2,0)))","v":""},{"$f":"IF(ISBLANK(A977),\"\",VLOOKUP(A977,Etappe!A$2:B$13,2,FALSE))","v":""}]
[null,null,null,null,"",{"$f":"IF( ISBLANK(A978),\"\",IF(ISBLANK(B978),\"\",VLOOKUP(B978,Teams!A$2:B$95,2,0)))","v":""},{"$f":"IF(ISBLANK(A978),\"\",VLOOKUP(A978,Etappe!A$2:B$13,2,FALSE))","v":""}]
[null,null,null,null,"",{"$f":"IF( ISBLANK(A979),\"\",IF(ISBLANK(B979),\"\",VLOOKUP(B979,Teams!A$2:B$95,2,0)))","v":""},{"$f":"IF(ISBLANK(A979),\"\",VLOOKUP(A979,Etappe!A$2:B$13,2,FALSE))","v":""}]
[null,null,null,null,"",{"$f":"IF( ISBLANK(A980),\"\",IF(ISBLANK(B980),\"\",VLOOKUP(B980,Teams!A$2:B$95,2,0)))","v":""},{"$f":"IF(ISBLANK(A980),\"\",VLOOKUP(A980,Etappe!A$2:B$13,2,FALSE))","v":""}]
[null,null,null,null,"",{"$f":"IF( ISBLANK(A981),\"\",IF(ISBLANK(B981),\"\",VLOOKUP(B981,Teams!A$2:B$95,2,0)))","v":""},{"$f":"IF(ISBLANK(A981),\"\",VLOOKUP(A981,Etappe!A$2:B$13,2,FALSE))","v":""}]
[null,null,null,null,"",{"$f":"IF( ISBLANK(A982),\"\",IF(ISBLANK(B982),\"\",VLOOKUP(B982,Teams!A$2:B$95,2,0)))","v":""},{"$f":"IF(ISBLANK(A982),\"\",VLOOKUP(A982,Etappe!A$2:B$13,2,FALSE))","v":""}]
[null,null,null,null,"",{"$f":"IF( ISBLANK(A983),\"\",IF(ISBLANK(B983),\"\",VLOOKUP(B983,Teams!A$2:B$95,2,0)))","v":""},{"$f":"IF(ISBLANK(A983),\"\",VLOOKUP(A983,Etappe!A$2:B$13,2,FALSE))","v":""}]
[null,null,null,null,"",{"$f":"IF( ISBLANK(A984),\"\",IF(ISBLANK(B984),\"\",VLOOKUP(B984,Teams!A$2:B$95,2,0)))","v":""},{"$f":"IF(ISBLANK(A984),\"\",VLOOKUP(A984,Etappe!A$2:B$13,2,FALSE))","v":""}]
[null,null,null,null,"",{"$f":"IF( ISBLANK(A985),\"\",IF(ISBLANK(B985),\"\",VLOOKUP(B985,Teams!A$2:B$95,2,0)))","v":""},{"$f":"IF(ISBLANK(A985),\"\",VLOOKUP(A985,Etappe!A$2:B$13,2,FALSE))","v":""}]
[null,null,null,null,"",{"$f":"IF( ISBLANK(A986),\"\",IF(ISBLANK(B986),\"\",VLOOKUP(B986,Teams!A$2:B$95,2,0)))","v":""},{"$f":"IF(ISBLANK(A986),\"\",VLOOKUP(A986,Etappe!A$2:B$13,2,FALSE))","v":""}]
[null,null,null,null,"",{"$f":"IF( ISBLANK(A987),\"\",IF(ISBLANK(B987),\"\",VLOOKUP(B987,Teams!A$2:B$95,2,0)))","v":""},{"$f":"IF(ISBLANK(A987),\"\",VLOOKUP(A987,Etappe!A$2:B$13,2,FALSE))","v":""}]
[null,null,null,null,"",{"$f":"IF( ISBLANK(A988),\"\",IF(ISBLANK(B988),\"\",VLOOKUP(B988,Teams!A$2:B$95,2,0)))","v":""},{"$f":"IF(ISBLANK(A988),\"\",VLOOKUP(A988,Etappe!A$2:B$13,2,FALSE))","v":""}]
[null,null,null,null,"",{"$f":"IF( ISBLANK(A989),\"\",IF(ISBLANK(B989),\"\",VLOOKUP(B989,Teams!A$2:B$95,2,0)))","v":""},{"$f":"IF(ISBLANK(A989),\"\",VLOOKUP(A989,Etappe!A$2:B$13,2,FALSE))","v":""}]
[null,null,null,null,"",{"$f":"IF( ISBLANK(A990),\"\",IF(ISBLANK(B990),\"\",VLOOKUP(B990,Teams!A$2:B$95,2,0)))","v":""},{"$f":"IF(ISBLANK(A990),\"\",VLOOKUP(A990,Etappe!A$2:B$13,2,FALSE))","v":""}]
[null,null,null,null,"",{"$f":"IF( ISBLANK(A991),\"\",IF(ISBLANK(B991),\"\",VLOOKUP(B991,Teams!A$2:B$95,2,0)))","v":""},{"$f":"IF(ISBLANK(A991),\"\",VLOOKUP(A991,Etappe!A$2:B$13,2,FALSE))","v":""}]
[null,null,null,null,"",{"$f":"IF( ISBLANK(A992),\"\",IF(ISBLANK(B992),\"\",VLOOKUP(B992,Teams!A$2:B$95,2,0)))","v":""},{"$f":"IF(ISBLANK(A992),\"\",VLOOKUP(A992,Etappe!A$2:B$13,2,FALSE))","v":""}]
[null,null,null,null,"",{"$f":"IF( ISBLANK(A993),\"\",IF(ISBLANK(B993),\"\",VLOOKUP(B993,Teams!A$2:B$95,2,0)))","v":""},{"$f":"IF(ISBLANK(A993),\"\",VLOOKUP(A993,Etappe!A$2:B$13,2,FALSE))","v":""}]
[null,null,null,null,"",{"$f":"IF( ISBLANK(A994),\"\",IF(ISBLANK(B994),\"\",VLOOKUP(B994,Teams!A$2:B$95,2,0)))","v":""},{"$f":"IF(ISBLANK(A994),\"\",VLOOKUP(A994,Etappe!A$2:B$13,2,FALSE))","v":""}]
[null,null,null,null,"",{"$f":"IF( ISBLANK(A995),\"\",IF(ISBLANK(B995),\"\",VLOOKUP(B995,Teams!A$2:B$95,2,0)))","v":""},{"$f":"IF(ISBLANK(A995),\"\",VLOOKUP(A995,Etappe!A$2:B$13,2,FALSE))","v":""}]
[null,null,null,null,"",{"$f":"IF( ISBLANK(A996),\"\",IF(ISBLANK(B996),\"\",VLOOKUP(B996,Teams!A$2:B$95,2,0)))","v":""},{"$f":"IF(ISBLANK(A996),\"\",VLOOKUP(A996,Etappe!A$2:B$13,2,FALSE))","v":""}]
[null,null,null,null,"",{"$f":"IF( ISBLANK(A997),\"\",IF(ISBLANK(B997),\"\",VLOOKUP(B997,Teams!A$2:B$95,2,0)))","v":""},{"$f":"IF(ISBLANK(A997),\"\",VLOOKUP(A997,Etappe!A$2:B$13,2,FALSE))","v":""}]
[null,null,null,null,"",{"$f":"IF( ISBLANK(A998),\"\",IF(ISBLANK(B998),\"\",VLOOKUP(B998,Teams!A$2:B$95,2,0)))","v":""},{"$f":"IF(ISBLANK(A998),\"\",VLOOKUP(A998,Etappe!A$2:B$13,2,FALSE))","v":""}]
[null,null,null,null,"",{"$f":"IF( ISBLANK(A999),\"\",IF(ISBLANK(B999),\"\",VLOOKUP(B999,Teams!A$2:B$95,2,0)))","v":""},{"$f":"IF(ISBLANK(A999),\"\",VLOOKUP(A999,Etappe!A$2:B$13,2,FALSE))","v":""}]
[null,null,null,null,"",{"$f":"IF( ISBLANK(A1000),\"\",IF(ISBLANK(B1000),\"\",VLOOKUP(B1000,Teams!A$2:B$95,2,0)))","v":""},{"$f":"IF(ISBLANK(A1000),\"\",VLOOKUP(A1000,Etappe!A$2:B$13,2,FALSE))","v":""}]
[null,null,null,null,"",{"$f":"IF( ISBLANK(A1001),\"\",IF(ISBLANK(B1001),\"\",VLOOKUP(B1001,Teams!A$2:B$95,2,0)))","v":""},{"$f":"IF(ISBLANK(A1001),\"\",VLOOKUP(A1001,Etappe!A$2:B$13,2,FALSE))","v":""}]
[null,null,null,null,"",{"$f":"IF( ISBLANK(A1002),\"\",IF(ISBLANK(B1002),\"\",VLOOKUP(B1002,Teams!A$2:B$95,2,0)))","v":""},{"$f":"IF(ISBLANK(A1002),\"\",VLOOKUP(A1002,Etappe!A$2:B$13,2,FALSE))","v":""}]
[null,null,null,null,"",{"$f":"IF( ISBLANK(A1003),\"\",IF(ISBLANK(B1003),\"\",VLOOKUP(B1003,Teams!A$2:B$95,2,0)))","v":""},{"$f":"IF(ISBLANK(A1003),\"\",VLOOKUP(A1003,Etappe!A$2:B$13,2,FALSE))","v":""}]
[null,null,null,null,"",{"$f":"IF( ISBLANK(A1004),\"\",IF(ISBLANK(B1004),\"\",VLOOKUP(B1004,Teams!A$2:B$95,2,0)))","v":""},{"$f":"IF(ISBLANK(A1004),\"\",VLOOKUP(A1004,Etappe!A$2:B$13,2,FALSE))","v":""}]
[null,null,null,null,"",{"$f":"IF( ISBLANK(A1005),\"\",IF(ISBLANK(B1005),\"\",VLOOKUP(B1005,Teams!A$2:B$95,2,0)))","v":""},{"$f":"IF(ISBLANK(A1005),\"\",VLOOKUP(A1005,Etappe!A$2:B$13,2,FALSE))","v":""}]
[null,null,null,null,"",{"$f":"IF( ISBLANK(A1006),\"\",IF(ISBLANK(B1006),\"\",VLOOKUP(B1006,Teams!A$2:B$95,2,0)))","v":""},{"$f":"IF(ISBLANK(A1006),\"\",VLOOKUP(A1006,Etappe!A$2:B$13,2,FALSE))","v":""}]
[null,null,null,null,"",{"$f":"IF( ISBLANK(A1007),\"\",IF(ISBLANK(B1007),\"\",VLOOKUP(B1007,Teams!A$2:B$95,2,0)))","v":""},{"$f":"IF(ISBLANK(A1007),\"\",VLOOKUP(A1007,Etappe!A$2:B$13,2,FALSE))","v":""}]
[null,null,null,null,"",{"$f":"IF( ISBLANK(A1008),\"\",IF(ISBLANK(B1008),\"\",VLOOKUP(B1008,Teams!A$2:B$95,2,0)))","v":""},{"$f":"IF(ISBLANK(A1008),\"\",VLOOKUP(A1008,Etappe!A$2:B$13,2,FALSE))","v":""}]
[null,null,null,null,"",{"$f":"IF( ISBLANK(A1009),\"\",IF(ISBLANK(B1009),\"\",VLOOKUP(B1009,Teams!A$2:B$95,2,0)))","v":""},{"$f":"IF(ISBLANK(A1009),\"\",VLOOKUP(A1009,Etappe!A$2:B$13,2,FALSE))","v":""}]
[null,null,null,null,"",{"$f":"IF( ISBLANK(A1010),\"\",IF(ISBLANK(B1010),\"\",VLOOKUP(B1010,Teams!A$2:B$95,2,0)))","v":""},{"$f":"IF(ISBLANK(A1010),\"\",VLOOKUP(A1010,Etappe!A$2:B$13,2,FALSE))","v":""}]
[null,null,null,null,"",{"$f":"IF( ISBLANK(A1011),\"\",IF(ISBLANK(B1011),\"\",VLOOKUP(B1011,Teams!A$2:B$95,2,0)))","v":""},{"$f":"IF(ISBLANK(A1011),\"\",VLOOKUP(A1011,Etappe!A$2:B$13,2,FALSE))","v":""}]
[null,null,null,null,"",{"$f":"IF( ISBLANK(A1012),\"\",IF(ISBLANK(B1012),\"\",VLOOKUP(B1012,Teams!A$2:B$95,2,0)))","v":""},{"$f":"IF(ISBLANK(A1012),\"\",VLOOKUP(A1012,Etappe!A$2:B$13,2,FALSE))","v":""}]
[null,null,null,null,"",{"$f":"IF( ISBLANK(A1013),\"\",IF(ISBLANK(B1013),\"\",VLOOKUP(B1013,Teams!A$2:B$95,2,0)))","v":""},{"$f":"IF(ISBLANK(A1013),\"\",VLOOKUP(A1013,Etappe!A$2:B$13,2,FALSE))","v":""}]
[null,null,null,null,"",{"$f":"IF( ISBLANK(A1014),\"\",IF(ISBLANK(B1014),\"\",VLOOKUP(B1014,Teams!A$2:B$95,2,0)))","v":""},{"$f":"IF(ISBLANK(A1014),\"\",VLOOKUP(A1014,Etappe!A$2:B$13,2,FALSE))","v":""}]
[null,null,null,null,"",{"$f":"IF( ISBLANK(A1015),\"\",IF(ISBLANK(B1015),\"\",VLOOKUP(B1015,Teams!A$2:B$95,2,0)))","v":""},{"$f":"IF(ISBLANK(A1015),\"\",VLOOKUP(A1015,Etappe!A$2:B$13,2,FALSE))","v":""}]
[null,null,null,null,"",{"$f":"IF( ISBLANK(A1016),\"\",IF(ISBLANK(B1016),\"\",VLOOKUP(B1016,Teams!A$2:B$95,2,0)))","v":""},{"$f":"IF(ISBLANK(A1016),\"\",VLOOKUP(A1016,Etappe!A$2:B$13,2,FALSE))","v":""}]
[null,null,null,null,"",{"$f":"IF( ISBLANK(A1017),\"\",IF(ISBLANK(B1017),\"\",VLOOKUP(B1017,Teams!A$2:B$95,2,0)))","v":""},{"$f":"IF(ISBLANK(A1017),\"\",VLOOKUP(A1017,Etappe!A$2:B$13,2,FALSE))","v":""}]
[null,null,null,null,"",{"$f":"IF( ISBLANK(A1018),\"\",IF(ISBLANK(B1018),\"\",VLOOKUP(B1018,Teams!A$2:B$95,2,0)))","v":""},{"$f":"IF(ISBLANK(A1018),\"\",VLOOKUP(A1018,Etappe!A$2:B$13,2,FALSE))","v":""}]
[null,null,null,null,"",{"$f":"IF( ISBLANK(A1019),\"\",IF(ISBLANK(B1019),\"\",VLOOKUP(B1019,Teams!A$2:B$95,2,0)))","v":""},{"$f":"IF(ISBLANK(A1019),\"\",VLOOKUP(A1019,Etappe!A$2:B$13,2,FALSE))","v":""}]
[null,null,null,null,"",{"$f":"IF( ISBLANK(A1020),\"\",IF(ISBLANK(B1020),\"\",VLOOKUP(B1020,Teams!A$2:B$95,2,0)))","v":""},{"$f":"IF(ISBLANK(A1020),\"\",VLOOKUP(A1020,Etappe!A$2:B$13,2,FALSE))","v":""}]
[null,null,null,null,"",{"$f":"IF( ISBLANK(A1021),\"\",IF(ISBLANK(B1021),\"\",VLOOKUP(B1021,Teams!A$2:B$95,2,0)))","v":""},{"$f":"IF(ISBLANK(A1021),\"\",VLOOKUP(A1021,Etappe!A$2:B$13,2,FALSE))","v":""}]
[null,null,null,null,"",{"$f":"IF( ISBLANK(A1022),\"\",IF(ISBLANK(B1022),\"\",VLOOKUP(B1022,Teams!A$2:B$95,2,0)))","v":""},{"$f":"IF(ISBLANK(A1022),\"\",VLOOKUP(A1022,Etappe!A$2:B$13,2,FALSE))","v":""}]
[null,null,null,null,"",{"$f":"IF( ISBLANK(A1023),\"\",IF(ISBLANK(B1023),\"\",VLOOKUP(B1023,Teams!A$2:B$95,2,0)))","v":""},{"$f":"IF(ISBLANK(A1023),\"\",VLOOKUP(A1023,Etappe!A$2:B$13,2,FALSE))","v":""}]
[null,null,null,null,"",{"$f":"IF( ISBLANK(A1024),\"\",IF(ISBLANK(B1024),\"\",VLOOKUP(B1024,Teams!A$2:B$95,2,0)))","v":""},{"$f":"IF(ISBLANK(A1024),\"\",VLOOKUP(A1024,Etappe!A$2:B$13,2,FALSE))","v":""}]
[null,null,null,null,"",{"$f":"IF( ISBLANK(A1025),\"\",IF(ISBLANK(B1025),\"\",VLOOKUP(B1025,Teams!A$2:B$95,2,0)))","v":""},{"$f":"IF(ISBLANK(A1025),\"\",VLOOKUP(A1025,Etappe!A$2:B$13,2,FALSE))","v":""}]
[null,null,null,null,"",{"$f":"IF( ISBLANK(A1026),\"\",IF(ISBLANK(B1026),\"\",VLOOKUP(B1026,Teams!A$2:B$95,2,0)))","v":""},{"$f":"IF(ISBLANK(A1026),\"\",VLOOKUP(A1026,Etappe!A$2:B$13,2,FALSE))","v":""}]
[null,null,null,null,{"$f":"IF(ISBLANK(A1027),\"\",IF(C1027=\"v\",0.9*D1027,D1027))","v":""},{"$f":"IF( ISBLANK(A1027),\"\",IF(ISBLANK(B1027),\"\",VLOOKUP(B1027,Teams!A$2:B$95,2,0)))","v":""},{"$f":"IF(ISBLANK(A1027),\"\",VLOOKUP(A1027,Etappe!A$2:B$13,2,FALSE))","v":""}]
[null,null,null,null,"",{"$f":"IF( ISBLANK(A1028),\"\",IF(ISBLANK(B1028),\"\",VLOOKUP(B1028,Teams!A$2:B$95,2,0)))","v":""},{"$f":"IF(ISBLANK(A1028),\"\",VLOOKUP(A1028,Etappe!A$2:B$13,2,FALSE))","v":""}]
[null,null,null,null,"",{"$f":"IF( ISBLANK(A1029),\"\",IF(ISBLANK(B1029),\"\",VLOOKUP(B1029,Teams!A$2:B$95,2,0)))","v":""},{"$f":"IF(ISBLANK(A1029),\"\",VLOOKUP(A1029,Etappe!A$2:B$13,2,FALSE))","v":""}]
[null,null,null,null,"",{"$f":"IF( ISBLANK(A1030),\"\",IF(ISBLANK(B1030),\"\",VLOOKUP(B1030,Teams!A$2:B$95,2,0)))","v":""},{"$f":"IF(ISBLANK(A1030),\"\",VLOOKUP(A1030,Etappe!A$2:B$13,2,FALSE))","v":""}]
[null,null,null,null,"",{"$f":"IF( ISBLANK(A1031),\"\",IF(ISBLANK(B1031),\"\",VLOOKUP(B1031,Teams!A$2:B$95,2,0)))","v":""},{"$f":"IF(ISBLANK(A1031),\"\",VLOOKUP(A1031,Etappe!A$2:B$13,2,FALSE))","v":""}]
[null,null,null,null,"",{"$f":"IF( ISBLANK(A1032),\"\",IF(ISBLANK(B1032),\"\",VLOOKUP(B1032,Teams!A$2:B$95,2,0)))","v":""},{"$f":"IF(ISBLANK(A1032),\"\",VLOOKUP(A1032,Etappe!A$2:B$13,2,FALSE))","v":""}]
[null,null,null,null,"",{"$f":"IF( ISBLANK(A1033),\"\",IF(ISBLANK(B1033),\"\",VLOOKUP(B1033,Teams!A$2:B$95,2,0)))","v":""},{"$f":"IF(ISBLANK(A1033),\"\",VLOOKUP(A1033,Etappe!A$2:B$13,2,FALSE))","v":""}]
[null,null,null,null,"",{"$f":"IF( ISBLANK(A1034),\"\",IF(ISBLANK(B1034),\"\",VLOOKUP(B1034,Teams!A$2:B$95,2,0)))","v":""},{"$f":"IF(ISBLANK(A1034),\"\",VLOOKUP(A1034,Etappe!A$2:B$13,2,FALSE))","v":""}]
[null,null,null,null,"",{"$f":"IF( ISBLANK(A1035),\"\",IF(ISBLANK(B1035),\"\",VLOOKUP(B1035,Teams!A$2:B$95,2,0)))","v":""},{"$f":"IF(ISBLANK(A1035),\"\",VLOOKUP(A1035,Etappe!A$2:B$13,2,FALSE))","v":""}]
[null,null,null,null,"",{"$f":"IF( ISBLANK(A1036),\"\",IF(ISBLANK(B1036),\"\",VLOOKUP(B1036,Teams!A$2:B$95,2,0)))","v":""},{"$f":"IF(ISBLANK(A1036),\"\",VLOOKUP(A1036,Etappe!A$2:B$13,2,FALSE))","v":""}]
[null,null,null,null,"",{"$f":"IF( ISBLANK(A1037),\"\",IF(ISBLANK(B1037),\"\",VLOOKUP(B1037,Teams!A$2:B$95,2,0)))","v":""},{"$f":"IF(ISBLANK(A1037),\"\",VLOOKUP(A1037,Etappe!A$2:B$13,2,FALSE))","v":""}]
[null,null,null,null,"",{"$f":"IF( ISBLANK(A1038),\"\",IF(ISBLANK(B1038),\"\",VLOOKUP(B1038,Teams!A$2:B$95,2,0)))","v":""},{"$f":"IF(ISBLANK(A1038),\"\",VLOOKUP(A1038,Etappe!A$2:B$13,2,FALSE))","v":""}]
[null,null,null,null,"",{"$f":"IF( ISBLANK(A1039),\"\",IF(ISBLANK(B1039),\"\",VLOOKUP(B1039,Teams!A$2:B$95,2,0)))","v":""},{"$f":"IF(ISBLANK(A1039),\"\",VLOOKUP(A1039,Etappe!A$2:B$13,2,FALSE))","v":""}]
[null,null,null,null,"",{"$f":"IF( ISBLANK(A1040),\"\",IF(ISBLANK(B1040),\"\",VLOOKUP(B1040,Teams!A$2:B$95,2,0)))","v":""},{"$f":"IF(ISBLANK(A1040),\"\",VLOOKUP(A1040,Etappe!A$2:B$13,2,FALSE))","v":""}]
[null,null,null,null,"",{"$f":"IF( ISBLANK(A1041),\"\",IF(ISBLANK(B1041),\"\",VLOOKUP(B1041,Teams!A$2:B$95,2,0)))","v":""},{"$f":"IF(ISBLANK(A1041),\"\",VLOOKUP(A1041,Etappe!A$2:B$13,2,FALSE))","v":""}]
[null,null,null,null,"",{"$f":"IF( ISBLANK(A1042),\"\",IF(ISBLANK(B1042),\"\",VLOOKUP(B1042,Teams!A$2:B$95,2,0)))","v":""},{"$f":"IF(ISBLANK(A1042),\"\",VLOOKUP(A1042,Etappe!A$2:B$13,2,FALSE))","v":""}]
[null,null,null,null,"",{"$f":"IF( ISBLANK(A1043),\"\",IF(ISBLANK(B1043),\"\",VLOOKUP(B1043,Teams!A$2:B$95,2,0)))","v":""},{"$f":"IF(ISBLANK(A1043),\"\",VLOOKUP(A1043,Etappe!A$2:B$13,2,FALSE))","v":""}]
[null,null,null,null,"",{"$f":"IF( ISBLANK(A1044),\"\",IF(ISBLANK(B1044),\"\",VLOOKUP(B1044,Teams!A$2:B$95,2,0)))","v":""},{"$f":"IF(ISBLANK(A1044),\"\",VLOOKUP(A1044,Etappe!A$2:B$13,2,FALSE))","v":""}]
[null,null,null,null,"",{"$f":"IF( ISBLANK(A1045),\"\",IF(ISBLANK(B1045),\"\",VLOOKUP(B1045,Teams!A$2:B$95,2,0)))","v":""},{"$f":"IF(ISBLANK(A1045),\"\",VLOOKUP(A1045,Etappe!A$2:B$13,2,FALSE))","v":""}]
[null,null,null,null,"",{"$f":"IF( ISBLANK(A1046),\"\",IF(ISBLANK(B1046),\"\",VLOOKUP(B1046,Teams!A$2:B$95,2,0)))","v":""},{"$f":"IF(ISBLANK(A1046),\"\",VLOOKUP(A1046,Etappe!A$2:B$13,2,FALSE))","v":""}]
[null,null,null,null,"",{"$f":"IF( ISBLANK(A1047),\"\",IF(ISBLANK(B1047),\"\",VLOOKUP(B1047,Teams!A$2:B$95,2,0)))","v":""},{"$f":"IF(ISBLANK(A1047),\"\",VLOOKUP(A1047,Etappe!A$2:B$13,2,FALSE))","v":""}]
[null,null,null,null,"",{"$f":"IF( ISBLANK(A1048),\"\",IF(ISBLANK(B1048),\"\",VLOOKUP(B1048,Teams!A$2:B$95,2,0)))","v":""},{"$f":"IF(ISBLANK(A1048),\"\",VLOOKUP(A1048,Etappe!A$2:B$13,2,FALSE))","v":""}]
[null,null,null,null,"",{"$f":"IF( ISBLANK(A1049),\"\",IF(ISBLANK(B1049),\"\",VLOOKUP(B1049,Teams!A$2:B$95,2,0)))","v":""},{"$f":"IF(ISBLANK(A1049),\"\",VLOOKUP(A1049,Etappe!A$2:B$13,2,FALSE))","v":""}]
[null,null,null,null,"",{"$f":"IF( ISBLANK(A1050),\"\",IF(ISBLANK(B1050),\"\",VLOOKUP(B1050,Teams!A$2:B$95,2,0)))","v":""},{"$f":"IF(ISBLANK(A1050),\"\",VLOOKUP(A1050,Etappe!A$2:B$13,2,FALSE))","v":""}]
[null,null,null,null,"",{"$f":"IF( ISBLANK(A1051),\"\",IF(ISBLANK(B1051),\"\",VLOOKUP(B1051,Teams!A$2:B$95,2,0)))","v":""},{"$f":"IF(ISBLANK(A1051),\"\",VLOOKUP(A1051,Etappe!A$2:B$13,2,FALSE))","v":""}]
[null,null,null,null,"",{"$f":"IF( ISBLANK(A1052),\"\",IF(ISBLANK(B1052),\"\",VLOOKUP(B1052,Teams!A$2:B$95,2,0)))","v":""},{"$f":"IF(ISBLANK(A1052),\"\",VLOOKUP(A1052,Etappe!A$2:B$13,2,FALSE))","v":""}]
[null,null,null,null,"",{"$f":"IF( ISBLANK(A1053),\"\",IF(ISBLANK(B1053),\"\",VLOOKUP(B1053,Teams!A$2:B$95,2,0)))","v":""},{"$f":"IF(ISBLANK(A1053),\"\",VLOOKUP(A1053,Etappe!A$2:B$13,2,FALSE))","v":""}]
[null,null,null,null,"",{"$f":"IF( ISBLANK(A1054),\"\",IF(ISBLANK(B1054),\"\",VLOOKUP(B1054,Teams!A$2:B$95,2,0)))","v":""},{"$f":"IF(ISBLANK(A1054),\"\",VLOOKUP(A1054,Etappe!A$2:B$13,2,FALSE))","v":""}]
[null,null,null,null,"",{"$f":"IF( ISBLANK(A1055),\"\",IF(ISBLANK(B1055),\"\",VLOOKUP(B1055,Teams!A$2:B$95,2,0)))","v":""},{"$f":"IF(ISBLANK(A1055),\"\",VLOOKUP(A1055,Etappe!A$2:B$13,2,FALSE))","v":""}]
[null,null,null,null,"",{"$f":"IF( ISBLANK(A1056),\"\",IF(ISBLANK(B1056),\"\",VLOOKUP(B1056,Teams!A$2:B$95,2,0)))","v":""},{"$f":"IF(ISBLANK(A1056),\"\",VLOOKUP(A1056,Etappe!A$2:B$13,2,FALSE))","v":""}]
[null,null,null,null,"",{"$f":"IF( ISBLANK(A1057),\"\",IF(ISBLANK(B1057),\"\",VLOOKUP(B1057,Teams!A$2:B$95,2,0)))","v":""},{"$f":"IF(ISBLANK(A1057),\"\",VLOOKUP(A1057,Etappe!A$2:B$13,2,FALSE))","v":""}]
[null,null,null,null,"",{"$f":"IF( ISBLANK(A1058),\"\",IF(ISBLANK(B1058),\"\",VLOOKUP(B1058,Teams!A$2:B$95,2,0)))","v":""},{"$f":"IF(ISBLANK(A1058),\"\",VLOOKUP(A1058,Etappe!A$2:B$13,2,FALSE))","v":""}]
[null,null,null,null,"",{"$f":"IF( ISBLANK(A1059),\"\",IF(ISBLANK(B1059),\"\",VLOOKUP(B1059,Teams!A$2:B$95,2,0)))","v":""},{"$f":"IF(ISBLANK(A1059),\"\",VLOOKUP(A1059,Etappe!A$2:B$13,2,FALSE))","v":""}]
[null,null,null,null,"",{"$f":"IF( ISBLANK(A1060),\"\",IF(ISBLANK(B1060),\"\",VLOOKUP(B1060,Teams!A$2:B$95,2,0)))","v":""},{"$f":"IF(ISBLANK(A1060),\"\",VLOOKUP(A1060,Etappe!A$2:B$13,2,FALSE))","v":""}]
[null,null,null,null,"",{"$f":"IF( ISBLANK(A1061),\"\",IF(ISBLANK(B1061),\"\",VLOOKUP(B1061,Teams!A$2:B$95,2,0)))","v":""},{"$f":"IF(ISBLANK(A1061),\"\",VLOOKUP(A1061,Etappe!A$2:B$13,2,FALSE))","v":""}]
[null,null,null,null,"",{"$f":"IF( ISBLANK(A1062),\"\",IF(ISBLANK(B1062),\"\",VLOOKUP(B1062,Teams!A$2:B$95,2,0)))","v":""},{"$f":"IF(ISBLANK(A1062),\"\",VLOOKUP(A1062,Etappe!A$2:B$13,2,FALSE))","v":""}]
[null,null,null,null,"",{"$f":"IF( ISBLANK(A1063),\"\",IF(ISBLANK(B1063),\"\",VLOOKUP(B1063,Teams!A$2:B$95,2,0)))","v":""},{"$f":"IF(ISBLANK(A1063),\"\",VLOOKUP(A1063,Etappe!A$2:B$13,2,FALSE))","v":""}]
[null,null,null,null,"",{"$f":"IF( ISBLANK(A1064),\"\",IF(ISBLANK(B1064),\"\",VLOOKUP(B1064,Teams!A$2:B$95,2,0)))","v":""},{"$f":"IF(ISBLANK(A1064),\"\",VLOOKUP(A1064,Etappe!A$2:B$13,2,FALSE))","v":""}]
[null,null,null,null,"",{"$f":"IF( ISBLANK(A1065),\"\",IF(ISBLANK(B1065),\"\",VLOOKUP(B1065,Teams!A$2:B$95,2,0)))","v":""},{"$f":"IF(ISBLANK(A1065),\"\",VLOOKUP(A1065,Etappe!A$2:B$13,2,FALSE))","v":""}]
[null,null,null,null,"",{"$f":"IF( ISBLANK(A1066),\"\",IF(ISBLANK(B1066),\"\",VLOOKUP(B1066,Teams!A$2:B$95,2,0)))","v":""},{"$f":"IF(ISBLANK(A1066),\"\",VLOOKUP(A1066,Etappe!A$2:B$13,2,FALSE))","v":""}]
[null,null,null,null,"",{"$f":"IF( ISBLANK(A1067),\"\",IF(ISBLANK(B1067),\"\",VLOOKUP(B1067,Teams!A$2:B$95,2,0)))","v":""},{"$f":"IF(ISBLANK(A1067),\"\",VLOOKUP(A1067,Etappe!A$2:B$13,2,FALSE))","v":""}]
[null,null,null,null,"",{"$f":"IF( ISBLANK(A1068),\"\",IF(ISBLANK(B1068),\"\",VLOOKUP(B1068,Teams!A$2:B$95,2,0)))","v":""},{"$f":"IF(ISBLANK(A1068),\"\",VLOOKUP(A1068,Etappe!A$2:B$13,2,FALSE))","v":""}]
[null,null,null,null,"",{"$f":"IF( ISBLANK(A1069),\"\",IF(ISBLANK(B1069),\"\",VLOOKUP(B1069,Teams!A$2:B$95,2,0)))","v":""},{"$f":"IF(ISBLANK(A1069),\"\",VLOOKUP(A1069,Etappe!A$2:B$13,2,FALSE))","v":""}]
[null,null,null,null,"",{"$f":"IF( ISBLANK(A1070),\"\",IF(ISBLANK(B1070),\"\",VLOOKUP(B1070,Teams!A$2:B$95,2,0)))","v":""},{"$f":"IF(ISBLANK(A1070),\"\",VLOOKUP(A1070,Etappe!A$2:B$13,2,FALSE))","v":""}]
[null,null,null,null,"",{"$f":"IF( ISBLANK(A1071),\"\",IF(ISBLANK(B1071),\"\",VLOOKUP(B1071,Teams!A$2:B$95,2,0)))","v":""},{"$f":"IF(ISBLANK(A1071),\"\",VLOOKUP(A1071,Etappe!A$2:B$13,2,FALSE))","v":""}]
[null,null,null,null,"",{"$f":"IF( ISBLANK(A1072),\"\",IF(ISBLANK(B1072),\"\",VLOOKUP(B1072,Teams!A$2:B$95,2,0)))","v":""},{"$f":"IF(ISBLANK(A1072),\"\",VLOOKUP(A1072,Etappe!A$2:B$13,2,FALSE))","v":""}]
[null,null,null,null,"",{"$f":"IF( ISBLANK(A1073),\"\",IF(ISBLANK(B1073),\"\",VLOOKUP(B1073,Teams!A$2:B$95,2,0)))","v":""},{"$f":"IF(ISBLANK(A1073),\"\",VLOOKUP(A1073,Etappe!A$2:B$13,2,FALSE))","v":""}]
[null,null,null,null,"",{"$f":"IF( ISBLANK(A1074),\"\",IF(ISBLANK(B1074),\"\",VLOOKUP(B1074,Teams!A$2:B$95,2,0)))","v":""},{"$f":"IF(ISBLANK(A1074),\"\",VLOOKUP(A1074,Etappe!A$2:B$13,2,FALSE))","v":""}]
[null,null,null,null,"",{"$f":"IF( ISBLANK(A1075),\"\",IF(ISBLANK(B1075),\"\",VLOOKUP(B1075,Teams!A$2:B$95,2,0)))","v":""},{"$f":"IF(ISBLANK(A1075),\"\",VLOOKUP(A1075,Etappe!A$2:B$13,2,FALSE))","v":""}]
[null,null,null,null,"",{"$f":"IF( ISBLANK(A1076),\"\",IF(ISBLANK(B1076),\"\",VLOOKUP(B1076,Teams!A$2:B$95,2,0)))","v":""},{"$f":"IF(ISBLANK(A1076),\"\",VLOOKUP(A1076,Etappe!A$2:B$13,2,FALSE))","v":""}]
[null,null,null,null,"",{"$f":"IF( ISBLANK(A1077),\"\",IF(ISBLANK(B1077),\"\",VLOOKUP(B1077,Teams!A$2:B$95,2,0)))","v":""},{"$f":"IF(ISBLANK(A1077),\"\",VLOOKUP(A1077,Etappe!A$2:B$13,2,FALSE))","v":""}]
[null,null,null,null,"",{"$f":"IF( ISBLANK(A1078),\"\",IF(ISBLANK(B1078),\"\",VLOOKUP(B1078,Teams!A$2:B$95,2,0)))","v":""},{"$f":"IF(ISBLANK(A1078),\"\",VLOOKUP(A1078,Etappe!A$2:B$13,2,FALSE))","v":""}]
[null,null,null,null,"",{"$f":"IF( ISBLANK(A1079),\"\",IF(ISBLANK(B1079),\"\",VLOOKUP(B1079,Teams!A$2:B$95,2,0)))","v":""},{"$f":"IF(ISBLANK(A1079),\"\",VLOOKUP(A1079,Etappe!A$2:B$13,2,FALSE))","v":""}]
[null,null,null,null,"",{"$f":"IF( ISBLANK(A1080),\"\",IF(ISBLANK(B1080),\"\",VLOOKUP(B1080,Teams!A$2:B$95,2,0)))","v":""},{"$f":"IF(ISBLANK(A1080),\"\",VLOOKUP(A1080,Etappe!A$2:B$13,2,FALSE))","v":""}]
[null,null,null,null,"",{"$f":"IF( ISBLANK(A1081),\"\",IF(ISBLANK(B1081),\"\",VLOOKUP(B1081,Teams!A$2:B$95,2,0)))","v":""},{"$f":"IF(ISBLANK(A1081),\"\",VLOOKUP(A1081,Etappe!A$2:B$13,2,FALSE))","v":""}]
[null,null,null,null,"",{"$f":"IF( ISBLANK(A1082),\"\",IF(ISBLANK(B1082),\"\",VLOOKUP(B1082,Teams!A$2:B$95,2,0)))","v":""},{"$f":"IF(ISBLANK(A1082),\"\",VLOOKUP(A1082,Etappe!A$2:B$13,2,FALSE))","v":""}]
[null,null,null,null,"",{"$f":"IF( ISBLANK(A1083),\"\",IF(ISBLANK(B1083),\"\",VLOOKUP(B1083,Teams!A$2:B$95,2,0)))","v":""},{"$f":"IF(ISBLANK(A1083),\"\",VLOOKUP(A1083,Etappe!A$2:B$13,2,FALSE))","v":""}]
[null,null,null,null,"",{"$f":"IF( ISBLANK(A1084),\"\",IF(ISBLANK(B1084),\"\",VLOOKUP(B1084,Teams!A$2:B$95,2,0)))","v":""},{"$f":"IF(ISBLANK(A1084),\"\",VLOOKUP(A1084,Etappe!A$2:B$13,2,FALSE))","v":""}]
[null,null,null,null,"",{"$f":"IF( ISBLANK(A1085),\"\",IF(ISBLANK(B1085),\"\",VLOOKUP(B1085,Teams!A$2:B$95,2,0)))","v":""},{"$f":"IF(ISBLANK(A1085),\"\",VLOOKUP(A1085,Etappe!A$2:B$13,2,FALSE))","v":""}]
[null,null,null,null,"",{"$f":"IF( ISBLANK(A1086),\"\",IF(ISBLANK(B1086),\"\",VLOOKUP(B1086,Teams!A$2:B$95,2,0)))","v":""},{"$f":"IF(ISBLANK(A1086),\"\",VLOOKUP(A1086,Etappe!A$2:B$13,2,FALSE))","v":""}]
[null,null,null,null,"",{"$f":"IF( ISBLANK(A1087),\"\",IF(ISBLANK(B1087),\"\",VLOOKUP(B1087,Teams!A$2:B$95,2,0)))","v":""},{"$f":"IF(ISBLANK(A1087),\"\",VLOOKUP(A1087,Etappe!A$2:B$13,2,FALSE))","v":""}]
[null,null,null,null,"",{"$f":"IF( ISBLANK(A1088),\"\",IF(ISBLANK(B1088),\"\",VLOOKUP(B1088,Teams!A$2:B$95,2,0)))","v":""},{"$f":"IF(ISBLANK(A1088),\"\",VLOOKUP(A1088,Etappe!A$2:B$13,2,FALSE))","v":""}]
[null,null,null,null,"",{"$f":"IF( ISBLANK(A1089),\"\",IF(ISBLANK(B1089),\"\",VLOOKUP(B1089,Teams!A$2:B$95,2,0)))","v":""},{"$f":"IF(ISBLANK(A1089),\"\",VLOOKUP(A1089,Etappe!A$2:B$13,2,FALSE))","v":""}]
[null,null,null,null,"",{"$f":"IF( ISBLANK(A1090),\"\",IF(ISBLANK(B1090),\"\",VLOOKUP(B1090,Teams!A$2:B$95,2,0)))","v":""},{"$f":"IF(ISBLANK(A1090),\"\",VLOOKUP(A1090,Etappe!A$2:B$13,2,FALSE))","v":""}]
[null,null,null,null,{"$f":"IF(ISBLANK(A1091),\"\",IF(C1091=\"v\",0.9*D1091,D1091))","v":""},{"$f":"IF( ISBLANK(A1091),\"\",IF(ISBLANK(B1091),\"\",VLOOKUP(B1091,Teams!A$2:B$95,2,0)))","v":""},{"$f":"IF(ISBLANK(A1091),\"\",VLOOKUP(A1091,Etappe!A$2:B$13,2,FALSE))","v":""}]
[null,null,null,null,"",{"$f":"IF( ISBLANK(A1092),\"\",IF(ISBLANK(B1092),\"\",VLOOKUP(B1092,Teams!A$2:B$95,2,0)))","v":""},{"$f":"IF(ISBLANK(A1092),\"\",VLOOKUP(A1092,Etappe!A$2:B$13,2,FALSE))","v":""}]
[null,null,null,null,"",{"$f":"IF( ISBLANK(A1093),\"\",IF(ISBLANK(B1093),\"\",VLOOKUP(B1093,Teams!A$2:B$95,2,0)))","v":""},{"$f":"IF(ISBLANK(A1093),\"\",VLOOKUP(A1093,Etappe!A$2:B$13,2,FALSE))","v":""}]
[null,null,null,null,"",{"$f":"IF( ISBLANK(A1094),\"\",IF(ISBLANK(B1094),\"\",VLOOKUP(B1094,Teams!A$2:B$95,2,0)))","v":""},{"$f":"IF(ISBLANK(A1094),\"\",VLOOKUP(A1094,Etappe!A$2:B$13,2,FALSE))","v":""}]
[null,null,null,null,"",{"$f":"IF( ISBLANK(A1095),\"\",IF(ISBLANK(B1095),\"\",VLOOKUP(B1095,Teams!A$2:B$95,2,0)))","v":""},{"$f":"IF(ISBLANK(A1095),\"\",VLOOKUP(A1095,Etappe!A$2:B$13,2,FALSE))","v":""}]
[null,null,null,null,"",{"$f":"IF( ISBLANK(A1096),\"\",IF(ISBLANK(B1096),\"\",VLOOKUP(B1096,Teams!A$2:B$95,2,0)))","v":""},{"$f":"IF(ISBLANK(A1096),\"\",VLOOKUP(A1096,Etappe!A$2:B$13,2,FALSE))","v":""}]
[null,null,null,null,"",{"$f":"IF( ISBLANK(A1097),\"\",IF(ISBLANK(B1097),\"\",VLOOKUP(B1097,Teams!A$2:B$95,2,0)))","v":""},{"$f":"IF(ISBLANK(A1097),\"\",VLOOKUP(A1097,Etappe!A$2:B$13,2,FALSE))","v":""}]
[null,null,null,null,"",{"$f":"IF( ISBLANK(A1098),\"\",IF(ISBLANK(B1098),\"\",VLOOKUP(B1098,Teams!A$2:B$95,2,0)))","v":""},{"$f":"IF(ISBLANK(A1098),\"\",VLOOKUP(A1098,Etappe!A$2:B$13,2,FALSE))","v":""}]
[null,null,null,null,"",{"$f":"IF( ISBLANK(A1099),\"\",IF(ISBLANK(B1099),\"\",VLOOKUP(B1099,Teams!A$2:B$95,2,0)))","v":""},{"$f":"IF(ISBLANK(A1099),\"\",VLOOKUP(A1099,Etappe!A$2:B$13,2,FALSE))","v":""}]
[null,null,null,null,"",{"$f":"IF( ISBLANK(A1100),\"\",IF(ISBLANK(B1100),\"\",VLOOKUP(B1100,Teams!A$2:B$95,2,0)))","v":""},{"$f":"IF(ISBLANK(A1100),\"\",VLOOKUP(A1100,Etappe!A$2:B$13,2,FALSE))","v":""}]
[null,null,null,null,"",{"$f":"IF( ISBLANK(A1101),\"\",IF(ISBLANK(B1101),\"\",VLOOKUP(B1101,Teams!A$2:B$95,2,0)))","v":""},{"$f":"IF(ISBLANK(A1101),\"\",VLOOKUP(A1101,Etappe!A$2:B$13,2,FALSE))","v":""}]
[null,null,null,null,"",{"$f":"IF( ISBLANK(A1102),\"\",IF(ISBLANK(B1102),\"\",VLOOKUP(B1102,Teams!A$2:B$95,2,0)))","v":""},{"$f":"IF(ISBLANK(A1102),\"\",VLOOKUP(A1102,Etappe!A$2:B$13,2,FALSE))","v":""}]
[null,null,null,null,"",{"$f":"IF( ISBLANK(A1103),\"\",IF(ISBLANK(B1103),\"\",VLOOKUP(B1103,Teams!A$2:B$95,2,0)))","v":""},{"$f":"IF(ISBLANK(A1103),\"\",VLOOKUP(A1103,Etappe!A$2:B$13,2,FALSE))","v":""}]
[null,null,null,null,"",{"$f":"IF( ISBLANK(A1104),\"\",IF(ISBLANK(B1104),\"\",VLOOKUP(B1104,Teams!A$2:B$95,2,0)))","v":""},{"$f":"IF(ISBLANK(A1104),\"\",VLOOKUP(A1104,Etappe!A$2:B$13,2,FALSE))","v":""}]
[null,null,null,null,"",{"$f":"IF( ISBLANK(A1105),\"\",IF(ISBLANK(B1105),\"\",VLOOKUP(B1105,Teams!A$2:B$95,2,0)))","v":""},{"$f":"IF(ISBLANK(A1105),\"\",VLOOKUP(A1105,Etappe!A$2:B$13,2,FALSE))","v":""}]
[null,null,null,null,"",{"$f":"IF( ISBLANK(A1106),\"\",IF(ISBLANK(B1106),\"\",VLOOKUP(B1106,Teams!A$2:B$95,2,0)))","v":""},{"$f":"IF(ISBLANK(A1106),\"\",VLOOKUP(A1106,Etappe!A$2:B$13,2,FALSE))","v":""}]
[null,null,null,null,"",{"$f":"IF( ISBLANK(A1107),\"\",IF(ISBLANK(B1107),\"\",VLOOKUP(B1107,Teams!A$2:B$95,2,0)))","v":""},{"$f":"IF(ISBLANK(A1107),\"\",VLOOKUP(A1107,Etappe!A$2:B$13,2,FALSE))","v":""}]
[null,null,null,null,"",{"$f":"IF( ISBLANK(A1108),\"\",IF(ISBLANK(B1108),\"\",VLOOKUP(B1108,Teams!A$2:B$95,2,0)))","v":""},{"$f":"IF(ISBLANK(A1108),\"\",VLOOKUP(A1108,Etappe!A$2:B$13,2,FALSE))","v":""}]
[null,null,null,null,"",{"$f":"IF( ISBLANK(A1109),\"\",IF(ISBLANK(B1109),\"\",VLOOKUP(B1109,Teams!A$2:B$95,2,0)))","v":""},{"$f":"IF(ISBLANK(A1109),\"\",VLOOKUP(A1109,Etappe!A$2:B$13,2,FALSE))","v":""}]
[null,null,null,null,"",{"$f":"IF( ISBLANK(A1110),\"\",IF(ISBLANK(B1110),\"\",VLOOKUP(B1110,Teams!A$2:B$95,2,0)))","v":""},{"$f":"IF(ISBLANK(A1110),\"\",VLOOKUP(A1110,Etappe!A$2:B$13,2,FALSE))","v":""}]
[null,null,null,null,"",{"$f":"IF( ISBLANK(A1111),\"\",IF(ISBLANK(B1111),\"\",VLOOKUP(B1111,Teams!A$2:B$95,2,0)))","v":""},{"$f":"IF(ISBLANK(A1111),\"\",VLOOKUP(A1111,Etappe!A$2:B$13,2,FALSE))","v":""}]
[null,null,null,null,"",{"$f":"IF( ISBLANK(A1112),\"\",IF(ISBLANK(B1112),\"\",VLOOKUP(B1112,Teams!A$2:B$95,2,0)))","v":""},{"$f":"IF(ISBLANK(A1112),\"\",VLOOKUP(A1112,Etappe!A$2:B$13,2,FALSE))","v":""}]
[null,null,null,null,"",{"$f":"IF( ISBLANK(A1113),\"\",IF(ISBLANK(B1113),\"\",VLOOKUP(B1113,Teams!A$2:B$95,2,0)))","v":""},{"$f":"IF(ISBLANK(A1113),\"\",VLOOKUP(A1113,Etappe!A$2:B$13,2,FALSE))","v":""}]
[null,null,null,null,"",{"$f":"IF( ISBLANK(A1114),\"\",IF(ISBLANK(B1114),\"\",VLOOKUP(B1114,Teams!A$2:B$95,2,0)))","v":""},{"$f":"IF(ISBLANK(A1114),\"\",VLOOKUP(A1114,Etappe!A$2:B$13,2,FALSE))","v":""}]
[null,null,null,null,"",{"$f":"IF( ISBLANK(A1115),\"\",IF(ISBLANK(B1115),\"\",VLOOKUP(B1115,Teams!A$2:B$95,2,0)))","v":""},{"$f":"IF(ISBLANK(A1115),\"\",VLOOKUP(A1115,Etappe!A$2:B$13,2,FALSE))","v":""}]
[null,null,null,null,"",{"$f":"IF( ISBLANK(A1116),\"\",IF(ISBLANK(B1116),\"\",VLOOKUP(B1116,Teams!A$2:B$95,2,0)))","v":""},{"$f":"IF(ISBLANK(A1116),\"\",VLOOKUP(A1116,Etappe!A$2:B$13,2,FALSE))","v":""}]
[null,null,null,null,"",{"$f":"IF( ISBLANK(A1117),\"\",IF(ISBLANK(B1117),\"\",VLOOKUP(B1117,Teams!A$2:B$95,2,0)))","v":""},{"$f":"IF(ISBLANK(A1117),\"\",VLOOKUP(A1117,Etappe!A$2:B$13,2,FALSE))","v":""}]
[null,null,null,null,"",{"$f":"IF( ISBLANK(A1118),\"\",IF(ISBLANK(B1118),\"\",VLOOKUP(B1118,Teams!A$2:B$95,2,0)))","v":""},{"$f":"IF(ISBLANK(A1118),\"\",VLOOKUP(A1118,Etappe!A$2:B$13,2,FALSE))","v":""}]
[null,null,null,null,"",{"$f":"IF( ISBLANK(A1119),\"\",IF(ISBLANK(B1119),\"\",VLOOKUP(B1119,Teams!A$2:B$95,2,0)))","v":""},{"$f":"IF(ISBLANK(A1119),\"\",VLOOKUP(A1119,Etappe!A$2:B$13,2,FALSE))","v":""}]
[null,null,null,null,"",{"$f":"IF( ISBLANK(A1120),\"\",IF(ISBLANK(B1120),\"\",VLOOKUP(B1120,Teams!A$2:B$95,2,0)))","v":""},{"$f":"IF(ISBLANK(A1120),\"\",VLOOKUP(A1120,Etappe!A$2:B$13,2,FALSE))","v":""}]
[null,null,null,null,"",{"$f":"IF( ISBLANK(A1121),\"\",IF(ISBLANK(B1121),\"\",VLOOKUP(B1121,Teams!A$2:B$95,2,0)))","v":""},{"$f":"IF(ISBLANK(A1121),\"\",VLOOKUP(A1121,Etappe!A$2:B$13,2,FALSE))","v":""}]
[null,null,null,null,"",{"$f":"IF( ISBLANK(A1122),\"\",IF(ISBLANK(B1122),\"\",VLOOKUP(B1122,Teams!A$2:B$95,2,0)))","v":""},{"$f":"IF(ISBLANK(A1122),\"\",VLOOKUP(A1122,Etappe!A$2:B$13,2,FALSE))","v":""}]
[null,null,null,null,"",{"$f":"IF( ISBLANK(A1123),\"\",IF(ISBLANK(B1123),\"\",VLOOKUP(B1123,Teams!A$2:B$95,2,0)))","v":""},{"$f":"IF(ISBLANK(A1123),\"\",VLOOKUP(A1123,Etappe!A$2:B$13,2,FALSE))","v":""}]
[null,null,null,null,"",{"$f":"IF( ISBLANK(A1124),\"\",IF(ISBLANK(B1124),\"\",VLOOKUP(B1124,Teams!A$2:B$95,2,0)))","v":""},{"$f":"IF(ISBLANK(A1124),\"\",VLOOKUP(A1124,Etappe!A$2:B$13,2,FALSE))","v":""}]
[null,null,null,null,"",{"$f":"IF( ISBLANK(A1125),\"\",IF(ISBLANK(B1125),\"\",VLOOKUP(B1125,Teams!A$2:B$95,2,0)))","v":""},{"$f":"IF(ISBLANK(A1125),\"\",VLOOKUP(A1125,Etappe!A$2:B$13,2,FALSE))","v":""}]
[null,null,null,null,"",{"$f":"IF( ISBLANK(A1126),\"\",IF(ISBLANK(B1126),\"\",VLOOKUP(B1126,Teams!A$2:B$95,2,0)))","v":""},{"$f":"IF(ISBLANK(A1126),\"\",VLOOKUP(A1126,Etappe!A$2:B$13,2,FALSE))","v":""}]
[null,null,null,null,"",{"$f":"IF( ISBLANK(A1127),\"\",IF(ISBLANK(B1127),\"\",VLOOKUP(B1127,Teams!A$2:B$95,2,0)))","v":""},{"$f":"IF(ISBLANK(A1127),\"\",VLOOKUP(A1127,Etappe!A$2:B$13,2,FALSE))","v":""}]
[null,null,null,null,"",{"$f":"IF( ISBLANK(A1128),\"\",IF(ISBLANK(B1128),\"\",VLOOKUP(B1128,Teams!A$2:B$95,2,0)))","v":""},{"$f":"IF(ISBLANK(A1128),\"\",VLOOKUP(A1128,Etappe!A$2:B$13,2,FALSE))","v":""}]
[null,null,null,null,"",{"$f":"IF( ISBLANK(A1129),\"\",IF(ISBLANK(B1129),\"\",VLOOKUP(B1129,Teams!A$2:B$95,2,0)))","v":""},{"$f":"IF(ISBLANK(A1129),\"\",VLOOKUP(A1129,Etappe!A$2:B$13,2,FALSE))","v":""}]
[null,null,null,null,"",{"$f":"IF( ISBLANK(A1130),\"\",IF(ISBLANK(B1130),\"\",VLOOKUP(B1130,Teams!A$2:B$95,2,0)))","v":""},{"$f":"IF(ISBLANK(A1130),\"\",VLOOKUP(A1130,Etappe!A$2:B$13,2,FALSE))","v":""}]
[null,null,null,null,"",{"$f":"IF( ISBLANK(A1131),\"\",IF(ISBLANK(B1131),\"\",VLOOKUP(B1131,Teams!A$2:B$95,2,0)))","v":""},{"$f":"IF(ISBLANK(A1131),\"\",VLOOKUP(A1131,Etappe!A$2:B$13,2,FALSE))","v":""}]
[null,null,null,null,"",{"$f":"IF( ISBLANK(A1132),\"\",IF(ISBLANK(B1132),\"\",VLOOKUP(B1132,Teams!A$2:B$95,2,0)))","v":""},{"$f":"IF(ISBLANK(A1132),\"\",VLOOKUP(A1132,Etappe!A$2:B$13,2,FALSE))","v":""}]
[null,null,null,null,"",{"$f":"IF( ISBLANK(A1133),\"\",IF(ISBLANK(B1133),\"\",VLOOKUP(B1133,Teams!A$2:B$95,2,0)))","v":""},{"$f":"IF(ISBLANK(A1133),\"\",VLOOKUP(A1133,Etappe!A$2:B$13,2,FALSE))","v":""}]
[null,null,null,null,"",{"$f":"IF( ISBLANK(A1134),\"\",IF(ISBLANK(B1134),\"\",VLOOKUP(B1134,Teams!A$2:B$95,2,0)))","v":""},{"$f":"IF(ISBLANK(A1134),\"\",VLOOKUP(A1134,Etappe!A$2:B$13,2,FALSE))","v":""}]
[null,null,null,null,"",{"$f":"IF( ISBLANK(A1135),\"\",IF(ISBLANK(B1135),\"\",VLOOKUP(B1135,Teams!A$2:B$95,2,0)))","v":""},{"$f":"IF(ISBLANK(A1135),\"\",VLOOKUP(A1135,Etappe!A$2:B$13,2,FALSE))","v":""}]
[null,null,null,null,"",{"$f":"IF( ISBLANK(A1136),\"\",IF(ISBLANK(B1136),\"\",VLOOKUP(B1136,Teams!A$2:B$95,2,0)))","v":""},{"$f":"IF(ISBLANK(A1136),\"\",VLOOKUP(A1136,Etappe!A$2:B$13,2,FALSE))","v":""}]
[null,null,null,null,"",{"$f":"IF( ISBLANK(A1137),\"\",IF(ISBLANK(B1137),\"\",VLOOKUP(B1137,Teams!A$2:B$95,2,0)))","v":""},{"$f":"IF(ISBLANK(A1137),\"\",VLOOKUP(A1137,Etappe!A$2:B$13,2,FALSE))","v":""}]
[null,null,null,null,"",{"$f":"IF( ISBLANK(A1138),\"\",IF(ISBLANK(B1138),\"\",VLOOKUP(B1138,Teams!A$2:B$95,2,0)))","v":""},{"$f":"IF(ISBLANK(A1138),\"\",VLOOKUP(A1138,Etappe!A$2:B$13,2,FALSE))","v":""}]
[null,null,null,null,"",{"$f":"IF( ISBLANK(A1139),\"\",IF(ISBLANK(B1139),\"\",VLOOKUP(B1139,Teams!A$2:B$95,2,0)))","v":""},{"$f":"IF(ISBLANK(A1139),\"\",VLOOKUP(A1139,Etappe!A$2:B$13,2,FALSE))","v":""}]
[null,null,null,null,"",{"$f":"IF( ISBLANK(A1140),\"\",IF(ISBLANK(B1140),\"\",VLOOKUP(B1140,Teams!A$2:B$95,2,0)))","v":""},{"$f":"IF(ISBLANK(A1140),\"\",VLOOKUP(A1140,Etappe!A$2:B$13,2,FALSE))","v":""}]
[null,null,null,null,"",{"$f":"IF( ISBLANK(A1141),\"\",IF(ISBLANK(B1141),\"\",VLOOKUP(B1141,Teams!A$2:B$95,2,0)))","v":""},{"$f":"IF(ISBLANK(A1141),\"\",VLOOKUP(A1141,Etappe!A$2:B$13,2,FALSE))","v":""}]
[null,null,null,null,"",{"$f":"IF( ISBLANK(A1142),\"\",IF(ISBLANK(B1142),\"\",VLOOKUP(B1142,Teams!A$2:B$95,2,0)))","v":""},{"$f":"IF(ISBLANK(A1142),\"\",VLOOKUP(A1142,Etappe!A$2:B$13,2,FALSE))","v":""}]
[null,null,null,null,"",{"$f":"IF( ISBLANK(A1143),\"\",IF(ISBLANK(B1143),\"\",VLOOKUP(B1143,Teams!A$2:B$95,2,0)))","v":""},{"$f":"IF(ISBLANK(A1143),\"\",VLOOKUP(A1143,Etappe!A$2:B$13,2,FALSE))","v":""}]
[null,null,null,null,"",{"$f":"IF( ISBLANK(A1144),\"\",IF(ISBLANK(B1144),\"\",VLOOKUP(B1144,Teams!A$2:B$95,2,0)))","v":""},{"$f":"IF(ISBLANK(A1144),\"\",VLOOKUP(A1144,Etappe!A$2:B$13,2,FALSE))","v":""}]
[null,null,null,null,"",{"$f":"IF( ISBLANK(A1145),\"\",IF(ISBLANK(B1145),\"\",VLOOKUP(B1145,Teams!A$2:B$95,2,0)))","v":""},{"$f":"IF(ISBLANK(A1145),\"\",VLOOKUP(A1145,Etappe!A$2:B$13,2,FALSE))","v":""}]
[null,null,null,null,"",{"$f":"IF( ISBLANK(A1146),\"\",IF(ISBLANK(B1146),\"\",VLOOKUP(B1146,Teams!A$2:B$95,2,0)))","v":""},{"$f":"IF(ISBLANK(A1146),\"\",VLOOKUP(A1146,Etappe!A$2:B$13,2,FALSE))","v":""}]
[null,null,null,null,"",{"$f":"IF( ISBLANK(A1147),\"\",IF(ISBLANK(B1147),\"\",VLOOKUP(B1147,Teams!A$2:B$95,2,0)))","v":""},{"$f":"IF(ISBLANK(A1147),\"\",VLOOKUP(A1147,Etappe!A$2:B$13,2,FALSE))","v":""}]
[null,null,null,null,"",{"$f":"IF( ISBLANK(A1148),\"\",IF(ISBLANK(B1148),\"\",VLOOKUP(B1148,Teams!A$2:B$95,2,0)))","v":""},{"$f":"IF(ISBLANK(A1148),\"\",VLOOKUP(A1148,Etappe!A$2:B$13,2,FALSE))","v":""}]
[null,null,null,null,"",{"$f":"IF( ISBLANK(A1149),\"\",IF(ISBLANK(B1149),\"\",VLOOKUP(B1149,Teams!A$2:B$95,2,0)))","v":""},{"$f":"IF(ISBLANK(A1149),\"\",VLOOKUP(A1149,Etappe!A$2:B$13,2,FALSE))","v":""}]
[null,null,null,null,"",{"$f":"IF( ISBLANK(A1150),\"\",IF(ISBLANK(B1150),\"\",VLOOKUP(B1150,Teams!A$2:B$95,2,0)))","v":""},{"$f":"IF(ISBLANK(A1150),\"\",VLOOKUP(A1150,Etappe!A$2:B$13,2,FALSE))","v":""}]
[null,null,null,null,"",{"$f":"IF( ISBLANK(A1151),\"\",IF(ISBLANK(B1151),\"\",VLOOKUP(B1151,Teams!A$2:B$95,2,0)))","v":""},{"$f":"IF(ISBLANK(A1151),\"\",VLOOKUP(A1151,Etappe!A$2:B$13,2,FALSE))","v":""}]
[null,null,null,null,"",{"$f":"IF( ISBLANK(A1152),\"\",IF(ISBLANK(B1152),\"\",VLOOKUP(B1152,Teams!A$2:B$95,2,0)))","v":""},{"$f":"IF(ISBLANK(A1152),\"\",VLOOKUP(A1152,Etappe!A$2:B$13,2,FALSE))","v":""}]
[null,null,null,null,"",{"$f":"IF( ISBLANK(A1153),\"\",IF(ISBLANK(B1153),\"\",VLOOKUP(B1153,Teams!A$2:B$95,2,0)))","v":""},{"$f":"IF(ISBLANK(A1153),\"\",VLOOKUP(A1153,Etappe!A$2:B$13,2,FALSE))","v":""}]
[null,null,null,null,"",{"$f":"IF( ISBLANK(A1154),\"\",IF(ISBLANK(B1154),\"\",VLOOKUP(B1154,Teams!A$2:B$95,2,0)))","v":""},{"$f":"IF(ISBLANK(A1154),\"\",VLOOKUP(A1154,Etappe!A$2:B$13,2,FALSE))","v":""}]
[null,null,null,null,{"$f":"IF(ISBLANK(A1155),\"\",IF(C1155=\"v\",0.9*D1155,D1155))","v":""},{"$f":"IF( ISBLANK(A1155),\"\",IF(ISBLANK(B1155),\"\",VLOOKUP(B1155,Teams!A$2:B$95,2,0)))","v":""},{"$f":"IF(ISBLANK(A1155),\"\",VLOOKUP(A1155,Etappe!A$2:B$13,2,FALSE))","v":""}]
[null,null,null,null,"",{"$f":"IF( ISBLANK(A1156),\"\",IF(ISBLANK(B1156),\"\",VLOOKUP(B1156,Teams!A$2:B$95,2,0)))","v":""},{"$f":"IF(ISBLANK(A1156),\"\",VLOOKUP(A1156,Etappe!A$2:B$13,2,FALSE))","v":""}]
[null,null,null,null,"",{"$f":"IF( ISBLANK(A1157),\"\",IF(ISBLANK(B1157),\"\",VLOOKUP(B1157,Teams!A$2:B$95,2,0)))","v":""},{"$f":"IF(ISBLANK(A1157),\"\",VLOOKUP(A1157,Etappe!A$2:B$13,2,FALSE))","v":""}]
[null,null,null,null,"",{"$f":"IF( ISBLANK(A1158),\"\",IF(ISBLANK(B1158),\"\",VLOOKUP(B1158,Teams!A$2:B$95,2,0)))","v":""},{"$f":"IF(ISBLANK(A1158),\"\",VLOOKUP(A1158,Etappe!A$2:B$13,2,FALSE))","v":""}]
[null,null,null,null,"",{"$f":"IF( ISBLANK(A1159),\"\",IF(ISBLANK(B1159),\"\",VLOOKUP(B1159,Teams!A$2:B$95,2,0)))","v":""},{"$f":"IF(ISBLANK(A1159),\"\",VLOOKUP(A1159,Etappe!A$2:B$13,2,FALSE))","v":""}]
[null,null,null,null,"",{"$f":"IF( ISBLANK(A1160),\"\",IF(ISBLANK(B1160),\"\",VLOOKUP(B1160,Teams!A$2:B$95,2,0)))","v":""},{"$f":"IF(ISBLANK(A1160),\"\",VLOOKUP(A1160,Etappe!A$2:B$13,2,FALSE))","v":""}]
[null,null,null,null,"",{"$f":"IF( ISBLANK(A1161),\"\",IF(ISBLANK(B1161),\"\",VLOOKUP(B1161,Teams!A$2:B$95,2,0)))","v":""},{"$f":"IF(ISBLANK(A1161),\"\",VLOOKUP(A1161,Etappe!A$2:B$13,2,FALSE))","v":""}]
[null,null,null,null,"",{"$f":"IF( ISBLANK(A1162),\"\",IF(ISBLANK(B1162),\"\",VLOOKUP(B1162,Teams!A$2:B$95,2,0)))","v":""},{"$f":"IF(ISBLANK(A1162),\"\",VLOOKUP(A1162,Etappe!A$2:B$13,2,FALSE))","v":""}]
[null,null,null,null,"",{"$f":"IF( ISBLANK(A1163),\"\",IF(ISBLANK(B1163),\"\",VLOOKUP(B1163,Teams!A$2:B$95,2,0)))","v":""},{"$f":"IF(ISBLANK(A1163),\"\",VLOOKUP(A1163,Etappe!A$2:B$13,2,FALSE))","v":""}]
[null,null,null,null,"",{"$f":"IF( ISBLANK(A1164),\"\",IF(ISBLANK(B1164),\"\",VLOOKUP(B1164,Teams!A$2:B$95,2,0)))","v":""},{"$f":"IF(ISBLANK(A1164),\"\",VLOOKUP(A1164,Etappe!A$2:B$13,2,FALSE))","v":""}]
[null,null,null,null,"",{"$f":"IF( ISBLANK(A1165),\"\",IF(ISBLANK(B1165),\"\",VLOOKUP(B1165,Teams!A$2:B$95,2,0)))","v":""},{"$f":"IF(ISBLANK(A1165),\"\",VLOOKUP(A1165,Etappe!A$2:B$13,2,FALSE))","v":""}]
[null,null,null,null,"",{"$f":"IF( ISBLANK(A1166),\"\",IF(ISBLANK(B1166),\"\",VLOOKUP(B1166,Teams!A$2:B$95,2,0)))","v":""},{"$f":"IF(ISBLANK(A1166),\"\",VLOOKUP(A1166,Etappe!A$2:B$13,2,FALSE))","v":""}]
[null,null,null,null,"",{"$f":"IF( ISBLANK(A1167),\"\",IF(ISBLANK(B1167),\"\",VLOOKUP(B1167,Teams!A$2:B$95,2,0)))","v":""},{"$f":"IF(ISBLANK(A1167),\"\",VLOOKUP(A1167,Etappe!A$2:B$13,2,FALSE))","v":""}]
[null,null,null,null,"",{"$f":"IF( ISBLANK(A1168),\"\",IF(ISBLANK(B1168),\"\",VLOOKUP(B1168,Teams!A$2:B$95,2,0)))","v":""},{"$f":"IF(ISBLANK(A1168),\"\",VLOOKUP(A1168,Etappe!A$2:B$13,2,FALSE))","v":""}]
[null,null,null,null,"",{"$f":"IF( ISBLANK(A1169),\"\",IF(ISBLANK(B1169),\"\",VLOOKUP(B1169,Teams!A$2:B$95,2,0)))","v":""},{"$f":"IF(ISBLANK(A1169),\"\",VLOOKUP(A1169,Etappe!A$2:B$13,2,FALSE))","v":""}]
[null,null,null,null,"",{"$f":"IF( ISBLANK(A1170),\"\",IF(ISBLANK(B1170),\"\",VLOOKUP(B1170,Teams!A$2:B$95,2,0)))","v":""},{"$f":"IF(ISBLANK(A1170),\"\",VLOOKUP(A1170,Etappe!A$2:B$13,2,FALSE))","v":""}]
[null,null,null,null,"",{"$f":"IF( ISBLANK(A1171),\"\",IF(ISBLANK(B1171),\"\",VLOOKUP(B1171,Teams!A$2:B$95,2,0)))","v":""},{"$f":"IF(ISBLANK(A1171),\"\",VLOOKUP(A1171,Etappe!A$2:B$13,2,FALSE))","v":""}]
[null,null,null,null,"",{"$f":"IF( ISBLANK(A1172),\"\",IF(ISBLANK(B1172),\"\",VLOOKUP(B1172,Teams!A$2:B$95,2,0)))","v":""},{"$f":"IF(ISBLANK(A1172),\"\",VLOOKUP(A1172,Etappe!A$2:B$13,2,FALSE))","v":""}]
[null,null,null,null,"",{"$f":"IF( ISBLANK(A1173),\"\",IF(ISBLANK(B1173),\"\",VLOOKUP(B1173,Teams!A$2:B$95,2,0)))","v":""},{"$f":"IF(ISBLANK(A1173),\"\",VLOOKUP(A1173,Etappe!A$2:B$13,2,FALSE))","v":""}]
[null,null,null,null,"",{"$f":"IF( ISBLANK(A1174),\"\",IF(ISBLANK(B1174),\"\",VLOOKUP(B1174,Teams!A$2:B$95,2,0)))","v":""},{"$f":"IF(ISBLANK(A1174),\"\",VLOOKUP(A1174,Etappe!A$2:B$13,2,FALSE))","v":""}]
[null,null,null,null,"",{"$f":"IF( ISBLANK(A1175),\"\",IF(ISBLANK(B1175),\"\",VLOOKUP(B1175,Teams!A$2:B$95,2,0)))","v":""},{"$f":"IF(ISBLANK(A1175),\"\",VLOOKUP(A1175,Etappe!A$2:B$13,2,FALSE))","v":""}]
[null,null,null,null,"",{"$f":"IF( ISBLANK(A1176),\"\",IF(ISBLANK(B1176),\"\",VLOOKUP(B1176,Teams!A$2:B$95,2,0)))","v":""},{"$f":"IF(ISBLANK(A1176),\"\",VLOOKUP(A1176,Etappe!A$2:B$13,2,FALSE))","v":""}]
[null,null,null,null,"",{"$f":"IF( ISBLANK(A1177),\"\",IF(ISBLANK(B1177),\"\",VLOOKUP(B1177,Teams!A$2:B$95,2,0)))","v":""},{"$f":"IF(ISBLANK(A1177),\"\",VLOOKUP(A1177,Etappe!A$2:B$13,2,FALSE))","v":""}]
[null,null,null,null,"",{"$f":"IF( ISBLANK(A1178),\"\",IF(ISBLANK(B1178),\"\",VLOOKUP(B1178,Teams!A$2:B$95,2,0)))","v":""},{"$f":"IF(ISBLANK(A1178),\"\",VLOOKUP(A1178,Etappe!A$2:B$13,2,FALSE))","v":""}]
[null,null,null,null,"",{"$f":"IF( ISBLANK(A1179),\"\",IF(ISBLANK(B1179),\"\",VLOOKUP(B1179,Teams!A$2:B$95,2,0)))","v":""},{"$f":"IF(ISBLANK(A1179),\"\",VLOOKUP(A1179,Etappe!A$2:B$13,2,FALSE))","v":""}]
[null,null,null,null,"",{"$f":"IF( ISBLANK(A1180),\"\",IF(ISBLANK(B1180),\"\",VLOOKUP(B1180,Teams!A$2:B$95,2,0)))","v":""},{"$f":"IF(ISBLANK(A1180),\"\",VLOOKUP(A1180,Etappe!A$2:B$13,2,FALSE))","v":""}]
[null,null,null,null,"",{"$f":"IF( ISBLANK(A1181),\"\",IF(ISBLANK(B1181),\"\",VLOOKUP(B1181,Teams!A$2:B$95,2,0)))","v":""},{"$f":"IF(ISBLANK(A1181),\"\",VLOOKUP(A1181,Etappe!A$2:B$13,2,FALSE))","v":""}]
[null,null,null,null,"",{"$f":"IF( ISBLANK(A1182),\"\",IF(ISBLANK(B1182),\"\",VLOOKUP(B1182,Teams!A$2:B$95,2,0)))","v":""},{"$f":"IF(ISBLANK(A1182),\"\",VLOOKUP(A1182,Etappe!A$2:B$13,2,FALSE))","v":""}]
[null,null,null,null,"",{"$f":"IF( ISBLANK(A1183),\"\",IF(ISBLANK(B1183),\"\",VLOOKUP(B1183,Teams!A$2:B$95,2,0)))","v":""},{"$f":"IF(ISBLANK(A1183),\"\",VLOOKUP(A1183,Etappe!A$2:B$13,2,FALSE))","v":""}]
[null,null,null,null,"",{"$f":"IF( ISBLANK(A1184),\"\",IF(ISBLANK(B1184),\"\",VLOOKUP(B1184,Teams!A$2:B$95,2,0)))","v":""},{"$f":"IF(ISBLANK(A1184),\"\",VLOOKUP(A1184,Etappe!A$2:B$13,2,FALSE))","v":""}]
[null,null,null,null,"",{"$f":"IF( ISBLANK(A1185),\"\",IF(ISBLANK(B1185),\"\",VLOOKUP(B1185,Teams!A$2:B$95,2,0)))","v":""},{"$f":"IF(ISBLANK(A1185),\"\",VLOOKUP(A1185,Etappe!A$2:B$13,2,FALSE))","v":""}]
[null,null,null,null,"",{"$f":"IF( ISBLANK(A1186),\"\",IF(ISBLANK(B1186),\"\",VLOOKUP(B1186,Teams!A$2:B$95,2,0)))","v":""},{"$f":"IF(ISBLANK(A1186),\"\",VLOOKUP(A1186,Etappe!A$2:B$13,2,FALSE))","v":""}]
[null,null,null,null,"",{"$f":"IF( ISBLANK(A1187),\"\",IF(ISBLANK(B1187),\"\",VLOOKUP(B1187,Teams!A$2:B$95,2,0)))","v":""},{"$f":"IF(ISBLANK(A1187),\"\",VLOOKUP(A1187,Etappe!A$2:B$13,2,FALSE))","v":""}]
[null,null,null,null,"",{"$f":"IF( ISBLANK(A1188),\"\",IF(ISBLANK(B1188),\"\",VLOOKUP(B1188,Teams!A$2:B$95,2,0)))","v":""},{"$f":"IF(ISBLANK(A1188),\"\",VLOOKUP(A1188,Etappe!A$2:B$13,2,FALSE))","v":""}]
[null,null,null,null,"",{"$f":"IF( ISBLANK(A1189),\"\",IF(ISBLANK(B1189),\"\",VLOOKUP(B1189,Teams!A$2:B$95,2,0)))","v":""},{"$f":"IF(ISBLANK(A1189),\"\",VLOOKUP(A1189,Etappe!A$2:B$13,2,FALSE))","v":""}]
[null,null,null,null,"",{"$f":"IF( ISBLANK(A1190),\"\",IF(ISBLANK(B1190),\"\",VLOOKUP(B1190,Teams!A$2:B$95,2,0)))","v":""},{"$f":"IF(ISBLANK(A1190),\"\",VLOOKUP(A1190,Etappe!A$2:B$13,2,FALSE))","v":""}]
[null,null,null,null,"",{"$f":"IF( ISBLANK(A1191),\"\",IF(ISBLANK(B1191),\"\",VLOOKUP(B1191,Teams!A$2:B$95,2,0)))","v":""},{"$f":"IF(ISBLANK(A1191),\"\",VLOOKUP(A1191,Etappe!A$2:B$13,2,FALSE))","v":""}]
[null,null,null,null,"",{"$f":"IF( ISBLANK(A1192),\"\",IF(ISBLANK(B1192),\"\",VLOOKUP(B1192,Teams!A$2:B$95,2,0)))","v":""},{"$f":"IF(ISBLANK(A1192),\"\",VLOOKUP(A1192,Etappe!A$2:B$13,2,FALSE))","v":""}]
[null,null,null,null,"",{"$f":"IF( ISBLANK(A1193),\"\",IF(ISBLANK(B1193),\"\",VLOOKUP(B1193,Teams!A$2:B$95,2,0)))","v":""},{"$f":"IF(ISBLANK(A1193),\"\",VLOOKUP(A1193,Etappe!A$2:B$13,2,FALSE))","v":""}]
[null,null,null,null,"",{"$f":"IF( ISBLANK(A1194),\"\",IF(ISBLANK(B1194),\"\",VLOOKUP(B1194,Teams!A$2:B$95,2,0)))","v":""},{"$f":"IF(ISBLANK(A1194),\"\",VLOOKUP(A1194,Etappe!A$2:B$13,2,FALSE))","v":""}]
[null,null,null,null,"",{"$f":"IF( ISBLANK(A1195),\"\",IF(ISBLANK(B1195),\"\",VLOOKUP(B1195,Teams!A$2:B$95,2,0)))","v":""},{"$f":"IF(ISBLANK(A1195),\"\",VLOOKUP(A1195,Etappe!A$2:B$13,2,FALSE))","v":""}]
[null,null,null,null,"",{"$f":"IF( ISBLANK(A1196),\"\",IF(ISBLANK(B1196),\"\",VLOOKUP(B1196,Teams!A$2:B$95,2,0)))","v":""},{"$f":"IF(ISBLANK(A1196),\"\",VLOOKUP(A1196,Etappe!A$2:B$13,2,FALSE))","v":""}]
[null,null,null,null,"",{"$f":"IF( ISBLANK(A1197),\"\",IF(ISBLANK(B1197),\"\",VLOOKUP(B1197,Teams!A$2:B$95,2,0)))","v":""},{"$f":"IF(ISBLANK(A1197),\"\",VLOOKUP(A1197,Etappe!A$2:B$13,2,FALSE))","v":""}]
[null,null,null,null,"",{"$f":"IF( ISBLANK(A1198),\"\",IF(ISBLANK(B1198),\"\",VLOOKUP(B1198,Teams!A$2:B$95,2,0)))","v":""},{"$f":"IF(ISBLANK(A1198),\"\",VLOOKUP(A1198,Etappe!A$2:B$13,2,FALSE))","v":""}]
[null,null,null,null,"",{"$f":"IF( ISBLANK(A1199),\"\",IF(ISBLANK(B1199),\"\",VLOOKUP(B1199,Teams!A$2:B$95,2,0)))","v":""},{"$f":"IF(ISBLANK(A1199),\"\",VLOOKUP(A1199,Etappe!A$2:B$13,2,FALSE))","v":""}]
[null,null,null,null,"",{"$f":"IF( ISBLANK(A1200),\"\",IF(ISBLANK(B1200),\"\",VLOOKUP(B1200,Teams!A$2:B$95,2,0)))","v":""},{"$f":"IF(ISBLANK(A1200),\"\",VLOOKUP(A1200,Etappe!A$2:B$13,2,FALSE))","v":""}]
[null,null,null,null,"",{"$f":"IF( ISBLANK(A1201),\"\",IF(ISBLANK(B1201),\"\",VLOOKUP(B1201,Teams!A$2:B$95,2,0)))","v":""},{"$f":"IF(ISBLANK(A1201),\"\",VLOOKUP(A1201,Etappe!A$2:B$13,2,FALSE))","v":""}]
[null,null,null,null,"",{"$f":"IF( ISBLANK(A1202),\"\",IF(ISBLANK(B1202),\"\",VLOOKUP(B1202,Teams!A$2:B$95,2,0)))","v":""},{"$f":"IF(ISBLANK(A1202),\"\",VLOOKUP(A1202,Etappe!A$2:B$13,2,FALSE))","v":""}]
[null,null,null,null,"",{"$f":"IF( ISBLANK(A1203),\"\",IF(ISBLANK(B1203),\"\",VLOOKUP(B1203,Teams!A$2:B$95,2,0)))","v":""},{"$f":"IF(ISBLANK(A1203),\"\",VLOOKUP(A1203,Etappe!A$2:B$13,2,FALSE))","v":""}]
[null,null,null,null,"",{"$f":"IF( ISBLANK(A1204),\"\",IF(ISBLANK(B1204),\"\",VLOOKUP(B1204,Teams!A$2:B$95,2,0)))","v":""},{"$f":"IF(ISBLANK(A1204),\"\",VLOOKUP(A1204,Etappe!A$2:B$13,2,FALSE))","v":""}]
[null,null,null,null,"",{"$f":"IF( ISBLANK(A1205),\"\",IF(ISBLANK(B1205),\"\",VLOOKUP(B1205,Teams!A$2:B$95,2,0)))","v":""},{"$f":"IF(ISBLANK(A1205),\"\",VLOOKUP(A1205,Etappe!A$2:B$13,2,FALSE))","v":""}]
[null,null,null,null,"",{"$f":"IF( ISBLANK(A1206),\"\",IF(ISBLANK(B1206),\"\",VLOOKUP(B1206,Teams!A$2:B$95,2,0)))","v":""},{"$f":"IF(ISBLANK(A1206),\"\",VLOOKUP(A1206,Etappe!A$2:B$13,2,FALSE))","v":""}]
[null,null,null,null,"",{"$f":"IF( ISBLANK(A1207),\"\",IF(ISBLANK(B1207),\"\",VLOOKUP(B1207,Teams!A$2:B$95,2,0)))","v":""},{"$f":"IF(ISBLANK(A1207),\"\",VLOOKUP(A1207,Etappe!A$2:B$13,2,FALSE))","v":""}]
[null,null,null,null,"",{"$f":"IF( ISBLANK(A1208),\"\",IF(ISBLANK(B1208),\"\",VLOOKUP(B1208,Teams!A$2:B$95,2,0)))","v":""},{"$f":"IF(ISBLANK(A1208),\"\",VLOOKUP(A1208,Etappe!A$2:B$13,2,FALSE))","v":""}]
[null,null,null,null,"",{"$f":"IF( ISBLANK(A1209),\"\",IF(ISBLANK(B1209),\"\",VLOOKUP(B1209,Teams!A$2:B$95,2,0)))","v":""},{"$f":"IF(ISBLANK(A1209),\"\",VLOOKUP(A1209,Etappe!A$2:B$13,2,FALSE))","v":""}]
[null,null,null,null,"",{"$f":"IF( ISBLANK(A1210),\"\",IF(ISBLANK(B1210),\"\",VLOOKUP(B1210,Teams!A$2:B$95,2,0)))","v":""},{"$f":"IF(ISBLANK(A1210),\"\",VLOOKUP(A1210,Etappe!A$2:B$13,2,FALSE))","v":""}]
[null,null,null,null,"",{"$f":"IF( ISBLANK(A1211),\"\",IF(ISBLANK(B1211),\"\",VLOOKUP(B1211,Teams!A$2:B$95,2,0)))","v":""},{"$f":"IF(ISBLANK(A1211),\"\",VLOOKUP(A1211,Etappe!A$2:B$13,2,FALSE))","v":""}]
[null,null,null,null,"",{"$f":"IF( ISBLANK(A1212),\"\",IF(ISBLANK(B1212),\"\",VLOOKUP(B1212,Teams!A$2:B$95,2,0)))","v":""},{"$f":"IF(ISBLANK(A1212),\"\",VLOOKUP(A1212,Etappe!A$2:B$13,2,FALSE))","v":""}]
[null,null,null,null,"",{"$f":"IF( ISBLANK(A1213),\"\",IF(ISBLANK(B1213),\"\",VLOOKUP(B1213,Teams!A$2:B$95,2,0)))","v":""},{"$f":"IF(ISBLANK(A1213),\"\",VLOOKUP(A1213,Etappe!A$2:B$13,2,FALSE))","v":""}]
[null,null,null,null,"",{"$f":"IF( ISBLANK(A1214),\"\",IF(ISBLANK(B1214),\"\",VLOOKUP(B1214,Teams!A$2:B$95,2,0)))","v":""},{"$f":"IF(ISBLANK(A1214),\"\",VLOOKUP(A1214,Etappe!A$2:B$13,2,FALSE))","v":""}]
[null,null,null,null,"",{"$f":"IF( ISBLANK(A1215),\"\",IF(ISBLANK(B1215),\"\",VLOOKUP(B1215,Teams!A$2:B$95,2,0)))","v":""},{"$f":"IF(ISBLANK(A1215),\"\",VLOOKUP(A1215,Etappe!A$2:B$13,2,FALSE))","v":""}]
[null,null,null,null,"",{"$f":"IF( ISBLANK(A1216),\"\",IF(ISBLANK(B1216),\"\",VLOOKUP(B1216,Teams!A$2:B$95,2,0)))","v":""},{"$f":"IF(ISBLANK(A1216),\"\",VLOOKUP(A1216,Etappe!A$2:B$13,2,FALSE))","v":""}]
[null,null,null,null,"",{"$f":"IF( ISBLANK(A1217),\"\",IF(ISBLANK(B1217),\"\",VLOOKUP(B1217,Teams!A$2:B$95,2,0)))","v":""},{"$f":"IF(ISBLANK(A1217),\"\",VLOOKUP(A1217,Etappe!A$2:B$13,2,FALSE))","v":""}]
[null,null,null,null,"",{"$f":"IF( ISBLANK(A1218),\"\",IF(ISBLANK(B1218),\"\",VLOOKUP(B1218,Teams!A$2:B$95,2,0)))","v":""},{"$f":"IF(ISBLANK(A1218),\"\",VLOOKUP(A1218,Etappe!A$2:B$13,2,FALSE))","v":""}]
[null,null,null,null,{"$f":"IF(ISBLANK(A1219),\"\",IF(C1219=\"v\",0.9*D1219,D1219))","v":""},{"$f":"IF( ISBLANK(A1219),\"\",IF(ISBLANK(B1219),\"\",VLOOKUP(B1219,Teams!A$2:B$95,2,0)))","v":""},{"$f":"IF(ISBLANK(A1219),\"\",VLOOKUP(A1219,Etappe!A$2:B$13,2,FALSE))","v":""}]
[null,null,null,null,"",{"$f":"IF( ISBLANK(A1220),\"\",IF(ISBLANK(B1220),\"\",VLOOKUP(B1220,Teams!A$2:B$95,2,0)))","v":""},{"$f":"IF(ISBLANK(A1220),\"\",VLOOKUP(A1220,Etappe!A$2:B$13,2,FALSE))","v":""}]
[null,null,null,null,"",{"$f":"IF( ISBLANK(A1221),\"\",IF(ISBLANK(B1221),\"\",VLOOKUP(B1221,Teams!A$2:B$95,2,0)))","v":""},{"$f":"IF(ISBLANK(A1221),\"\",VLOOKUP(A1221,Etappe!A$2:B$13,2,FALSE))","v":""}]
[null,null,null,null,"",{"$f":"IF( ISBLANK(A1222),\"\",IF(ISBLANK(B1222),\"\",VLOOKUP(B1222,Teams!A$2:B$95,2,0)))","v":""},{"$f":"IF(ISBLANK(A1222),\"\",VLOOKUP(A1222,Etappe!A$2:B$13,2,FALSE))","v":""}]
[null,null,null,null,"",{"$f":"IF( ISBLANK(A1223),\"\",IF(ISBLANK(B1223),\"\",VLOOKUP(B1223,Teams!A$2:B$95,2,0)))","v":""},{"$f":"IF(ISBLANK(A1223),\"\",VLOOKUP(A1223,Etappe!A$2:B$13,2,FALSE))","v":""}]
[null,null,null,null,"",{"$f":"IF( ISBLANK(A1224),\"\",IF(ISBLANK(B1224),\"\",VLOOKUP(B1224,Teams!A$2:B$95,2,0)))","v":""},{"$f":"IF(ISBLANK(A1224),\"\",VLOOKUP(A1224,Etappe!A$2:B$13,2,FALSE))","v":""}]
[null,null,null,null,"",{"$f":"IF( ISBLANK(A1225),\"\",IF(ISBLANK(B1225),\"\",VLOOKUP(B1225,Teams!A$2:B$95,2,0)))","v":""},{"$f":"IF(ISBLANK(A1225),\"\",VLOOKUP(A1225,Etappe!A$2:B$13,2,FALSE))","v":""}]
[null,null,null,null,"",{"$f":"IF( ISBLANK(A1226),\"\",IF(ISBLANK(B1226),\"\",VLOOKUP(B1226,Teams!A$2:B$95,2,0)))","v":""},{"$f":"IF(ISBLANK(A1226),\"\",VLOOKUP(A1226,Etappe!A$2:B$13,2,FALSE))","v":""}]
[null,null,null,null,"",{"$f":"IF( ISBLANK(A1227),\"\",IF(ISBLANK(B1227),\"\",VLOOKUP(B1227,Teams!A$2:B$95,2,0)))","v":""},{"$f":"IF(ISBLANK(A1227),\"\",VLOOKUP(A1227,Etappe!A$2:B$13,2,FALSE))","v":""}]
[null,null,null,null,"",{"$f":"IF( ISBLANK(A1228),\"\",IF(ISBLANK(B1228),\"\",VLOOKUP(B1228,Teams!A$2:B$95,2,0)))","v":""},{"$f":"IF(ISBLANK(A1228),\"\",VLOOKUP(A1228,Etappe!A$2:B$13,2,FALSE))","v":""}]
[null,null,null,null,"",{"$f":"IF( ISBLANK(A1229),\"\",IF(ISBLANK(B1229),\"\",VLOOKUP(B1229,Teams!A$2:B$95,2,0)))","v":""},{"$f":"IF(ISBLANK(A1229),\"\",VLOOKUP(A1229,Etappe!A$2:B$13,2,FALSE))","v":""}]
[null,null,null,null,"",{"$f":"IF( ISBLANK(A1230),\"\",IF(ISBLANK(B1230),\"\",VLOOKUP(B1230,Teams!A$2:B$95,2,0)))","v":""},{"$f":"IF(ISBLANK(A1230),\"\",VLOOKUP(A1230,Etappe!A$2:B$13,2,FALSE))","v":""}]
[null,null,null,null,"",{"$f":"IF( ISBLANK(A1231),\"\",IF(ISBLANK(B1231),\"\",VLOOKUP(B1231,Teams!A$2:B$95,2,0)))","v":""},{"$f":"IF(ISBLANK(A1231),\"\",VLOOKUP(A1231,Etappe!A$2:B$13,2,FALSE))","v":""}]
[null,null,null,null,"",{"$f":"IF( ISBLANK(A1232),\"\",IF(ISBLANK(B1232),\"\",VLOOKUP(B1232,Teams!A$2:B$95,2,0)))","v":""},{"$f":"IF(ISBLANK(A1232),\"\",VLOOKUP(A1232,Etappe!A$2:B$13,2,FALSE))","v":""}]
[null,null,null,null,"",{"$f":"IF( ISBLANK(A1233),\"\",IF(ISBLANK(B1233),\"\",VLOOKUP(B1233,Teams!A$2:B$95,2,0)))","v":""},{"$f":"IF(ISBLANK(A1233),\"\",VLOOKUP(A1233,Etappe!A$2:B$13,2,FALSE))","v":""}]
[null,null,null,null,"",{"$f":"IF( ISBLANK(A1234),\"\",IF(ISBLANK(B1234),\"\",VLOOKUP(B1234,Teams!A$2:B$95,2,0)))","v":""},{"$f":"IF(ISBLANK(A1234),\"\",VLOOKUP(A1234,Etappe!A$2:B$13,2,FALSE))","v":""}]
[null,null,null,null,"",{"$f":"IF( ISBLANK(A1235),\"\",IF(ISBLANK(B1235),\"\",VLOOKUP(B1235,Teams!A$2:B$95,2,0)))","v":""},{"$f":"IF(ISBLANK(A1235),\"\",VLOOKUP(A1235,Etappe!A$2:B$13,2,FALSE))","v":""}]
[null,null,null,null,"",{"$f":"IF( ISBLANK(A1236),\"\",IF(ISBLANK(B1236),\"\",VLOOKUP(B1236,Teams!A$2:B$95,2,0)))","v":""},{"$f":"IF(ISBLANK(A1236),\"\",VLOOKUP(A1236,Etappe!A$2:B$13,2,FALSE))","v":""}]
[null,null,null,null,"",{"$f":"IF( ISBLANK(A1237),\"\",IF(ISBLANK(B1237),\"\",VLOOKUP(B1237,Teams!A$2:B$95,2,0)))","v":""},{"$f":"IF(ISBLANK(A1237),\"\",VLOOKUP(A1237,Etappe!A$2:B$13,2,FALSE))","v":""}]
[null,null,null,null,"",{"$f":"IF( ISBLANK(A1238),\"\",IF(ISBLANK(B1238),\"\",VLOOKUP(B1238,Teams!A$2:B$95,2,0)))","v":""},{"$f":"IF(ISBLANK(A1238),\"\",VLOOKUP(A1238,Etappe!A$2:B$13,2,FALSE))","v":""}]
[null,null,null,null,"",{"$f":"IF( ISBLANK(A1239),\"\",IF(ISBLANK(B1239),\"\",VLOOKUP(B1239,Teams!A$2:B$95,2,0)))","v":""},{"$f":"IF(ISBLANK(A1239),\"\",VLOOKUP(A1239,Etappe!A$2:B$13,2,FALSE))","v":""}]
[null,null,null,null,"",{"$f":"IF( ISBLANK(A1240),\"\",IF(ISBLANK(B1240),\"\",VLOOKUP(B1240,Teams!A$2:B$95,2,0)))","v":""},{"$f":"IF(ISBLANK(A1240),\"\",VLOOKUP(A1240,Etappe!A$2:B$13,2,FALSE))","v":""}]
[null,null,null,null,"",{"$f":"IF( ISBLANK(A1241),\"\",IF(ISBLANK(B1241),\"\",VLOOKUP(B1241,Teams!A$2:B$95,2,0)))","v":""},{"$f":"IF(ISBLANK(A1241),\"\",VLOOKUP(A1241,Etappe!A$2:B$13,2,FALSE))","v":""}]
[null,null,null,null,"",{"$f":"IF( ISBLANK(A1242),\"\",IF(ISBLANK(B1242),\"\",VLOOKUP(B1242,Teams!A$2:B$95,2,0)))","v":""},{"$f":"IF(ISBLANK(A1242),\"\",VLOOKUP(A1242,Etappe!A$2:B$13,2,FALSE))","v":""}]
[null,null,null,null,"",{"$f":"IF( ISBLANK(A1243),\"\",IF(ISBLANK(B1243),\"\",VLOOKUP(B1243,Teams!A$2:B$95,2,0)))","v":""},{"$f":"IF(ISBLANK(A1243),\"\",VLOOKUP(A1243,Etappe!A$2:B$13,2,FALSE))","v":""}]
[null,null,null,null,"",{"$f":"IF( ISBLANK(A1244),\"\",IF(ISBLANK(B1244),\"\",VLOOKUP(B1244,Teams!A$2:B$95,2,0)))","v":""},{"$f":"IF(ISBLANK(A1244),\"\",VLOOKUP(A1244,Etappe!A$2:B$13,2,FALSE))","v":""}]
[null,null,null,null,"",{"$f":"IF( ISBLANK(A1245),\"\",IF(ISBLANK(B1245),\"\",VLOOKUP(B1245,Teams!A$2:B$95,2,0)))","v":""},{"$f":"IF(ISBLANK(A1245),\"\",VLOOKUP(A1245,Etappe!A$2:B$13,2,FALSE))","v":""}]
[null,null,null,null,"",{"$f":"IF( ISBLANK(A1246),\"\",IF(ISBLANK(B1246),\"\",VLOOKUP(B1246,Teams!A$2:B$95,2,0)))","v":""},{"$f":"IF(ISBLANK(A1246),\"\",VLOOKUP(A1246,Etappe!A$2:B$13,2,FALSE))","v":""}]
[null,null,null,null,"",{"$f":"IF( ISBLANK(A1247),\"\",IF(ISBLANK(B1247),\"\",VLOOKUP(B1247,Teams!A$2:B$95,2,0)))","v":""},{"$f":"IF(ISBLANK(A1247),\"\",VLOOKUP(A1247,Etappe!A$2:B$13,2,FALSE))","v":""}]
[null,null,null,null,"",{"$f":"IF( ISBLANK(A1248),\"\",IF(ISBLANK(B1248),\"\",VLOOKUP(B1248,Teams!A$2:B$95,2,0)))","v":""},{"$f":"IF(ISBLANK(A1248),\"\",VLOOKUP(A1248,Etappe!A$2:B$13,2,FALSE))","v":""}]
[null,null,null,null,"",{"$f":"IF( ISBLANK(A1249),\"\",IF(ISBLANK(B1249),\"\",VLOOKUP(B1249,Teams!A$2:B$95,2,0)))","v":""},{"$f":"IF(ISBLANK(A1249),\"\",VLOOKUP(A1249,Etappe!A$2:B$13,2,FALSE))","v":""}]
[null,null,null,null,"",{"$f":"IF( ISBLANK(A1250),\"\",IF(ISBLANK(B1250),\"\",VLOOKUP(B1250,Teams!A$2:B$95,2,0)))","v":""},{"$f":"IF(ISBLANK(A1250),\"\",VLOOKUP(A1250,Etappe!A$2:B$13,2,FALSE))","v":""}]
[null,null,null,null,"",{"$f":"IF( ISBLANK(A1251),\"\",IF(ISBLANK(B1251),\"\",VLOOKUP(B1251,Teams!A$2:B$95,2,0)))","v":""},{"$f":"IF(ISBLANK(A1251),\"\",VLOOKUP(A1251,Etappe!A$2:B$13,2,FALSE))","v":""}]
[null,null,null,null,"",{"$f":"IF( ISBLANK(A1252),\"\",IF(ISBLANK(B1252),\"\",VLOOKUP(B1252,Teams!A$2:B$95,2,0)))","v":""},{"$f":"IF(ISBLANK(A1252),\"\",VLOOKUP(A1252,Etappe!A$2:B$13,2,FALSE))","v":""}]
[null,null,null,null,"",{"$f":"IF( ISBLANK(A1253),\"\",IF(ISBLANK(B1253),\"\",VLOOKUP(B1253,Teams!A$2:B$95,2,0)))","v":""},{"$f":"IF(ISBLANK(A1253),\"\",VLOOKUP(A1253,Etappe!A$2:B$13,2,FALSE))","v":""}]
[null,null,null,null,"",{"$f":"IF( ISBLANK(A1254),\"\",IF(ISBLANK(B1254),\"\",VLOOKUP(B1254,Teams!A$2:B$95,2,0)))","v":""},{"$f":"IF(ISBLANK(A1254),\"\",VLOOKUP(A1254,Etappe!A$2:B$13,2,FALSE))","v":""}]
[null,null,null,null,"",{"$f":"IF( ISBLANK(A1255),\"\",IF(ISBLANK(B1255),\"\",VLOOKUP(B1255,Teams!A$2:B$95,2,0)))","v":""},{"$f":"IF(ISBLANK(A1255),\"\",VLOOKUP(A1255,Etappe!A$2:B$13,2,FALSE))","v":""}]
[null,null,null,null,"",{"$f":"IF( ISBLANK(A1256),\"\",IF(ISBLANK(B1256),\"\",VLOOKUP(B1256,Teams!A$2:B$95,2,0)))","v":""},{"$f":"IF(ISBLANK(A1256),\"\",VLOOKUP(A1256,Etappe!A$2:B$13,2,FALSE))","v":""}]
[null,null,null,null,"",{"$f":"IF( ISBLANK(A1257),\"\",IF(ISBLANK(B1257),\"\",VLOOKUP(B1257,Teams!A$2:B$95,2,0)))","v":""},{"$f":"IF(ISBLANK(A1257),\"\",VLOOKUP(A1257,Etappe!A$2:B$13,2,FALSE))","v":""}]
[null,null,null,null,"",{"$f":"IF( ISBLANK(A1258),\"\",IF(ISBLANK(B1258),\"\",VLOOKUP(B1258,Teams!A$2:B$95,2,0)))","v":""},{"$f":"IF(ISBLANK(A1258),\"\",VLOOKUP(A1258,Etappe!A$2:B$13,2,FALSE))","v":""}]
[null,null,null,null,"",{"$f":"IF( ISBLANK(A1259),\"\",IF(ISBLANK(B1259),\"\",VLOOKUP(B1259,Teams!A$2:B$95,2,0)))","v":""},{"$f":"IF(ISBLANK(A1259),\"\",VLOOKUP(A1259,Etappe!A$2:B$13,2,FALSE))","v":""}]
[null,null,null,null,"",{"$f":"IF( ISBLANK(A1260),\"\",IF(ISBLANK(B1260),\"\",VLOOKUP(B1260,Teams!A$2:B$95,2,0)))","v":""},{"$f":"IF(ISBLANK(A1260),\"\",VLOOKUP(A1260,Etappe!A$2:B$13,2,FALSE))","v":""}]
[null,null,null,null,"",{"$f":"IF( ISBLANK(A1261),\"\",IF(ISBLANK(B1261),\"\",VLOOKUP(B1261,Teams!A$2:B$95,2,0)))","v":""},{"$f":"IF(ISBLANK(A1261),\"\",VLOOKUP(A1261,Etappe!A$2:B$13,2,FALSE))","v":""}]
[null,null,null,null,"",{"$f":"IF( ISBLANK(A1262),\"\",IF(ISBLANK(B1262),\"\",VLOOKUP(B1262,Teams!A$2:B$95,2,0)))","v":""},{"$f":"IF(ISBLANK(A1262),\"\",VLOOKUP(A1262,Etappe!A$2:B$13,2,FALSE))","v":""}]
[null,null,null,null,"",{"$f":"IF( ISBLANK(A1263),\"\",IF(ISBLANK(B1263),\"\",VLOOKUP(B1263,Teams!A$2:B$95,2,0)))","v":""},{"$f":"IF(ISBLANK(A1263),\"\",VLOOKUP(A1263,Etappe!A$2:B$13,2,FALSE))","v":""}]
[null,null,null,null,"",{"$f":"IF( ISBLANK(A1264),\"\",IF(ISBLANK(B1264),\"\",VLOOKUP(B1264,Teams!A$2:B$95,2,0)))","v":""},{"$f":"IF(ISBLANK(A1264),\"\",VLOOKUP(A1264,Etappe!A$2:B$13,2,FALSE))","v":""}]
[null,null,null,null,"",{"$f":"IF( ISBLANK(A1265),\"\",IF(ISBLANK(B1265),\"\",VLOOKUP(B1265,Teams!A$2:B$95,2,0)))","v":""},{"$f":"IF(ISBLANK(A1265),\"\",VLOOKUP(A1265,Etappe!A$2:B$13,2,FALSE))","v":""}]
[null,null,null,null,"",{"$f":"IF( ISBLANK(A1266),\"\",IF(ISBLANK(B1266),\"\",VLOOKUP(B1266,Teams!A$2:B$95,2,0)))","v":""},{"$f":"IF(ISBLANK(A1266),\"\",VLOOKUP(A1266,Etappe!A$2:B$13,2,FALSE))","v":""}]
[null,null,null,null,"",{"$f":"IF( ISBLANK(A1267),\"\",IF(ISBLANK(B1267),\"\",VLOOKUP(B1267,Teams!A$2:B$95,2,0)))","v":""},{"$f":"IF(ISBLANK(A1267),\"\",VLOOKUP(A1267,Etappe!A$2:B$13,2,FALSE))","v":""}]
[null,null,null,null,"",{"$f":"IF( ISBLANK(A1268),\"\",IF(ISBLANK(B1268),\"\",VLOOKUP(B1268,Teams!A$2:B$95,2,0)))","v":""},{"$f":"IF(ISBLANK(A1268),\"\",VLOOKUP(A1268,Etappe!A$2:B$13,2,FALSE))","v":""}]
[null,null,null,null,"",{"$f":"IF( ISBLANK(A1269),\"\",IF(ISBLANK(B1269),\"\",VLOOKUP(B1269,Teams!A$2:B$95,2,0)))","v":""},{"$f":"IF(ISBLANK(A1269),\"\",VLOOKUP(A1269,Etappe!A$2:B$13,2,FALSE))","v":""}]
[null,null,null,null,"",{"$f":"IF( ISBLANK(A1270),\"\",IF(ISBLANK(B1270),\"\",VLOOKUP(B1270,Teams!A$2:B$95,2,0)))","v":""},{"$f":"IF(ISBLANK(A1270),\"\",VLOOKUP(A1270,Etappe!A$2:B$13,2,FALSE))","v":""}]
[null,null,null,null,"",{"$f":"IF( ISBLANK(A1271),\"\",IF(ISBLANK(B1271),\"\",VLOOKUP(B1271,Teams!A$2:B$95,2,0)))","v":""},{"$f":"IF(ISBLANK(A1271),\"\",VLOOKUP(A1271,Etappe!A$2:B$13,2,FALSE))","v":""}]
[null,null,null,null,"",{"$f":"IF( ISBLANK(A1272),\"\",IF(ISBLANK(B1272),\"\",VLOOKUP(B1272,Teams!A$2:B$95,2,0)))","v":""},{"$f":"IF(ISBLANK(A1272),\"\",VLOOKUP(A1272,Etappe!A$2:B$13,2,FALSE))","v":""}]
[null,null,null,null,"",{"$f":"IF( ISBLANK(A1273),\"\",IF(ISBLANK(B1273),\"\",VLOOKUP(B1273,Teams!A$2:B$95,2,0)))","v":""},{"$f":"IF(ISBLANK(A1273),\"\",VLOOKUP(A1273,Etappe!A$2:B$13,2,FALSE))","v":""}]
[null,null,null,null,"",{"$f":"IF( ISBLANK(A1274),\"\",IF(ISBLANK(B1274),\"\",VLOOKUP(B1274,Teams!A$2:B$95,2,0)))","v":""},{"$f":"IF(ISBLANK(A1274),\"\",VLOOKUP(A1274,Etappe!A$2:B$13,2,FALSE))","v":""}]
[null,null,null,null,"",{"$f":"IF( ISBLANK(A1275),\"\",IF(ISBLANK(B1275),\"\",VLOOKUP(B1275,Teams!A$2:B$95,2,0)))","v":""},{"$f":"IF(ISBLANK(A1275),\"\",VLOOKUP(A1275,Etappe!A$2:B$13,2,FALSE))","v":""}]
[null,null,null,null,"",{"$f":"IF( ISBLANK(A1276),\"\",IF(ISBLANK(B1276),\"\",VLOOKUP(B1276,Teams!A$2:B$95,2,0)))","v":""},{"$f":"IF(ISBLANK(A1276),\"\",VLOOKUP(A1276,Etappe!A$2:B$13,2,FALSE))","v":""}]
[null,null,null,null,"",{"$f":"IF( ISBLANK(A1277),\"\",IF(ISBLANK(B1277),\"\",VLOOKUP(B1277,Teams!A$2:B$95,2,0)))","v":""},{"$f":"IF(ISBLANK(A1277),\"\",VLOOKUP(A1277,Etappe!A$2:B$13,2,FALSE))","v":""}]
[null,null,null,null,"",{"$f":"IF( ISBLANK(A1278),\"\",IF(ISBLANK(B1278),\"\",VLOOKUP(B1278,Teams!A$2:B$95,2,0)))","v":""},{"$f":"IF(ISBLANK(A1278),\"\",VLOOKUP(A1278,Etappe!A$2:B$13,2,FALSE))","v":""}]
[null,null,null,null,"",{"$f":"IF( ISBLANK(A1279),\"\",IF(ISBLANK(B1279),\"\",VLOOKUP(B1279,Teams!A$2:B$95,2,0)))","v":""},{"$f":"IF(ISBLANK(A1279),\"\",VLOOKUP(A1279,Etappe!A$2:B$13,2,FALSE))","v":""}]
[null,null,null,null,"",{"$f":"IF( ISBLANK(A1280),\"\",IF(ISBLANK(B1280),\"\",VLOOKUP(B1280,Teams!A$2:B$95,2,0)))","v":""},{"$f":"IF(ISBLANK(A1280),\"\",VLOOKUP(A1280,Etappe!A$2:B$13,2,FALSE))","v":""}]
[null,null,null,null,"",{"$f":"IF( ISBLANK(A1281),\"\",IF(ISBLANK(B1281),\"\",VLOOKUP(B1281,Teams!A$2:B$95,2,0)))","v":""},{"$f":"IF(ISBLANK(A1281),\"\",VLOOKUP(A1281,Etappe!A$2:B$13,2,FALSE))","v":""}]
[null,null,null,null,"",{"$f":"IF( ISBLANK(A1282),\"\",IF(ISBLANK(B1282),\"\",VLOOKUP(B1282,Teams!A$2:B$95,2,0)))","v":""},{"$f":"IF(ISBLANK(A1282),\"\",VLOOKUP(A1282,Etappe!A$2:B$13,2,FALSE))","v":""}]
[null,null,null,null,{"$f":"IF(ISBLANK(A1283),\"\",IF(C1283=\"v\",0.9*D1283,D1283))","v":""},{"$f":"IF( ISBLANK(A1283),\"\",IF(ISBLANK(B1283),\"\",VLOOKUP(B1283,Teams!A$2:B$95,2,0)))","v":""},{"$f":"IF(ISBLANK(A1283),\"\",VLOOKUP(A1283,Etappe!A$2:B$13,2,FALSE))","v":""}]
[null,null,null,null,"",{"$f":"IF( ISBLANK(A1284),\"\",IF(ISBLANK(B1284),\"\",VLOOKUP(B1284,Teams!A$2:B$95,2,0)))","v":""},{"$f":"IF(ISBLANK(A1284),\"\",VLOOKUP(A1284,Etappe!A$2:B$13,2,FALSE))","v":""}]
[null,null,null,null,"",{"$f":"IF( ISBLANK(A1285),\"\",IF(ISBLANK(B1285),\"\",VLOOKUP(B1285,Teams!A$2:B$95,2,0)))","v":""},{"$f":"IF(ISBLANK(A1285),\"\",VLOOKUP(A1285,Etappe!A$2:B$13,2,FALSE))","v":""}]
[null,null,null,null,"",{"$f":"IF( ISBLANK(A1286),\"\",IF(ISBLANK(B1286),\"\",VLOOKUP(B1286,Teams!A$2:B$95,2,0)))","v":""},{"$f":"IF(ISBLANK(A1286),\"\",VLOOKUP(A1286,Etappe!A$2:B$13,2,FALSE))","v":""}]
[null,null,null,null,"",{"$f":"IF( ISBLANK(A1287),\"\",IF(ISBLANK(B1287),\"\",VLOOKUP(B1287,Teams!A$2:B$95,2,0)))","v":""},{"$f":"IF(ISBLANK(A1287),\"\",VLOOKUP(A1287,Etappe!A$2:B$13,2,FALSE))","v":""}]
[null,null,null,null,"",{"$f":"IF( ISBLANK(A1288),\"\",IF(ISBLANK(B1288),\"\",VLOOKUP(B1288,Teams!A$2:B$95,2,0)))","v":""},{"$f":"IF(ISBLANK(A1288),\"\",VLOOKUP(A1288,Etappe!A$2:B$13,2,FALSE))","v":""}]
[null,null,null,null,"",{"$f":"IF( ISBLANK(A1289),\"\",IF(ISBLANK(B1289),\"\",VLOOKUP(B1289,Teams!A$2:B$95,2,0)))","v":""},{"$f":"IF(ISBLANK(A1289),\"\",VLOOKUP(A1289,Etappe!A$2:B$13,2,FALSE))","v":""}]
[null,null,null,null,"",{"$f":"IF( ISBLANK(A1290),\"\",IF(ISBLANK(B1290),\"\",VLOOKUP(B1290,Teams!A$2:B$95,2,0)))","v":""},{"$f":"IF(ISBLANK(A1290),\"\",VLOOKUP(A1290,Etappe!A$2:B$13,2,FALSE))","v":""}]
[null,null,null,null,"",{"$f":"IF( ISBLANK(A1291),\"\",IF(ISBLANK(B1291),\"\",VLOOKUP(B1291,Teams!A$2:B$95,2,0)))","v":""},{"$f":"IF(ISBLANK(A1291),\"\",VLOOKUP(A1291,Etappe!A$2:B$13,2,FALSE))","v":""}]
[null,null,null,null,"",{"$f":"IF( ISBLANK(A1292),\"\",IF(ISBLANK(B1292),\"\",VLOOKUP(B1292,Teams!A$2:B$95,2,0)))","v":""},{"$f":"IF(ISBLANK(A1292),\"\",VLOOKUP(A1292,Etappe!A$2:B$13,2,FALSE))","v":""}]
[null,null,null,null,"",{"$f":"IF( ISBLANK(A1293),\"\",IF(ISBLANK(B1293),\"\",VLOOKUP(B1293,Teams!A$2:B$95,2,0)))","v":""},{"$f":"IF(ISBLANK(A1293),\"\",VLOOKUP(A1293,Etappe!A$2:B$13,2,FALSE))","v":""}]
[null,null,null,null,"",{"$f":"IF( ISBLANK(A1294),\"\",IF(ISBLANK(B1294),\"\",VLOOKUP(B1294,Teams!A$2:B$95,2,0)))","v":""},{"$f":"IF(ISBLANK(A1294),\"\",VLOOKUP(A1294,Etappe!A$2:B$13,2,FALSE))","v":""}]
[null,null,null,null,"",{"$f":"IF( ISBLANK(A1295),\"\",IF(ISBLANK(B1295),\"\",VLOOKUP(B1295,Teams!A$2:B$95,2,0)))","v":""},{"$f":"IF(ISBLANK(A1295),\"\",VLOOKUP(A1295,Etappe!A$2:B$13,2,FALSE))","v":""}]
[null,null,null,null,"",{"$f":"IF( ISBLANK(A1296),\"\",IF(ISBLANK(B1296),\"\",VLOOKUP(B1296,Teams!A$2:B$95,2,0)))","v":""},{"$f":"IF(ISBLANK(A1296),\"\",VLOOKUP(A1296,Etappe!A$2:B$13,2,FALSE))","v":""}]
[null,null,null,null,"",{"$f":"IF( ISBLANK(A1297),\"\",IF(ISBLANK(B1297),\"\",VLOOKUP(B1297,Teams!A$2:B$95,2,0)))","v":""},{"$f":"IF(ISBLANK(A1297),\"\",VLOOKUP(A1297,Etappe!A$2:B$13,2,FALSE))","v":""}]
[null,null,null,null,"",{"$f":"IF( ISBLANK(A1298),\"\",IF(ISBLANK(B1298),\"\",VLOOKUP(B1298,Teams!A$2:B$95,2,0)))","v":""},{"$f":"IF(ISBLANK(A1298),\"\",VLOOKUP(A1298,Etappe!A$2:B$13,2,FALSE))","v":""}]
[null,null,null,null,"",{"$f":"IF( ISBLANK(A1299),\"\",IF(ISBLANK(B1299),\"\",VLOOKUP(B1299,Teams!A$2:B$95,2,0)))","v":""},{"$f":"IF(ISBLANK(A1299),\"\",VLOOKUP(A1299,Etappe!A$2:B$13,2,FALSE))","v":""}]
[null,null,null,null,"",{"$f":"IF( ISBLANK(A1300),\"\",IF(ISBLANK(B1300),\"\",VLOOKUP(B1300,Teams!A$2:B$95,2,0)))","v":""},{"$f":"IF(ISBLANK(A1300),\"\",VLOOKUP(A1300,Etappe!A$2:B$13,2,FALSE))","v":""}]
[null,null,null,null,"",{"$f":"IF( ISBLANK(A1301),\"\",IF(ISBLANK(B1301),\"\",VLOOKUP(B1301,Teams!A$2:B$95,2,0)))","v":""},{"$f":"IF(ISBLANK(A1301),\"\",VLOOKUP(A1301,Etappe!A$2:B$13,2,FALSE))","v":""}]
[null,null,null,null,"",{"$f":"IF( ISBLANK(A1302),\"\",IF(ISBLANK(B1302),\"\",VLOOKUP(B1302,Teams!A$2:B$95,2,0)))","v":""},{"$f":"IF(ISBLANK(A1302),\"\",VLOOKUP(A1302,Etappe!A$2:B$13,2,FALSE))","v":""}]
[null,null,null,null,"",{"$f":"IF( ISBLANK(A1303),\"\",IF(ISBLANK(B1303),\"\",VLOOKUP(B1303,Teams!A$2:B$95,2,0)))","v":""},{"$f":"IF(ISBLANK(A1303),\"\",VLOOKUP(A1303,Etappe!A$2:B$13,2,FALSE))","v":""}]
[null,null,null,null,"",{"$f":"IF( ISBLANK(A1304),\"\",IF(ISBLANK(B1304),\"\",VLOOKUP(B1304,Teams!A$2:B$95,2,0)))","v":""},{"$f":"IF(ISBLANK(A1304),\"\",VLOOKUP(A1304,Etappe!A$2:B$13,2,FALSE))","v":""}]
[null,null,null,null,"",{"$f":"IF( ISBLANK(A1305),\"\",IF(ISBLANK(B1305),\"\",VLOOKUP(B1305,Teams!A$2:B$95,2,0)))","v":""},{"$f":"IF(ISBLANK(A1305),\"\",VLOOKUP(A1305,Etappe!A$2:B$13,2,FALSE))","v":""}]
[null,null,null,null,"",{"$f":"IF( ISBLANK(A1306),\"\",IF(ISBLANK(B1306),\"\",VLOOKUP(B1306,Teams!A$2:B$95,2,0)))","v":""},{"$f":"IF(ISBLANK(A1306),\"\",VLOOKUP(A1306,Etappe!A$2:B$13,2,FALSE))","v":""}]
[null,null,null,null,"",{"$f":"IF( ISBLANK(A1307),\"\",IF(ISBLANK(B1307),\"\",VLOOKUP(B1307,Teams!A$2:B$95,2,0)))","v":""},{"$f":"IF(ISBLANK(A1307),\"\",VLOOKUP(A1307,Etappe!A$2:B$13,2,FALSE))","v":""}]
[null,null,null,null,"",{"$f":"IF( ISBLANK(A1308),\"\",IF(ISBLANK(B1308),\"\",VLOOKUP(B1308,Teams!A$2:B$95,2,0)))","v":""},{"$f":"IF(ISBLANK(A1308),\"\",VLOOKUP(A1308,Etappe!A$2:B$13,2,FALSE))","v":""}]
[null,null,null,null,"",{"$f":"IF( ISBLANK(A1309),\"\",IF(ISBLANK(B1309),\"\",VLOOKUP(B1309,Teams!A$2:B$95,2,0)))","v":""},{"$f":"IF(ISBLANK(A1309),\"\",VLOOKUP(A1309,Etappe!A$2:B$13,2,FALSE))","v":""}]
[null,null,null,null,"",{"$f":"IF( ISBLANK(A1310),\"\",IF(ISBLANK(B1310),\"\",VLOOKUP(B1310,Teams!A$2:B$95,2,0)))","v":""},{"$f":"IF(ISBLANK(A1310),\"\",VLOOKUP(A1310,Etappe!A$2:B$13,2,FALSE))","v":""}]
[null,null,null,null,"",{"$f":"IF( ISBLANK(A1311),\"\",IF(ISBLANK(B1311),\"\",VLOOKUP(B1311,Teams!A$2:B$95,2,0)))","v":""},{"$f":"IF(ISBLANK(A1311),\"\",VLOOKUP(A1311,Etappe!A$2:B$13,2,FALSE))","v":""}]
[null,null,null,null,"",{"$f":"IF( ISBLANK(A1312),\"\",IF(ISBLANK(B1312),\"\",VLOOKUP(B1312,Teams!A$2:B$95,2,0)))","v":""},{"$f":"IF(ISBLANK(A1312),\"\",VLOOKUP(A1312,Etappe!A$2:B$13,2,FALSE))","v":""}]
[null,null,null,null,"",{"$f":"IF( ISBLANK(A1313),\"\",IF(ISBLANK(B1313),\"\",VLOOKUP(B1313,Teams!A$2:B$95,2,0)))","v":""},{"$f":"IF(ISBLANK(A1313),\"\",VLOOKUP(A1313,Etappe!A$2:B$13,2,FALSE))","v":""}]
[null,null,null,null,"",{"$f":"IF( ISBLANK(A1314),\"\",IF(ISBLANK(B1314),\"\",VLOOKUP(B1314,Teams!A$2:B$95,2,0)))","v":""},{"$f":"IF(ISBLANK(A1314),\"\",VLOOKUP(A1314,Etappe!A$2:B$13,2,FALSE))","v":""}]
[null,null,null,null,"",{"$f":"IF( ISBLANK(A1315),\"\",IF(ISBLANK(B1315),\"\",VLOOKUP(B1315,Teams!A$2:B$95,2,0)))","v":""},{"$f":"IF(ISBLANK(A1315),\"\",VLOOKUP(A1315,Etappe!A$2:B$13,2,FALSE))","v":""}]
[null,null,null,null,"",{"$f":"IF( ISBLANK(A1316),\"\",IF(ISBLANK(B1316),\"\",VLOOKUP(B1316,Teams!A$2:B$95,2,0)))","v":""},{"$f":"IF(ISBLANK(A1316),\"\",VLOOKUP(A1316,Etappe!A$2:B$13,2,FALSE))","v":""}]
[null,null,null,null,"",{"$f":"IF( ISBLANK(A1317),\"\",IF(ISBLANK(B1317),\"\",VLOOKUP(B1317,Teams!A$2:B$95,2,0)))","v":""},{"$f":"IF(ISBLANK(A1317),\"\",VLOOKUP(A1317,Etappe!A$2:B$13,2,FALSE))","v":""}]
[null,null,null,null,"",{"$f":"IF( ISBLANK(A1318),\"\",IF(ISBLANK(B1318),\"\",VLOOKUP(B1318,Teams!A$2:B$95,2,0)))","v":""},{"$f":"IF(ISBLANK(A1318),\"\",VLOOKUP(A1318,Etappe!A$2:B$13,2,FALSE))","v":""}]
[null,null,null,null,"",{"$f":"IF( ISBLANK(A1319),\"\",IF(ISBLANK(B1319),\"\",VLOOKUP(B1319,Teams!A$2:B$95,2,0)))","v":""},{"$f":"IF(ISBLANK(A1319),\"\",VLOOKUP(A1319,Etappe!A$2:B$13,2,FALSE))","v":""}]
[null,null,null,null,"",{"$f":"IF( ISBLANK(A1320),\"\",IF(ISBLANK(B1320),\"\",VLOOKUP(B1320,Teams!A$2:B$95,2,0)))","v":""},{"$f":"IF(ISBLANK(A1320),\"\",VLOOKUP(A1320,Etappe!A$2:B$13,2,FALSE))","v":""}]
[null,null,null,null,"",{"$f":"IF( ISBLANK(A1321),\"\",IF(ISBLANK(B1321),\"\",VLOOKUP(B1321,Teams!A$2:B$95,2,0)))","v":""},{"$f":"IF(ISBLANK(A1321),\"\",VLOOKUP(A1321,Etappe!A$2:B$13,2,FALSE))","v":""}]
[null,null,null,null,"",{"$f":"IF( ISBLANK(A1322),\"\",IF(ISBLANK(B1322),\"\",VLOOKUP(B1322,Teams!A$2:B$95,2,0)))","v":""},{"$f":"IF(ISBLANK(A1322),\"\",VLOOKUP(A1322,Etappe!A$2:B$13,2,FALSE))","v":""}]
[null,null,null,null,"",{"$f":"IF( ISBLANK(A1323),\"\",IF(ISBLANK(B1323),\"\",VLOOKUP(B1323,Teams!A$2:B$95,2,0)))","v":""},{"$f":"IF(ISBLANK(A1323),\"\",VLOOKUP(A1323,Etappe!A$2:B$13,2,FALSE))","v":""}]
[null,null,null,null,"",{"$f":"IF( ISBLANK(A1324),\"\",IF(ISBLANK(B1324),\"\",VLOOKUP(B1324,Teams!A$2:B$95,2,0)))","v":""},{"$f":"IF(ISBLANK(A1324),\"\",VLOOKUP(A1324,Etappe!A$2:B$13,2,FALSE))","v":""}]
[null,null,null,null,"",{"$f":"IF( ISBLANK(A1325),\"\",IF(ISBLANK(B1325),\"\",VLOOKUP(B1325,Teams!A$2:B$95,2,0)))","v":""},{"$f":"IF(ISBLANK(A1325),\"\",VLOOKUP(A1325,Etappe!A$2:B$13,2,FALSE))","v":""}]
[null,null,null,null,"",{"$f":"IF( ISBLANK(A1326),\"\",IF(ISBLANK(B1326),\"\",VLOOKUP(B1326,Teams!A$2:B$95,2,0)))","v":""},{"$f":"IF(ISBLANK(A1326),\"\",VLOOKUP(A1326,Etappe!A$2:B$13,2,FALSE))","v":""}]
[null,null,null,null,"",{"$f":"IF( ISBLANK(A1327),\"\",IF(ISBLANK(B1327),\"\",VLOOKUP(B1327,Teams!A$2:B$95,2,0)))","v":""},{"$f":"IF(ISBLANK(A1327),\"\",VLOOKUP(A1327,Etappe!A$2:B$13,2,FALSE))","v":""}]
[null,null,null,null,"",{"$f":"IF( ISBLANK(A1328),\"\",IF(ISBLANK(B1328),\"\",VLOOKUP(B1328,Teams!A$2:B$95,2,0)))","v":""},{"$f":"IF(ISBLANK(A1328),\"\",VLOOKUP(A1328,Etappe!A$2:B$13,2,FALSE))","v":""}]
[null,null,null,null,"",{"$f":"IF( ISBLANK(A1329),\"\",IF(ISBLANK(B1329),\"\",VLOOKUP(B1329,Teams!A$2:B$95,2,0)))","v":""},{"$f":"IF(ISBLANK(A1329),\"\",VLOOKUP(A1329,Etappe!A$2:B$13,2,FALSE))","v":""}]
[null,null,null,null,"",{"$f":"IF( ISBLANK(A1330),\"\",IF(ISBLANK(B1330),\"\",VLOOKUP(B1330,Teams!A$2:B$95,2,0)))","v":""},{"$f":"IF(ISBLANK(A1330),\"\",VLOOKUP(A1330,Etappe!A$2:B$13,2,FALSE))","v":""}]
[null,null,null,null,"",{"$f":"IF( ISBLANK(A1331),\"\",IF(ISBLANK(B1331),\"\",VLOOKUP(B1331,Teams!A$2:B$95,2,0)))","v":""},{"$f":"IF(ISBLANK(A1331),\"\",VLOOKUP(A1331,Etappe!A$2:B$13,2,FALSE))","v":""}]
[null,null,null,null,"",{"$f":"IF( ISBLANK(A1332),\"\",IF(ISBLANK(B1332),\"\",VLOOKUP(B1332,Teams!A$2:B$95,2,0)))","v":""},{"$f":"IF(ISBLANK(A1332),\"\",VLOOKUP(A1332,Etappe!A$2:B$13,2,FALSE))","v":""}]
[null,null,null,null,"",{"$f":"IF( ISBLANK(A1333),\"\",IF(ISBLANK(B1333),\"\",VLOOKUP(B1333,Teams!A$2:B$95,2,0)))","v":""},{"$f":"IF(ISBLANK(A1333),\"\",VLOOKUP(A1333,Etappe!A$2:B$13,2,FALSE))","v":""}]
[null,null,null,null,"",{"$f":"IF( ISBLANK(A1334),\"\",IF(ISBLANK(B1334),\"\",VLOOKUP(B1334,Teams!A$2:B$95,2,0)))","v":""},{"$f":"IF(ISBLANK(A1334),\"\",VLOOKUP(A1334,Etappe!A$2:B$13,2,FALSE))","v":""}]
[null,null,null,null,"",{"$f":"IF( ISBLANK(A1335),\"\",IF(ISBLANK(B1335),\"\",VLOOKUP(B1335,Teams!A$2:B$95,2,0)))","v":""},{"$f":"IF(ISBLANK(A1335),\"\",VLOOKUP(A1335,Etappe!A$2:B$13,2,FALSE))","v":""}]
[null,null,null,null,"",{"$f":"IF( ISBLANK(A1336),\"\",IF(ISBLANK(B1336),\"\",VLOOKUP(B1336,Teams!A$2:B$95,2,0)))","v":""},{"$f":"IF(ISBLANK(A1336),\"\",VLOOKUP(A1336,Etappe!A$2:B$13,2,FALSE))","v":""}]
[null,null,null,null,"",{"$f":"IF( ISBLANK(A1337),\"\",IF(ISBLANK(B1337),\"\",VLOOKUP(B1337,Teams!A$2:B$95,2,0)))","v":""},{"$f":"IF(ISBLANK(A1337),\"\",VLOOKUP(A1337,Etappe!A$2:B$13,2,FALSE))","v":""}]
[null,null,null,null,"",{"$f":"IF( ISBLANK(A1338),\"\",IF(ISBLANK(B1338),\"\",VLOOKUP(B1338,Teams!A$2:B$95,2,0)))","v":""},{"$f":"IF(ISBLANK(A1338),\"\",VLOOKUP(A1338,Etappe!A$2:B$13,2,FALSE))","v":""}]
[null,null,null,null,"",{"$f":"IF( ISBLANK(A1339),\"\",IF(ISBLANK(B1339),\"\",VLOOKUP(B1339,Teams!A$2:B$95,2,0)))","v":""},{"$f":"IF(ISBLANK(A1339),\"\",VLOOKUP(A1339,Etappe!A$2:B$13,2,FALSE))","v":""}]
[null,null,null,null,"",{"$f":"IF( ISBLANK(A1340),\"\",IF(ISBLANK(B1340),\"\",VLOOKUP(B1340,Teams!A$2:B$95,2,0)))","v":""},{"$f":"IF(ISBLANK(A1340),\"\",VLOOKUP(A1340,Etappe!A$2:B$13,2,FALSE))","v":""}]
[null,null,null,null,"",{"$f":"IF( ISBLANK(A1341),\"\",IF(ISBLANK(B1341),\"\",VLOOKUP(B1341,Teams!A$2:B$95,2,0)))","v":""},{"$f":"IF(ISBLANK(A1341),\"\",VLOOKUP(A1341,Etappe!A$2:B$13,2,FALSE))","v":""}]
[null,null,null,null,"",{"$f":"IF( ISBLANK(A1342),\"\",IF(ISBLANK(B1342),\"\",VLOOKUP(B1342,Teams!A$2:B$95,2,0)))","v":""},{"$f":"IF(ISBLANK(A1342),\"\",VLOOKUP(A1342,Etappe!A$2:B$13,2,FALSE))","v":""}]
[null,null,null,null,"",{"$f":"IF( ISBLANK(A1343),\"\",IF(ISBLANK(B1343),\"\",VLOOKUP(B1343,Teams!A$2:B$95,2,0)))","v":""},{"$f":"IF(ISBLANK(A1343),\"\",VLOOKUP(A1343,Etappe!A$2:B$13,2,FALSE))","v":""}]
[null,null,null,null,"",{"$f":"IF( ISBLANK(A1344),\"\",IF(ISBLANK(B1344),\"\",VLOOKUP(B1344,Teams!A$2:B$95,2,0)))","v":""},{"$f":"IF(ISBLANK(A1344),\"\",VLOOKUP(A1344,Etappe!A$2:B$13,2,FALSE))","v":""}]
[null,null,null,null,"",{"$f":"IF( ISBLANK(A1345),\"\",IF(ISBLANK(B1345),\"\",VLOOKUP(B1345,Teams!A$2:B$95,2,0)))","v":""},{"$f":"IF(ISBLANK(A1345),\"\",VLOOKUP(A1345,Etappe!A$2:B$13,2,FALSE))","v":""}]
[null,null,null,null,"",{"$f":"IF( ISBLANK(A1346),\"\",IF(ISBLANK(B1346),\"\",VLOOKUP(B1346,Teams!A$2:B$95,2,0)))","v":""},{"$f":"IF(ISBLANK(A1346),\"\",VLOOKUP(A1346,Etappe!A$2:B$13,2,FALSE))","v":""}]
[null,null,null,null,{"$f":"IF(ISBLANK(A1347),\"\",IF(C1347=\"v\",0.9*D1347,D1347))","v":""},{"$f":"IF( ISBLANK(A1347),\"\",IF(ISBLANK(B1347),\"\",VLOOKUP(B1347,Teams!A$2:B$95,2,0)))","v":""},{"$f":"IF(ISBLANK(A1347),\"\",VLOOKUP(A1347,Etappe!A$2:B$13,2,FALSE))","v":""}]
[null,null,null,null,"",{"$f":"IF( ISBLANK(A1348),\"\",IF(ISBLANK(B1348),\"\",VLOOKUP(B1348,Teams!A$2:B$95,2,0)))","v":""},{"$f":"IF(ISBLANK(A1348),\"\",VLOOKUP(A1348,Etappe!A$2:B$13,2,FALSE))","v":""}]
[null,null,null,null,"",{"$f":"IF( ISBLANK(A1349),\"\",IF(ISBLANK(B1349),\"\",VLOOKUP(B1349,Teams!A$2:B$95,2,0)))","v":""},{"$f":"IF(ISBLANK(A1349),\"\",VLOOKUP(A1349,Etappe!A$2:B$13,2,FALSE))","v":""}]
[null,null,null,null,"",{"$f":"IF( ISBLANK(A1350),\"\",IF(ISBLANK(B1350),\"\",VLOOKUP(B1350,Teams!A$2:B$95,2,0)))","v":""},{"$f":"IF(ISBLANK(A1350),\"\",VLOOKUP(A1350,Etappe!A$2:B$13,2,FALSE))","v":""}]
[null,null,null,null,"",{"$f":"IF( ISBLANK(A1351),\"\",IF(ISBLANK(B1351),\"\",VLOOKUP(B1351,Teams!A$2:B$95,2,0)))","v":""},{"$f":"IF(ISBLANK(A1351),\"\",VLOOKUP(A1351,Etappe!A$2:B$13,2,FALSE))","v":""}]
[null,null,null,null,"",{"$f":"IF( ISBLANK(A1352),\"\",IF(ISBLANK(B1352),\"\",VLOOKUP(B1352,Teams!A$2:B$95,2,0)))","v":""},{"$f":"IF(ISBLANK(A1352),\"\",VLOOKUP(A1352,Etappe!A$2:B$13,2,FALSE))","v":""}]
[null,null,null,null,"",{"$f":"IF( ISBLANK(A1353),\"\",IF(ISBLANK(B1353),\"\",VLOOKUP(B1353,Teams!A$2:B$95,2,0)))","v":""},{"$f":"IF(ISBLANK(A1353),\"\",VLOOKUP(A1353,Etappe!A$2:B$13,2,FALSE))","v":""}]
[null,null,null,null,"",{"$f":"IF( ISBLANK(A1354),\"\",IF(ISBLANK(B1354),\"\",VLOOKUP(B1354,Teams!A$2:B$95,2,0)))","v":""},{"$f":"IF(ISBLANK(A1354),\"\",VLOOKUP(A1354,Etappe!A$2:B$13,2,FALSE))","v":""}]
[null,null,null,null,"",{"$f":"IF( ISBLANK(A1355),\"\",IF(ISBLANK(B1355),\"\",VLOOKUP(B1355,Teams!A$2:B$95,2,0)))","v":""},{"$f":"IF(ISBLANK(A1355),\"\",VLOOKUP(A1355,Etappe!A$2:B$13,2,FALSE))","v":""}]
[null,null,null,null,"",{"$f":"IF( ISBLANK(A1356),\"\",IF(ISBLANK(B1356),\"\",VLOOKUP(B1356,Teams!A$2:B$95,2,0)))","v":""},{"$f":"IF(ISBLANK(A1356),\"\",VLOOKUP(A1356,Etappe!A$2:B$13,2,FALSE))","v":""}]
[null,null,null,null,"",{"$f":"IF( ISBLANK(A1357),\"\",IF(ISBLANK(B1357),\"\",VLOOKUP(B1357,Teams!A$2:B$95,2,0)))","v":""},{"$f":"IF(ISBLANK(A1357),\"\",VLOOKUP(A1357,Etappe!A$2:B$13,2,FALSE))","v":""}]
[null,null,null,null,"",{"$f":"IF( ISBLANK(A1358),\"\",IF(ISBLANK(B1358),\"\",VLOOKUP(B1358,Teams!A$2:B$95,2,0)))","v":""},{"$f":"IF(ISBLANK(A1358),\"\",VLOOKUP(A1358,Etappe!A$2:B$13,2,FALSE))","v":""}]
[null,null,null,null,"",{"$f":"IF( ISBLANK(A1359),\"\",IF(ISBLANK(B1359),\"\",VLOOKUP(B1359,Teams!A$2:B$95,2,0)))","v":""},{"$f":"IF(ISBLANK(A1359),\"\",VLOOKUP(A1359,Etappe!A$2:B$13,2,FALSE))","v":""}]
[null,null,null,null,"",{"$f":"IF( ISBLANK(A1360),\"\",IF(ISBLANK(B1360),\"\",VLOOKUP(B1360,Teams!A$2:B$95,2,0)))","v":""},{"$f":"IF(ISBLANK(A1360),\"\",VLOOKUP(A1360,Etappe!A$2:B$13,2,FALSE))","v":""}]
[null,null,null,null,"",{"$f":"IF( ISBLANK(A1361),\"\",IF(ISBLANK(B1361),\"\",VLOOKUP(B1361,Teams!A$2:B$95,2,0)))","v":""},{"$f":"IF(ISBLANK(A1361),\"\",VLOOKUP(A1361,Etappe!A$2:B$13,2,FALSE))","v":""}]
[null,null,null,null,"",{"$f":"IF( ISBLANK(A1362),\"\",IF(ISBLANK(B1362),\"\",VLOOKUP(B1362,Teams!A$2:B$95,2,0)))","v":""},{"$f":"IF(ISBLANK(A1362),\"\",VLOOKUP(A1362,Etappe!A$2:B$13,2,FALSE))","v":""}]
[null,null,null,null,"",{"$f":"IF( ISBLANK(A1363),\"\",IF(ISBLANK(B1363),\"\",VLOOKUP(B1363,Teams!A$2:B$95,2,0)))","v":""},{"$f":"IF(ISBLANK(A1363),\"\",VLOOKUP(A1363,Etappe!A$2:B$13,2,FALSE))","v":""}]
[null,null,null,null,"",{"$f":"IF( ISBLANK(A1364),\"\",IF(ISBLANK(B1364),\"\",VLOOKUP(B1364,Teams!A$2:B$95,2,0)))","v":""},{"$f":"IF(ISBLANK(A1364),\"\",VLOOKUP(A1364,Etappe!A$2:B$13,2,FALSE))","v":""}]
[null,null,null,null,"",{"$f":"IF( ISBLANK(A1365),\"\",IF(ISBLANK(B1365),\"\",VLOOKUP(B1365,Teams!A$2:B$95,2,0)))","v":""},{"$f":"IF(ISBLANK(A1365),\"\",VLOOKUP(A1365,Etappe!A$2:B$13,2,FALSE))","v":""}]
[null,null,null,null,"",{"$f":"IF( ISBLANK(A1366),\"\",IF(ISBLANK(B1366),\"\",VLOOKUP(B1366,Teams!A$2:B$95,2,0)))","v":""},{"$f":"IF(ISBLANK(A1366),\"\",VLOOKUP(A1366,Etappe!A$2:B$13,2,FALSE))","v":""}]
[null,null,null,null,"",{"$f":"IF( ISBLANK(A1367),\"\",IF(ISBLANK(B1367),\"\",VLOOKUP(B1367,Teams!A$2:B$95,2,0)))","v":""},{"$f":"IF(ISBLANK(A1367),\"\",VLOOKUP(A1367,Etappe!A$2:B$13,2,FALSE))","v":""}]
[null,null,null,null,"",{"$f":"IF( ISBLANK(A1368),\"\",IF(ISBLANK(B1368),\"\",VLOOKUP(B1368,Teams!A$2:B$95,2,0)))","v":""},{"$f":"IF(ISBLANK(A1368),\"\",VLOOKUP(A1368,Etappe!A$2:B$13,2,FALSE))","v":""}]
[null,null,null,null,"",{"$f":"IF( ISBLANK(A1369),\"\",IF(ISBLANK(B1369),\"\",VLOOKUP(B1369,Teams!A$2:B$95,2,0)))","v":""},{"$f":"IF(ISBLANK(A1369),\"\",VLOOKUP(A1369,Etappe!A$2:B$13,2,FALSE))","v":""}]
[null,null,null,null,"",{"$f":"IF( ISBLANK(A1370),\"\",IF(ISBLANK(B1370),\"\",VLOOKUP(B1370,Teams!A$2:B$95,2,0)))","v":""},{"$f":"IF(ISBLANK(A1370),\"\",VLOOKUP(A1370,Etappe!A$2:B$13,2,FALSE))","v":""}]
[null,null,null,null,"",{"$f":"IF( ISBLANK(A1371),\"\",IF(ISBLANK(B1371),\"\",VLOOKUP(B1371,Teams!A$2:B$95,2,0)))","v":""},{"$f":"IF(ISBLANK(A1371),\"\",VLOOKUP(A1371,Etappe!A$2:B$13,2,FALSE))","v":""}]
[null,null,null,null,"",{"$f":"IF( ISBLANK(A1372),\"\",IF(ISBLANK(B1372),\"\",VLOOKUP(B1372,Teams!A$2:B$95,2,0)))","v":""},{"$f":"IF(ISBLANK(A1372),\"\",VLOOKUP(A1372,Etappe!A$2:B$13,2,FALSE))","v":""}]
[null,null,null,null,"",{"$f":"IF( ISBLANK(A1373),\"\",IF(ISBLANK(B1373),\"\",VLOOKUP(B1373,Teams!A$2:B$95,2,0)))","v":""},{"$f":"IF(ISBLANK(A1373),\"\",VLOOKUP(A1373,Etappe!A$2:B$13,2,FALSE))","v":""}]
[null,null,null,null,"",{"$f":"IF( ISBLANK(A1374),\"\",IF(ISBLANK(B1374),\"\",VLOOKUP(B1374,Teams!A$2:B$95,2,0)))","v":""},{"$f":"IF(ISBLANK(A1374),\"\",VLOOKUP(A1374,Etappe!A$2:B$13,2,FALSE))","v":""}]
[null,null,null,null,"",{"$f":"IF( ISBLANK(A1375),\"\",IF(ISBLANK(B1375),\"\",VLOOKUP(B1375,Teams!A$2:B$95,2,0)))","v":""},{"$f":"IF(ISBLANK(A1375),\"\",VLOOKUP(A1375,Etappe!A$2:B$13,2,FALSE))","v":""}]
[null,null,null,null,"",{"$f":"IF( ISBLANK(A1376),\"\",IF(ISBLANK(B1376),\"\",VLOOKUP(B1376,Teams!A$2:B$95,2,0)))","v":""},{"$f":"IF(ISBLANK(A1376),\"\",VLOOKUP(A1376,Etappe!A$2:B$13,2,FALSE))","v":""}]
[null,null,null,null,"",{"$f":"IF( ISBLANK(A1377),\"\",IF(ISBLANK(B1377),\"\",VLOOKUP(B1377,Teams!A$2:B$95,2,0)))","v":""},{"$f":"IF(ISBLANK(A1377),\"\",VLOOKUP(A1377,Etappe!A$2:B$13,2,FALSE))","v":""}]
[null,null,null,null,"",{"$f":"IF( ISBLANK(A1378),\"\",IF(ISBLANK(B1378),\"\",VLOOKUP(B1378,Teams!A$2:B$95,2,0)))","v":""},{"$f":"IF(ISBLANK(A1378),\"\",VLOOKUP(A1378,Etappe!A$2:B$13,2,FALSE))","v":""}]
[null,null,null,null,"",{"$f":"IF( ISBLANK(A1379),\"\",IF(ISBLANK(B1379),\"\",VLOOKUP(B1379,Teams!A$2:B$95,2,0)))","v":""},{"$f":"IF(ISBLANK(A1379),\"\",VLOOKUP(A1379,Etappe!A$2:B$13,2,FALSE))","v":""}]
[null,null,null,null,"",{"$f":"IF( ISBLANK(A1380),\"\",IF(ISBLANK(B1380),\"\",VLOOKUP(B1380,Teams!A$2:B$95,2,0)))","v":""},{"$f":"IF(ISBLANK(A1380),\"\",VLOOKUP(A1380,Etappe!A$2:B$13,2,FALSE))","v":""}]
[null,null,null,null,"",{"$f":"IF( ISBLANK(A1381),\"\",IF(ISBLANK(B1381),\"\",VLOOKUP(B1381,Teams!A$2:B$95,2,0)))","v":""},{"$f":"IF(ISBLANK(A1381),\"\",VLOOKUP(A1381,Etappe!A$2:B$13,2,FALSE))","v":""}]
[null,null,null,null,"",{"$f":"IF( ISBLANK(A1382),\"\",IF(ISBLANK(B1382),\"\",VLOOKUP(B1382,Teams!A$2:B$95,2,0)))","v":""},{"$f":"IF(ISBLANK(A1382),\"\",VLOOKUP(A1382,Etappe!A$2:B$13,2,FALSE))","v":""}]
[null,null,null,null,"",{"$f":"IF( ISBLANK(A1383),\"\",IF(ISBLANK(B1383),\"\",VLOOKUP(B1383,Teams!A$2:B$95,2,0)))","v":""},{"$f":"IF(ISBLANK(A1383),\"\",VLOOKUP(A1383,Etappe!A$2:B$13,2,FALSE))","v":""}]
[null,null,null,null,"",{"$f":"IF( ISBLANK(A1384),\"\",IF(ISBLANK(B1384),\"\",VLOOKUP(B1384,Teams!A$2:B$95,2,0)))","v":""},{"$f":"IF(ISBLANK(A1384),\"\",VLOOKUP(A1384,Etappe!A$2:B$13,2,FALSE))","v":""}]
[null,null,null,null,"",{"$f":"IF( ISBLANK(A1385),\"\",IF(ISBLANK(B1385),\"\",VLOOKUP(B1385,Teams!A$2:B$95,2,0)))","v":""},{"$f":"IF(ISBLANK(A1385),\"\",VLOOKUP(A1385,Etappe!A$2:B$13,2,FALSE))","v":""}]
[null,null,null,null,"",{"$f":"IF( ISBLANK(A1386),\"\",IF(ISBLANK(B1386),\"\",VLOOKUP(B1386,Teams!A$2:B$95,2,0)))","v":""},{"$f":"IF(ISBLANK(A1386),\"\",VLOOKUP(A1386,Etappe!A$2:B$13,2,FALSE))","v":""}]
[null,null,null,null,"",{"$f":"IF( ISBLANK(A1387),\"\",IF(ISBLANK(B1387),\"\",VLOOKUP(B1387,Teams!A$2:B$95,2,0)))","v":""},{"$f":"IF(ISBLANK(A1387),\"\",VLOOKUP(A1387,Etappe!A$2:B$13,2,FALSE))","v":""}]
[null,null,null,null,"",{"$f":"IF( ISBLANK(A1388),\"\",IF(ISBLANK(B1388),\"\",VLOOKUP(B1388,Teams!A$2:B$95,2,0)))","v":""},{"$f":"IF(ISBLANK(A1388),\"\",VLOOKUP(A1388,Etappe!A$2:B$13,2,FALSE))","v":""}]
[null,null,null,null,"",{"$f":"IF( ISBLANK(A1389),\"\",IF(ISBLANK(B1389),\"\",VLOOKUP(B1389,Teams!A$2:B$95,2,0)))","v":""},{"$f":"IF(ISBLANK(A1389),\"\",VLOOKUP(A1389,Etappe!A$2:B$13,2,FALSE))","v":""}]
[null,null,null,null,"",{"$f":"IF( ISBLANK(A1390),\"\",IF(ISBLANK(B1390),\"\",VLOOKUP(B1390,Teams!A$2:B$95,2,0)))","v":""},{"$f":"IF(ISBLANK(A1390),\"\",VLOOKUP(A1390,Etappe!A$2:B$13,2,FALSE))","v":""}]
[null,null,null,null,"",{"$f":"IF( ISBLANK(A1391),\"\",IF(ISBLANK(B1391),\"\",VLOOKUP(B1391,Teams!A$2:B$95,2,0)))","v":""},{"$f":"IF(ISBLANK(A1391),\"\",VLOOKUP(A1391,Etappe!A$2:B$13,2,FALSE))","v":""}]
[null,null,null,null,"",{"$f":"IF( ISBLANK(A1392),\"\",IF(ISBLANK(B1392),\"\",VLOOKUP(B1392,Teams!A$2:B$95,2,0)))","v":""},{"$f":"IF(ISBLANK(A1392),\"\",VLOOKUP(A1392,Etappe!A$2:B$13,2,FALSE))","v":""}]
[null,null,null,null,"",{"$f":"IF( ISBLANK(A1393),\"\",IF(ISBLANK(B1393),\"\",VLOOKUP(B1393,Teams!A$2:B$95,2,0)))","v":""},{"$f":"IF(ISBLANK(A1393),\"\",VLOOKUP(A1393,Etappe!A$2:B$13,2,FALSE))","v":""}]
[null,null,null,null,"",{"$f":"IF( ISBLANK(A1394),\"\",IF(ISBLANK(B1394),\"\",VLOOKUP(B1394,Teams!A$2:B$95,2,0)))","v":""},{"$f":"IF(ISBLANK(A1394),\"\",VLOOKUP(A1394,Etappe!A$2:B$13,2,FALSE))","v":""}]
[null,null,null,null,"",{"$f":"IF( ISBLANK(A1395),\"\",IF(ISBLANK(B1395),\"\",VLOOKUP(B1395,Teams!A$2:B$95,2,0)))","v":""},{"$f":"IF(ISBLANK(A1395),\"\",VLOOKUP(A1395,Etappe!A$2:B$13,2,FALSE))","v":""}]
[null,null,null,null,"",{"$f":"IF( ISBLANK(A1396),\"\",IF(ISBLANK(B1396),\"\",VLOOKUP(B1396,Teams!A$2:B$95,2,0)))","v":""},{"$f":"IF(ISBLANK(A1396),\"\",VLOOKUP(A1396,Etappe!A$2:B$13,2,FALSE))","v":""}]
[null,null,null,null,"",{"$f":"IF( ISBLANK(A1397),\"\",IF(ISBLANK(B1397),\"\",VLOOKUP(B1397,Teams!A$2:B$95,2,0)))","v":""},{"$f":"IF(ISBLANK(A1397),\"\",VLOOKUP(A1397,Etappe!A$2:B$13,2,FALSE))","v":""}]
[null,null,null,null,"",{"$f":"IF( ISBLANK(A1398),\"\",IF(ISBLANK(B1398),\"\",VLOOKUP(B1398,Teams!A$2:B$95,2,0)))","v":""},{"$f":"IF(ISBLANK(A1398),\"\",VLOOKUP(A1398,Etappe!A$2:B$13,2,FALSE))","v":""}]
[null,null,null,null,"",{"$f":"IF( ISBLANK(A1399),\"\",IF(ISBLANK(B1399),\"\",VLOOKUP(B1399,Teams!A$2:B$95,2,0)))","v":""},{"$f":"IF(ISBLANK(A1399),\"\",VLOOKUP(A1399,Etappe!A$2:B$13,2,FALSE))","v":""}]
[null,null,null,null,"",{"$f":"IF( ISBLANK(A1400),\"\",IF(ISBLANK(B1400),\"\",VLOOKUP(B1400,Teams!A$2:B$95,2,0)))","v":""},{"$f":"IF(ISBLANK(A1400),\"\",VLOOKUP(A1400,Etappe!A$2:B$13,2,FALSE))","v":""}]
[null,null,null,null,"",{"$f":"IF( ISBLANK(A1401),\"\",IF(ISBLANK(B1401),\"\",VLOOKUP(B1401,Teams!A$2:B$95,2,0)))","v":""},{"$f":"IF(ISBLANK(A1401),\"\",VLOOKUP(A1401,Etappe!A$2:B$13,2,FALSE))","v":""}]
[null,null,null,null,"",{"$f":"IF( ISBLANK(A1402),\"\",IF(ISBLANK(B1402),\"\",VLOOKUP(B1402,Teams!A$2:B$95,2,0)))","v":""},{"$f":"IF(ISBLANK(A1402),\"\",VLOOKUP(A1402,Etappe!A$2:B$13,2,FALSE))","v":""}]
[null,null,null,null,"",{"$f":"IF( ISBLANK(A1403),\"\",IF(ISBLANK(B1403),\"\",VLOOKUP(B1403,Teams!A$2:B$95,2,0)))","v":""},{"$f":"IF(ISBLANK(A1403),\"\",VLOOKUP(A1403,Etappe!A$2:B$13,2,FALSE))","v":""}]
[null,null,null,null,"",{"$f":"IF( ISBLANK(A1404),\"\",IF(ISBLANK(B1404),\"\",VLOOKUP(B1404,Teams!A$2:B$95,2,0)))","v":""},{"$f":"IF(ISBLANK(A1404),\"\",VLOOKUP(A1404,Etappe!A$2:B$13,2,FALSE))","v":""}]
[null,null,null,null,"",{"$f":"IF( ISBLANK(A1405),\"\",IF(ISBLANK(B1405),\"\",VLOOKUP(B1405,Teams!A$2:B$95,2,0)))","v":""},{"$f":"IF(ISBLANK(A1405),\"\",VLOOKUP(A1405,Etappe!A$2:B$13,2,FALSE))","v":""}]
[null,null,null,null,"",{"$f":"IF( ISBLANK(A1406),\"\",IF(ISBLANK(B1406),\"\",VLOOKUP(B1406,Teams!A$2:B$95,2,0)))","v":""},{"$f":"IF(ISBLANK(A1406),\"\",VLOOKUP(A1406,Etappe!A$2:B$13,2,FALSE))","v":""}]
[null,null,null,null,"",{"$f":"IF( ISBLANK(A1407),\"\",IF(ISBLANK(B1407),\"\",VLOOKUP(B1407,Teams!A$2:B$95,2,0)))","v":""},{"$f":"IF(ISBLANK(A1407),\"\",VLOOKUP(A1407,Etappe!A$2:B$13,2,FALSE))","v":""}]
[null,null,null,null,"",{"$f":"IF( ISBLANK(A1408),\"\",IF(ISBLANK(B1408),\"\",VLOOKUP(B1408,Teams!A$2:B$95,2,0)))","v":""},{"$f":"IF(ISBLANK(A1408),\"\",VLOOKUP(A1408,Etappe!A$2:B$13,2,FALSE))","v":""}]
[null,null,null,null,"",{"$f":"IF( ISBLANK(A1409),\"\",IF(ISBLANK(B1409),\"\",VLOOKUP(B1409,Teams!A$2:B$95,2,0)))","v":""},{"$f":"IF(ISBLANK(A1409),\"\",VLOOKUP(A1409,Etappe!A$2:B$13,2,FALSE))","v":""}]
[null,null,null,null,"",{"$f":"IF( ISBLANK(A1410),\"\",IF(ISBLANK(B1410),\"\",VLOOKUP(B1410,Teams!A$2:B$95,2,0)))","v":""},{"$f":"IF(ISBLANK(A1410),\"\",VLOOKUP(A1410,Etappe!A$2:B$13,2,FALSE))","v":""}]
[null,null,null,null,{"$f":"IF(ISBLANK(A1411),\"\",IF(C1411=\"v\",0.9*D1411,D1411))","v":""},{"$f":"IF( ISBLANK(A1411),\"\",IF(ISBLANK(B1411),\"\",VLOOKUP(B1411,Teams!A$2:B$95,2,0)))","v":""},{"$f":"IF(ISBLANK(A1411),\"\",VLOOKUP(A1411,Etappe!A$2:B$13,2,FALSE))","v":""}]
[null,null,null,null,"",{"$f":"IF( ISBLANK(A1412),\"\",IF(ISBLANK(B1412),\"\",VLOOKUP(B1412,Teams!A$2:B$95,2,0)))","v":""},{"$f":"IF(ISBLANK(A1412),\"\",VLOOKUP(A1412,Etappe!A$2:B$13,2,FALSE))","v":""}]
[null,null,null,null,"",{"$f":"IF( ISBLANK(A1413),\"\",IF(ISBLANK(B1413),\"\",VLOOKUP(B1413,Teams!A$2:B$95,2,0)))","v":""},{"$f":"IF(ISBLANK(A1413),\"\",VLOOKUP(A1413,Etappe!A$2:B$13,2,FALSE))","v":""}]
[null,null,null,null,"",{"$f":"IF( ISBLANK(A1414),\"\",IF(ISBLANK(B1414),\"\",VLOOKUP(B1414,Teams!A$2:B$95,2,0)))","v":""},{"$f":"IF(ISBLANK(A1414),\"\",VLOOKUP(A1414,Etappe!A$2:B$13,2,FALSE))","v":""}]
[null,null,null,null,"",{"$f":"IF( ISBLANK(A1415),\"\",IF(ISBLANK(B1415),\"\",VLOOKUP(B1415,Teams!A$2:B$95,2,0)))","v":""},{"$f":"IF(ISBLANK(A1415),\"\",VLOOKUP(A1415,Etappe!A$2:B$13,2,FALSE))","v":""}]
[null,null,null,null,"",{"$f":"IF( ISBLANK(A1416),\"\",IF(ISBLANK(B1416),\"\",VLOOKUP(B1416,Teams!A$2:B$95,2,0)))","v":""},{"$f":"IF(ISBLANK(A1416),\"\",VLOOKUP(A1416,Etappe!A$2:B$13,2,FALSE))","v":""}]
[null,null,null,null,"",{"$f":"IF( ISBLANK(A1417),\"\",IF(ISBLANK(B1417),\"\",VLOOKUP(B1417,Teams!A$2:B$95,2,0)))","v":""},{"$f":"IF(ISBLANK(A1417),\"\",VLOOKUP(A1417,Etappe!A$2:B$13,2,FALSE))","v":""}]
[null,null,null,null,"",{"$f":"IF( ISBLANK(A1418),\"\",IF(ISBLANK(B1418),\"\",VLOOKUP(B1418,Teams!A$2:B$95,2,0)))","v":""},{"$f":"IF(ISBLANK(A1418),\"\",VLOOKUP(A1418,Etappe!A$2:B$13,2,FALSE))","v":""}]
[null,null,null,null,"",{"$f":"IF( ISBLANK(A1419),\"\",IF(ISBLANK(B1419),\"\",VLOOKUP(B1419,Teams!A$2:B$95,2,0)))","v":""},{"$f":"IF(ISBLANK(A1419),\"\",VLOOKUP(A1419,Etappe!A$2:B$13,2,FALSE))","v":""}]
[null,null,null,null,"",{"$f":"IF( ISBLANK(A1420),\"\",IF(ISBLANK(B1420),\"\",VLOOKUP(B1420,Teams!A$2:B$95,2,0)))","v":""},{"$f":"IF(ISBLANK(A1420),\"\",VLOOKUP(A1420,Etappe!A$2:B$13,2,FALSE))","v":""}]
[null,null,null,null,"",{"$f":"IF( ISBLANK(A1421),\"\",IF(ISBLANK(B1421),\"\",VLOOKUP(B1421,Teams!A$2:B$95,2,0)))","v":""},{"$f":"IF(ISBLANK(A1421),\"\",VLOOKUP(A1421,Etappe!A$2:B$13,2,FALSE))","v":""}]
[null,null,null,null,"",{"$f":"IF( ISBLANK(A1422),\"\",IF(ISBLANK(B1422),\"\",VLOOKUP(B1422,Teams!A$2:B$95,2,0)))","v":""},{"$f":"IF(ISBLANK(A1422),\"\",VLOOKUP(A1422,Etappe!A$2:B$13,2,FALSE))","v":""}]
[null,null,null,null,"",{"$f":"IF( ISBLANK(A1423),\"\",IF(ISBLANK(B1423),\"\",VLOOKUP(B1423,Teams!A$2:B$95,2,0)))","v":""},{"$f":"IF(ISBLANK(A1423),\"\",VLOOKUP(A1423,Etappe!A$2:B$13,2,FALSE))","v":""}]
[null,null,null,null,"",{"$f":"IF( ISBLANK(A1424),\"\",IF(ISBLANK(B1424),\"\",VLOOKUP(B1424,Teams!A$2:B$95,2,0)))","v":""},{"$f":"IF(ISBLANK(A1424),\"\",VLOOKUP(A1424,Etappe!A$2:B$13,2,FALSE))","v":""}]
[null,null,null,null,"",{"$f":"IF( ISBLANK(A1425),\"\",IF(ISBLANK(B1425),\"\",VLOOKUP(B1425,Teams!A$2:B$95,2,0)))","v":""},{"$f":"IF(ISBLANK(A1425),\"\",VLOOKUP(A1425,Etappe!A$2:B$13,2,FALSE))","v":""}]
[null,null,null,null,"",{"$f":"IF( ISBLANK(A1426),\"\",IF(ISBLANK(B1426),\"\",VLOOKUP(B1426,Teams!A$2:B$95,2,0)))","v":""},{"$f":"IF(ISBLANK(A1426),\"\",VLOOKUP(A1426,Etappe!A$2:B$13,2,FALSE))","v":""}]
[null,null,null,null,"",{"$f":"IF( ISBLANK(A1427),\"\",IF(ISBLANK(B1427),\"\",VLOOKUP(B1427,Teams!A$2:B$95,2,0)))","v":""},{"$f":"IF(ISBLANK(A1427),\"\",VLOOKUP(A1427,Etappe!A$2:B$13,2,FALSE))","v":""}]
[null,null,null,null,"",{"$f":"IF( ISBLANK(A1428),\"\",IF(ISBLANK(B1428),\"\",VLOOKUP(B1428,Teams!A$2:B$95,2,0)))","v":""},{"$f":"IF(ISBLANK(A1428),\"\",VLOOKUP(A1428,Etappe!A$2:B$13,2,FALSE))","v":""}]
[null,null,null,null,"",{"$f":"IF( ISBLANK(A1429),\"\",IF(ISBLANK(B1429),\"\",VLOOKUP(B1429,Teams!A$2:B$95,2,0)))","v":""},{"$f":"IF(ISBLANK(A1429),\"\",VLOOKUP(A1429,Etappe!A$2:B$13,2,FALSE))","v":""}]
[null,null,null,null,"",{"$f":"IF( ISBLANK(A1430),\"\",IF(ISBLANK(B1430),\"\",VLOOKUP(B1430,Teams!A$2:B$95,2,0)))","v":""},{"$f":"IF(ISBLANK(A1430),\"\",VLOOKUP(A1430,Etappe!A$2:B$13,2,FALSE))","v":""}]
[null,null,null,null,"",{"$f":"IF( ISBLANK(A1431),\"\",IF(ISBLANK(B1431),\"\",VLOOKUP(B1431,Teams!A$2:B$95,2,0)))","v":""},{"$f":"IF(ISBLANK(A1431),\"\",VLOOKUP(A1431,Etappe!A$2:B$13,2,FALSE))","v":""}]
[null,null,null,null,"",{"$f":"IF( ISBLANK(A1432),\"\",IF(ISBLANK(B1432),\"\",VLOOKUP(B1432,Teams!A$2:B$95,2,0)))","v":""},{"$f":"IF(ISBLANK(A1432),\"\",VLOOKUP(A1432,Etappe!A$2:B$13,2,FALSE))","v":""}]
[null,null,null,null,"",{"$f":"IF( ISBLANK(A1433),\"\",IF(ISBLANK(B1433),\"\",VLOOKUP(B1433,Teams!A$2:B$95,2,0)))","v":""},{"$f":"IF(ISBLANK(A1433),\"\",VLOOKUP(A1433,Etappe!A$2:B$13,2,FALSE))","v":""}]
[null,null,null,null,"",{"$f":"IF( ISBLANK(A1434),\"\",IF(ISBLANK(B1434),\"\",VLOOKUP(B1434,Teams!A$2:B$95,2,0)))","v":""},{"$f":"IF(ISBLANK(A1434),\"\",VLOOKUP(A1434,Etappe!A$2:B$13,2,FALSE))","v":""}]
[null,null,null,null,"",{"$f":"IF( ISBLANK(A1435),\"\",IF(ISBLANK(B1435),\"\",VLOOKUP(B1435,Teams!A$2:B$95,2,0)))","v":""},{"$f":"IF(ISBLANK(A1435),\"\",VLOOKUP(A1435,Etappe!A$2:B$13,2,FALSE))","v":""}]
[null,null,null,null,"",{"$f":"IF( ISBLANK(A1436),\"\",IF(ISBLANK(B1436),\"\",VLOOKUP(B1436,Teams!A$2:B$95,2,0)))","v":""},{"$f":"IF(ISBLANK(A1436),\"\",VLOOKUP(A1436,Etappe!A$2:B$13,2,FALSE))","v":""}]
[null,null,null,null,"",{"$f":"IF( ISBLANK(A1437),\"\",IF(ISBLANK(B1437),\"\",VLOOKUP(B1437,Teams!A$2:B$95,2,0)))","v":""},{"$f":"IF(ISBLANK(A1437),\"\",VLOOKUP(A1437,Etappe!A$2:B$13,2,FALSE))","v":""}]
[null,null,null,null,"",{"$f":"IF( ISBLANK(A1438),\"\",IF(ISBLANK(B1438),\"\",VLOOKUP(B1438,Teams!A$2:B$95,2,0)))","v":""},{"$f":"IF(ISBLANK(A1438),\"\",VLOOKUP(A1438,Etappe!A$2:B$13,2,FALSE))","v":""}]
[null,null,null,null,"",{"$f":"IF( ISBLANK(A1439),\"\",IF(ISBLANK(B1439),\"\",VLOOKUP(B1439,Teams!A$2:B$95,2,0)))","v":""},{"$f":"IF(ISBLANK(A1439),\"\",VLOOKUP(A1439,Etappe!A$2:B$13,2,FALSE))","v":""}]
[null,null,null,null,"",{"$f":"IF( ISBLANK(A1440),\"\",IF(ISBLANK(B1440),\"\",VLOOKUP(B1440,Teams!A$2:B$95,2,0)))","v":""},{"$f":"IF(ISBLANK(A1440),\"\",VLOOKUP(A1440,Etappe!A$2:B$13,2,FALSE))","v":""}]
[null,null,null,null,"",{"$f":"IF( ISBLANK(A1441),\"\",IF(ISBLANK(B1441),\"\",VLOOKUP(B1441,Teams!A$2:B$95,2,0)))","v":""},{"$f":"IF(ISBLANK(A1441),\"\",VLOOKUP(A1441,Etappe!A$2:B$13,2,FALSE))","v":""}]
[null,null,null,null,"",{"$f":"IF( ISBLANK(A1442),\"\",IF(ISBLANK(B1442),\"\",VLOOKUP(B1442,Teams!A$2:B$95,2,0)))","v":""},{"$f":"IF(ISBLANK(A1442),\"\",VLOOKUP(A1442,Etappe!A$2:B$13,2,FALSE))","v":""}]
[null,null,null,null,"",{"$f":"IF( ISBLANK(A1443),\"\",IF(ISBLANK(B1443),\"\",VLOOKUP(B1443,Teams!A$2:B$95,2,0)))","v":""},{"$f":"IF(ISBLANK(A1443),\"\",VLOOKUP(A1443,Etappe!A$2:B$13,2,FALSE))","v":""}]
[null,null,null,null,"",{"$f":"IF( ISBLANK(A1444),\"\",IF(ISBLANK(B1444),\"\",VLOOKUP(B1444,Teams!A$2:B$95,2,0)))","v":""},{"$f":"IF(ISBLANK(A1444),\"\",VLOOKUP(A1444,Etappe!A$2:B$13,2,FALSE))","v":""}]
[null,null,null,null,"",{"$f":"IF( ISBLANK(A1445),\"\",IF(ISBLANK(B1445),\"\",VLOOKUP(B1445,Teams!A$2:B$95,2,0)))","v":""},{"$f":"IF(ISBLANK(A1445),\"\",VLOOKUP(A1445,Etappe!A$2:B$13,2,FALSE))","v":""}]
[null,null,null,null,"",{"$f":"IF( ISBLANK(A1446),\"\",IF(ISBLANK(B1446),\"\",VLOOKUP(B1446,Teams!A$2:B$95,2,0)))","v":""},{"$f":"IF(ISBLANK(A1446),\"\",VLOOKUP(A1446,Etappe!A$2:B$13,2,FALSE))","v":""}]
[null,null,null,null,"",{"$f":"IF( ISBLANK(A1447),\"\",IF(ISBLANK(B1447),\"\",VLOOKUP(B1447,Teams!A$2:B$95,2,0)))","v":""},{"$f":"IF(ISBLANK(A1447),\"\",VLOOKUP(A1447,Etappe!A$2:B$13,2,FALSE))","v":""}]
[null,null,null,null,"",{"$f":"IF( ISBLANK(A1448),\"\",IF(ISBLANK(B1448),\"\",VLOOKUP(B1448,Teams!A$2:B$95,2,0)))","v":""},{"$f":"IF(ISBLANK(A1448),\"\",VLOOKUP(A1448,Etappe!A$2:B$13,2,FALSE))","v":""}]
[null,null,null,null,"",{"$f":"IF( ISBLANK(A1449),\"\",IF(ISBLANK(B1449),\"\",VLOOKUP(B1449,Teams!A$2:B$95,2,0)))","v":""},{"$f":"IF(ISBLANK(A1449),\"\",VLOOKUP(A1449,Etappe!A$2:B$13,2,FALSE))","v":""}]
[null,null,null,null,"",{"$f":"IF( ISBLANK(A1450),\"\",IF(ISBLANK(B1450),\"\",VLOOKUP(B1450,Teams!A$2:B$95,2,0)))","v":""},{"$f":"IF(ISBLANK(A1450),\"\",VLOOKUP(A1450,Etappe!A$2:B$13,2,FALSE))","v":""}]
[null,null,null,null,"",{"$f":"IF( ISBLANK(A1451),\"\",IF(ISBLANK(B1451),\"\",VLOOKUP(B1451,Teams!A$2:B$95,2,0)))","v":""},{"$f":"IF(ISBLANK(A1451),\"\",VLOOKUP(A1451,Etappe!A$2:B$13,2,FALSE))","v":""}]
[null,null,null,null,"",{"$f":"IF( ISBLANK(A1452),\"\",IF(ISBLANK(B1452),\"\",VLOOKUP(B1452,Teams!A$2:B$95,2,0)))","v":""},{"$f":"IF(ISBLANK(A1452),\"\",VLOOKUP(A1452,Etappe!A$2:B$13,2,FALSE))","v":""}]
[null,null,null,null,"",{"$f":"IF( ISBLANK(A1453),\"\",IF(ISBLANK(B1453),\"\",VLOOKUP(B1453,Teams!A$2:B$95,2,0)))","v":""},{"$f":"IF(ISBLANK(A1453),\"\",VLOOKUP(A1453,Etappe!A$2:B$13,2,FALSE))","v":""}]
[null,null,null,null,"",{"$f":"IF( ISBLANK(A1454),\"\",IF(ISBLANK(B1454),\"\",VLOOKUP(B1454,Teams!A$2:B$95,2,0)))","v":""},{"$f":"IF(ISBLANK(A1454),\"\",VLOOKUP(A1454,Etappe!A$2:B$13,2,FALSE))","v":""}]
[null,null,null,null,"",{"$f":"IF( ISBLANK(A1455),\"\",IF(ISBLANK(B1455),\"\",VLOOKUP(B1455,Teams!A$2:B$95,2,0)))","v":""},{"$f":"IF(ISBLANK(A1455),\"\",VLOOKUP(A1455,Etappe!A$2:B$13,2,FALSE))","v":""}]
[null,null,null,null,"",{"$f":"IF( ISBLANK(A1456),\"\",IF(ISBLANK(B1456),\"\",VLOOKUP(B1456,Teams!A$2:B$95,2,0)))","v":""},{"$f":"IF(ISBLANK(A1456),\"\",VLOOKUP(A1456,Etappe!A$2:B$13,2,FALSE))","v":""}]
[null,null,null,null,"",{"$f":"IF( ISBLANK(A1457),\"\",IF(ISBLANK(B1457),\"\",VLOOKUP(B1457,Teams!A$2:B$95,2,0)))","v":""},{"$f":"IF(ISBLANK(A1457),\"\",VLOOKUP(A1457,Etappe!A$2:B$13,2,FALSE))","v":""}]
[null,null,null,null,"",{"$f":"IF( ISBLANK(A1458),\"\",IF(ISBLANK(B1458),\"\",VLOOKUP(B1458,Teams!A$2:B$95,2,0)))","v":""},{"$f":"IF(ISBLANK(A1458),\"\",VLOOKUP(A1458,Etappe!A$2:B$13,2,FALSE))","v":""}]
[null,null,null,null,"",{"$f":"IF( ISBLANK(A1459),\"\",IF(ISBLANK(B1459),\"\",VLOOKUP(B1459,Teams!A$2:B$95,2,0)))","v":""},{"$f":"IF(ISBLANK(A1459),\"\",VLOOKUP(A1459,Etappe!A$2:B$13,2,FALSE))","v":""}]
[null,null,null,null,"",{"$f":"IF( ISBLANK(A1460),\"\",IF(ISBLANK(B1460),\"\",VLOOKUP(B1460,Teams!A$2:B$95,2,0)))","v":""},{"$f":"IF(ISBLANK(A1460),\"\",VLOOKUP(A1460,Etappe!A$2:B$13,2,FALSE))","v":""}]
[null,null,null,null,"",{"$f":"IF( ISBLANK(A1461),\"\",IF(ISBLANK(B1461),\"\",VLOOKUP(B1461,Teams!A$2:B$95,2,0)))","v":""},{"$f":"IF(ISBLANK(A1461),\"\",VLOOKUP(A1461,Etappe!A$2:B$13,2,FALSE))","v":""}]
[null,null,null,null,"",{"$f":"IF( ISBLANK(A1462),\"\",IF(ISBLANK(B1462),\"\",VLOOKUP(B1462,Teams!A$2:B$95,2,0)))","v":""},{"$f":"IF(ISBLANK(A1462),\"\",VLOOKUP(A1462,Etappe!A$2:B$13,2,FALSE))","v":""}]
[null,null,null,null,"",{"$f":"IF( ISBLANK(A1463),\"\",IF(ISBLANK(B1463),\"\",VLOOKUP(B1463,Teams!A$2:B$95,2,0)))","v":""},{"$f":"IF(ISBLANK(A1463),\"\",VLOOKUP(A1463,Etappe!A$2:B$13,2,FALSE))","v":""}]
[null,null,null,null,"",{"$f":"IF( ISBLANK(A1464),\"\",IF(ISBLANK(B1464),\"\",VLOOKUP(B1464,Teams!A$2:B$95,2,0)))","v":""},{"$f":"IF(ISBLANK(A1464),\"\",VLOOKUP(A1464,Etappe!A$2:B$13,2,FALSE))","v":""}]
[null,null,null,null,"",{"$f":"IF( ISBLANK(A1465),\"\",IF(ISBLANK(B1465),\"\",VLOOKUP(B1465,Teams!A$2:B$95,2,0)))","v":""},{"$f":"IF(ISBLANK(A1465),\"\",VLOOKUP(A1465,Etappe!A$2:B$13,2,FALSE))","v":""}]
[null,null,null,null,"",{"$f":"IF( ISBLANK(A1466),\"\",IF(ISBLANK(B1466),\"\",VLOOKUP(B1466,Teams!A$2:B$95,2,0)))","v":""},{"$f":"IF(ISBLANK(A1466),\"\",VLOOKUP(A1466,Etappe!A$2:B$13,2,FALSE))","v":""}]
[null,null,null,null,"",{"$f":"IF( ISBLANK(A1467),\"\",IF(ISBLANK(B1467),\"\",VLOOKUP(B1467,Teams!A$2:B$95,2,0)))","v":""},{"$f":"IF(ISBLANK(A1467),\"\",VLOOKUP(A1467,Etappe!A$2:B$13,2,FALSE))","v":""}]
[null,null,null,null,"",{"$f":"IF( ISBLANK(A1468),\"\",IF(ISBLANK(B1468),\"\",VLOOKUP(B1468,Teams!A$2:B$95,2,0)))","v":""},{"$f":"IF(ISBLANK(A1468),\"\",VLOOKUP(A1468,Etappe!A$2:B$13,2,FALSE))","v":""}]
[null,null,null,null,"",{"$f":"IF( ISBLANK(A1469),\"\",IF(ISBLANK(B1469),\"\",VLOOKUP(B1469,Teams!A$2:B$95,2,0)))","v":""},{"$f":"IF(ISBLANK(A1469),\"\",VLOOKUP(A1469,Etappe!A$2:B$13,2,FALSE))","v":""}]
[null,null,null,null,"",{"$f":"IF( ISBLANK(A1470),\"\",IF(ISBLANK(B1470),\"\",VLOOKUP(B1470,Teams!A$2:B$95,2,0)))","v":""},{"$f":"IF(ISBLANK(A1470),\"\",VLOOKUP(A1470,Etappe!A$2:B$13,2,FALSE))","v":""}]
[null,null,null,null,"",{"$f":"IF( ISBLANK(A1471),\"\",IF(ISBLANK(B1471),\"\",VLOOKUP(B1471,Teams!A$2:B$95,2,0)))","v":""},{"$f":"IF(ISBLANK(A1471),\"\",VLOOKUP(A1471,Etappe!A$2:B$13,2,FALSE))","v":""}]
[null,null,null,null,"",{"$f":"IF( ISBLANK(A1472),\"\",IF(ISBLANK(B1472),\"\",VLOOKUP(B1472,Teams!A$2:B$95,2,0)))","v":""},{"$f":"IF(ISBLANK(A1472),\"\",VLOOKUP(A1472,Etappe!A$2:B$13,2,FALSE))","v":""}]
[null,null,null,null,"",{"$f":"IF( ISBLANK(A1473),\"\",IF(ISBLANK(B1473),\"\",VLOOKUP(B1473,Teams!A$2:B$95,2,0)))","v":""},{"$f":"IF(ISBLANK(A1473),\"\",VLOOKUP(A1473,Etappe!A$2:B$13,2,FALSE))","v":""}]
[null,null,null,null,"",{"$f":"IF( ISBLANK(A1474),\"\",IF(ISBLANK(B1474),\"\",VLOOKUP(B1474,Teams!A$2:B$95,2,0)))","v":""},{"$f":"IF(ISBLANK(A1474),\"\",VLOOKUP(A1474,Etappe!A$2:B$13,2,FALSE))","v":""}]
[null,null,null,null,{"$f":"IF(ISBLANK(A1475),\"\",IF(C1475=\"v\",0.9*D1475,D1475))","v":""},{"$f":"IF( ISBLANK(A1475),\"\",IF(ISBLANK(B1475),\"\",VLOOKUP(B1475,Teams!A$2:B$95,2,0)))","v":""},{"$f":"IF(ISBLANK(A1475),\"\",VLOOKUP(A1475,Etappe!A$2:B$13,2,FALSE))","v":""}]
[null,null,null,null,"",{"$f":"IF( ISBLANK(A1476),\"\",IF(ISBLANK(B1476),\"\",VLOOKUP(B1476,Teams!A$2:B$95,2,0)))","v":""},{"$f":"IF(ISBLANK(A1476),\"\",VLOOKUP(A1476,Etappe!A$2:B$13,2,FALSE))","v":""}]
[null,null,null,null,"",{"$f":"IF( ISBLANK(A1477),\"\",IF(ISBLANK(B1477),\"\",VLOOKUP(B1477,Teams!A$2:B$95,2,0)))","v":""},{"$f":"IF(ISBLANK(A1477),\"\",VLOOKUP(A1477,Etappe!A$2:B$13,2,FALSE))","v":""}]
[null,null,null,null,"",{"$f":"IF( ISBLANK(A1478),\"\",IF(ISBLANK(B1478),\"\",VLOOKUP(B1478,Teams!A$2:B$95,2,0)))","v":""},{"$f":"IF(ISBLANK(A1478),\"\",VLOOKUP(A1478,Etappe!A$2:B$13,2,FALSE))","v":""}]
[null,null,null,null,"",{"$f":"IF( ISBLANK(A1479),\"\",IF(ISBLANK(B1479),\"\",VLOOKUP(B1479,Teams!A$2:B$95,2,0)))","v":""},{"$f":"IF(ISBLANK(A1479),\"\",VLOOKUP(A1479,Etappe!A$2:B$13,2,FALSE))","v":""}]
[null,null,null,null,"",{"$f":"IF( ISBLANK(A1480),\"\",IF(ISBLANK(B1480),\"\",VLOOKUP(B1480,Teams!A$2:B$95,2,0)))","v":""},{"$f":"IF(ISBLANK(A1480),\"\",VLOOKUP(A1480,Etappe!A$2:B$13,2,FALSE))","v":""}]
[null,null,null,null,"",{"$f":"IF( ISBLANK(A1481),\"\",IF(ISBLANK(B1481),\"\",VLOOKUP(B1481,Teams!A$2:B$95,2,0)))","v":""},{"$f":"IF(ISBLANK(A1481),\"\",VLOOKUP(A1481,Etappe!A$2:B$13,2,FALSE))","v":""}]
[null,null,null,null,"",{"$f":"IF( ISBLANK(A1482),\"\",IF(ISBLANK(B1482),\"\",VLOOKUP(B1482,Teams!A$2:B$95,2,0)))","v":""},{"$f":"IF(ISBLANK(A1482),\"\",VLOOKUP(A1482,Etappe!A$2:B$13,2,FALSE))","v":""}]
[null,null,null,null,"",{"$f":"IF( ISBLANK(A1483),\"\",IF(ISBLANK(B1483),\"\",VLOOKUP(B1483,Teams!A$2:B$95,2,0)))","v":""},{"$f":"IF(ISBLANK(A1483),\"\",VLOOKUP(A1483,Etappe!A$2:B$13,2,FALSE))","v":""}]
[null,null,null,null,"",{"$f":"IF( ISBLANK(A1484),\"\",IF(ISBLANK(B1484),\"\",VLOOKUP(B1484,Teams!A$2:B$95,2,0)))","v":""},{"$f":"IF(ISBLANK(A1484),\"\",VLOOKUP(A1484,Etappe!A$2:B$13,2,FALSE))","v":""}]
[null,null,null,null,"",{"$f":"IF( ISBLANK(A1485),\"\",IF(ISBLANK(B1485),\"\",VLOOKUP(B1485,Teams!A$2:B$95,2,0)))","v":""},{"$f":"IF(ISBLANK(A1485),\"\",VLOOKUP(A1485,Etappe!A$2:B$13,2,FALSE))","v":""}]
[null,null,null,null,"",{"$f":"IF( ISBLANK(A1486),\"\",IF(ISBLANK(B1486),\"\",VLOOKUP(B1486,Teams!A$2:B$95,2,0)))","v":""},{"$f":"IF(ISBLANK(A1486),\"\",VLOOKUP(A1486,Etappe!A$2:B$13,2,FALSE))","v":""}]
[null,null,null,null,"",{"$f":"IF( ISBLANK(A1487),\"\",IF(ISBLANK(B1487),\"\",VLOOKUP(B1487,Teams!A$2:B$95,2,0)))","v":""},{"$f":"IF(ISBLANK(A1487),\"\",VLOOKUP(A1487,Etappe!A$2:B$13,2,FALSE))","v":""}]
[null,null,null,null,"",{"$f":"IF( ISBLANK(A1488),\"\",IF(ISBLANK(B1488),\"\",VLOOKUP(B1488,Teams!A$2:B$95,2,0)))","v":""},{"$f":"IF(ISBLANK(A1488),\"\",VLOOKUP(A1488,Etappe!A$2:B$13,2,FALSE))","v":""}]
[null,null,null,null,"",{"$f":"IF( ISBLANK(A1489),\"\",IF(ISBLANK(B1489),\"\",VLOOKUP(B1489,Teams!A$2:B$95,2,0)))","v":""},{"$f":"IF(ISBLANK(A1489),\"\",VLOOKUP(A1489,Etappe!A$2:B$13,2,FALSE))","v":""}]
[null,null,null,null,"",{"$f":"IF( ISBLANK(A1490),\"\",IF(ISBLANK(B1490),\"\",VLOOKUP(B1490,Teams!A$2:B$95,2,0)))","v":""},{"$f":"IF(ISBLANK(A1490),\"\",VLOOKUP(A1490,Etappe!A$2:B$13,2,FALSE))","v":""}]
[null,null,null,null,"",{"$f":"IF( ISBLANK(A1491),\"\",IF(ISBLANK(B1491),\"\",VLOOKUP(B1491,Teams!A$2:B$95,2,0)))","v":""},{"$f":"IF(ISBLANK(A1491),\"\",VLOOKUP(A1491,Etappe!A$2:B$13,2,FALSE))","v":""}]
[null,null,null,null,"",{"$f":"IF( ISBLANK(A1492),\"\",IF(ISBLANK(B1492),\"\",VLOOKUP(B1492,Teams!A$2:B$95,2,0)))","v":""},{"$f":"IF(ISBLANK(A1492),\"\",VLOOKUP(A1492,Etappe!A$2:B$13,2,FALSE))","v":""}]
[null,null,null,null,"",{"$f":"IF( ISBLANK(A1493),\"\",IF(ISBLANK(B1493),\"\",VLOOKUP(B1493,Teams!A$2:B$95,2,0)))","v":""},{"$f":"IF(ISBLANK(A1493),\"\",VLOOKUP(A1493,Etappe!A$2:B$13,2,FALSE))","v":""}]
[null,null,null,null,"",{"$f":"IF( ISBLANK(A1494),\"\",IF(ISBLANK(B1494),\"\",VLOOKUP(B1494,Teams!A$2:B$95,2,0)))","v":""},{"$f":"IF(ISBLANK(A1494),\"\",VLOOKUP(A1494,Etappe!A$2:B$13,2,FALSE))","v":""}]
[null,null,null,null,"",{"$f":"IF( ISBLANK(A1495),\"\",IF(ISBLANK(B1495),\"\",VLOOKUP(B1495,Teams!A$2:B$95,2,0)))","v":""},{"$f":"IF(ISBLANK(A1495),\"\",VLOOKUP(A1495,Etappe!A$2:B$13,2,FALSE))","v":""}]
[null,null,null,null,"",{"$f":"IF( ISBLANK(A1496),\"\",IF(ISBLANK(B1496),\"\",VLOOKUP(B1496,Teams!A$2:B$95,2,0)))","v":""},{"$f":"IF(ISBLANK(A1496),\"\",VLOOKUP(A1496,Etappe!A$2:B$13,2,FALSE))","v":""}]
[null,null,null,null,"",{"$f":"IF( ISBLANK(A1497),\"\",IF(ISBLANK(B1497),\"\",VLOOKUP(B1497,Teams!A$2:B$95,2,0)))","v":""},{"$f":"IF(ISBLANK(A1497),\"\",VLOOKUP(A1497,Etappe!A$2:B$13,2,FALSE))","v":""}]
[null,null,null,null,"",{"$f":"IF( ISBLANK(A1498),\"\",IF(ISBLANK(B1498),\"\",VLOOKUP(B1498,Teams!A$2:B$95,2,0)))","v":""},{"$f":"IF(ISBLANK(A1498),\"\",VLOOKUP(A1498,Etappe!A$2:B$13,2,FALSE))","v":""}]
[null,null,null,null,"",{"$f":"IF( ISBLANK(A1499),\"\",IF(ISBLANK(B1499),\"\",VLOOKUP(B1499,Teams!A$2:B$95,2,0)))","v":""},{"$f":"IF(ISBLANK(A1499),\"\",VLOOKUP(A1499,Etappe!A$2:B$13,2,FALSE))","v":""}]
[null,null,null,null,"",{"$f":"IF( ISBLANK(A1500),\"\",IF(ISBLANK(B1500),\"\",VLOOKUP(B1500,Teams!A$2:B$95,2,0)))","v":""},{"$f":"IF(ISBLANK(A1500),\"\",VLOOKUP(A1500,Etappe!A$2:B$13,2,FALSE))","v":""}]

{"sheet":"1L","index":4,"n_rows":58,"n_cols":12,"rows_kept":58,"cut":false,"hidden":false,"merged":[]}
["Etappeuitslag Voorhuys 12-dorpenloop AV NOP 2 april 2022"]
["Uitslag van deze etappe. De tijd is de brutotijd",null,null,null,null,null,null,"Uitslag t/m deze etappe. De tijd is de som van de nettotijden."]
["Emmeloord - Luttelgeest",null,null,11.34,"km",null,null,"Emmeloord - Luttelgeest"]
["nr","team","Naam loper","Tijd",null,"km/h",null,"nr ","team","Teamnaam","Tijd","∆"]
[1,2," Bas Hollegien",2.631944444444444E-2,null,17.952506596306073,null,1,2,"hardloopbegeleidingopmaat/klif 18",2.631944444444444E-2,0]
[2,1," Luc Beuckers",3.0028009259259258E-2,null,15.73530885515838,null,2,4,"Klif 18",2.8752187500000002E-2,2.4327430555555613E-3]
[3,5," Tomas Prysmantas",3.0492476851851847E-2,null,15.495625438879507,null,3,1,"De Corner",3.0028009259259258E-2,3.7085648148148173E-3]
[4,3," Meindert Ruiten",3.0528240740740741E-2,null,15.477472285831272,null,4,5,"Dujob",3.0492476851851847E-2,4.1730324074074066E-3]
[5,52," Krzysiek",3.0885648148148148E-2,null,15.298367634494026,null,5,3,"Quick Jewels",3.0528240740740741E-2,4.2087962962963008E-3]
[6,34," Rick Hellendoorn",3.0955439814814814E-2,null,15.263876166084014,null,6,52,"Pool-der run4fun",3.0885648148148148E-2,4.5662037037037077E-3]
[7,4," Jacolien Ruizendaal",3.1946875E-2,"v",14.790179008118947,null,7,20,"Creil",3.0941250000000003E-2,4.621805555555563E-3]
[8,22," Luc Overvoorde",3.2293634259259262E-2,null,14.631366547558033,null,8,34,"Team 't Voorhuys",3.0955439814814814E-2,4.6359953703703737E-3]
[9,14," Arjen Spaan",3.2724074074074079E-2,null,14.43891121045781,null,9,26,"van Vilsteren Marknesse.nl",3.1960833333333334E-2,5.6413888888888937E-3]
[10,21," Gert Jan van de Berg",3.2797106481481479E-2,null,14.406758726316051,null,10,22,"Tollebeek in beweging",3.2293634259259262E-2,5.9741898148148211E-3]
[11,9," William van Boven",3.3185300925925927E-2,null,14.23823159098915,null,11,14,"Vivan komt dr’an",3.2724074074074079E-2,6.4046296296296386E-3]
[12,20," Erna van Es-Keen",3.4379166666666669E-2,"v",13.743788631681007,null,12,21,"050media",3.2797106481481479E-2,6.4776620370370387E-3]
[13,6," Jos Ruijter",3.4441782407407411E-2,null,13.718802192373737,null,13,30,"Autofirst Minnaard ",3.3131354166666675E-2,6.8119097222222348E-3]
[14,46," Jan Willem Koster",3.4583217592592592E-2,null,13.662696327631618,null,14,9,"VAN BLOOIS SPORTADVIES",3.3185300925925927E-2,6.8658564814814867E-3]
[15,25," Maarten Maaskant",3.4673611111111106E-2,null,13.627077909072703,null,15,39,"Suplacon",3.3821770833333327E-2,7.5023263888888865E-3]
[16,10," Klaas Jurjen Zachariasse",3.4679398148148147E-2,null,13.624803924840638,null,16,29,"Waterman Onions Pink Ladies",3.3826979166666674E-2,7.5075347222222331E-3]
[17,55," Gerard Hesselmans",3.4685532407407411E-2,null,13.622394330008708,null,17,13,"KLIF18 ladies",3.3832500000000001E-2,7.513055555555561E-3]
[18,37," Coen Willems",3.470798611111111E-2,null,13.613581568443061,null,18,6,"Running Ruijters",3.4441782407407411E-2,8.1223379629629701E-3]
[19,56," Mark Groenewold",3.5214351851851851E-2,null,13.417824697947754,null,19,46,"Hoekstra Assurantie B.V.",3.4583217592592592E-2,8.263773148148152E-3]
[20,36," Bert van Slooten",3.5316319444444445E-2,null,13.379083874900452,null,20,25,"Hardloop groep Ens",3.4673611111111106E-2,8.354166666666666E-3]
[21,32," Harold Oeverhaus",3.5398379629629627E-2,null,13.348068610589783,null,21,10,"RUN TEAM MARKNESSE",3.4679398148148147E-2,8.3599537037037062E-3]
[22,26," Iris Peters",3.5512037037037036E-2,"v",13.305347691184522,null,22,55,"Fifty-Five",3.4685532407407411E-2,8.366087962962971E-3]
[23,27," Pieter Maas",3.5518865740740736E-2,null,13.302789662509818,null,23,37,"Van Staveren",3.470798611111111E-2,8.3885416666666691E-3]
[24,17," Olaf van Campen",3.5894675925925927E-2,null,13.163512075581208,null,24,56,"De Broodlopers",3.5214351851851851E-2,8.8949074074074104E-3]
[25,19," Anne Oenema",3.6444444444444439E-2,null,12.964939024390246,null,25,36,"Schol op Urk",3.5316319444444445E-2,8.9968750000000049E-3]
[26,11," Marco van Diepen",3.6504050925925922E-2,null,12.94376892468175,null,26,32,"Ber-di-do",3.5398379629629627E-2,9.0789351851851864E-3]
[27,49," Albert Koffeman",3.657789351851852E-2,null,12.917638347894048,null,27,27,"Running Team Espel",3.5518865740740736E-2,9.1994212962962958E-3]
[28,30," Daniëlle Willems",3.6812615740740746E-2,"v",12.835273736798914,null,28,17,"SAMEN ONDER WEG",3.5894675925925927E-2,9.5752314814814866E-3]
[29,8," Gabry Vlot",3.6862499999999999E-2,null,12.817904374364192,null,29,19,"STC Rutten",3.6444444444444439E-2,1.0124999999999999E-2]
[30,31," Arjan Vroegop",3.6869791666666665E-2,null,12.815369402457975,null,30,11,"Kraggenburg 4",3.6504050925925922E-2,1.0184606481481482E-2]
[31,45," Dirk Wesseling",3.6890740740740745E-2,null,12.808091963254855,null,31,49,"Flynth",3.657789351851852E-2,1.025844907407408E-2]
[32,12," Andries de Boer",3.7007986111111106E-2,null,12.767514519201001,null,32,8,"Hardloopteam Bant",3.6862499999999999E-2,1.0543055555555559E-2]
[33,33," hendrik hornstra",3.7125810185185182E-2,null,12.726994983897971,null,33,31,"fam.Dekker Draaft Door",3.6869791666666665E-2,1.0550347222222225E-2]
[34,42," Rafaël",3.7462615740740744E-2,null,12.61257364594951,null,34,45,"Berechja College ",3.6890740740740745E-2,1.0571296296296304E-2]
[35,39," Lianne van de Guchte",3.7579745370370364E-2,"v",12.573262414187116,null,35,12,"Hekwerkwebshop.nl",3.7007986111111106E-2,1.0688541666666666E-2]
[36,29," Annegina de Vries",3.7585532407407411E-2,"v",12.571326511444575,null,36,15,"Aves",3.7069791666666671E-2,1.0750347222222231E-2]
[37,13," Willeke Post",3.7591666666666669E-2,"v",12.569275105298159,null,37,33,"woensdagavondlopers",3.7125810185185182E-2,1.0806365740740741E-2]
[38,23," Reindert Rorije",3.7706712962962963E-2,null,12.530925208572498,null,38,42,"Kinderopvang Pipo",3.7462615740740744E-2,1.1143171296296304E-2]
[39,51," Cees Zwarthoed",3.7781597222222227E-2,null,12.506088538842578,null,39,23,"Seaconcept",3.7706712962962963E-2,1.1387268518518522E-2]
[40,44," Gert-Jan Baken",3.8059027777777775E-2,null,12.414925645470305,null,40,51,"Van Urk voeding",3.7781597222222227E-2,1.1462152777777786E-2]
[41,54," Arnoud Kievit",3.8070254629629631E-2,null,12.411264505498179,null,41,44,"Tafelronde Noordoostpolder",3.8059027777777775E-2,1.1739583333333335E-2]
[42,47," Cornelis Romkes",3.8689814814814809E-2,null,12.212516453272707,null,42,54,"De Dijkies",3.8070254629629631E-2,1.1750810185185191E-2]
[43,7," Edwin Wever",3.8807291666666667E-2,null,12.175546906455509,null,43,47,"CrossFit Urk",3.8689814814814809E-2,1.2370370370370368E-2]
[44,18," Wim Kuis",3.9177314814814818E-2,null,12.060550914054097,null,44,7,"ASV Rutten",3.8807291666666667E-2,1.2487847222222227E-2]
[45,40," Matthijs de Vries",3.9434143518518518E-2,null,11.982002342160952,null,45,18,"Fit Fun/ Anytime",3.9177314814814818E-2,1.2857870370370377E-2]
[46,38," Alexander Kooijman",3.9592939814814813E-2,null,11.933945855245657,null,46,40,"Mercatus, lopen op z’n best",3.9434143518518518E-2,1.3114699074074077E-2]
[47,50," Peter-Paul Frijlink",3.9701041666666666E-2,null,11.901450948495265,null,47,38,"Vegterlopers",3.9592939814814813E-2,1.3273495370370373E-2]
[48,16," Wilco van der Sar",3.9838541666666664E-2,null,11.860373905085632,null,48,50,"Nick & de rest",3.9701041666666666E-2,1.3381597222222225E-2]
[49,35," Jan Dam",4.0481250000000003E-2,null,11.672070402964334,null,49,16,"Team Nagele",3.9838541666666664E-2,1.3519097222222224E-2]
[50,15," Marianne Slimmen",4.118865740740741E-2,"v",11.471604799505437,null,50,35,"Waterman Onions 2",4.0481250000000003E-2,1.4161805555555563E-2]
[51,28," Wim Waterman",4.1602893518518515E-2,null,11.35738310580917,null,51,28,"Waterman Onions 1",4.1602893518518515E-2,1.5283449074074074E-2]
[52,24," Harjan ter Haar",4.1702314814814817E-2,null,11.330306293504446,null,52,24,"Ter Haar Family & Friends",4.1702314814814817E-2,1.5382870370370377E-2]
[53,43," Wouter de Vries",4.210775462962963E-2,null,11.221211013410809,null,53,43,"Lerøy Seafood NL",4.210775462962963E-2,1.578831018518519E-2]
[54,41," Johann Diermeier",4.2587384259259259E-2,null,11.094834966232284,null,54,41,"Advies en Kies en Runners",4.2587384259259259E-2,1.6267939814814818E-2]

{"sheet":"2M","index":5,"n_rows":58,"n_cols":12,"rows_kept":58,"cut":false,"hidden":false,"merged":[]}
["Etappeuitslag Voorhuys 12-dorpenloop AV NOP 2 april 2022"]
["Uitslag van deze etappe. De tijd is de brutotijd",null,null,null,null,null,null,"Uitslag t/m deze etappe. De tijd is de som van de nettotijden."]
["Luttelgeest - Marknesse",null,null,4.7,"km",null,null,"Luttelgeest - Marknesse"]
["nr","team","Naam loper","Tijd",null,"km/h",null,"nr ","team","Teamnaam","Tijd","∆"]
[1,26," Rob Loman",1.1851736111111113E-2,null,16.523598863270148,null,1,2,"hardloopbegeleidingopmaat/klif 18",3.8121006944444438E-2,0]
[2,51," Jelle Kramer",1.2352314814814814E-2,null,15.853978486563474,null,2,4,"Klif 18",4.1389803240740743E-2,3.2687962962963044E-3]
[3,3," Cornelis Post",1.2374305555555555E-2,null,15.82580391716707,null,3,1,"De Corner",4.1466967592592593E-2,3.3459606481481552E-3]
[4,27," Jeroen van de Berg",1.2566782407407407E-2,null,15.583410851285265,null,4,3,"Quick Jewels",4.2902546296296293E-2,4.7815393518518545E-3]
[5,4," Jeroen Vels ",1.2637615740740739E-2,null,15.496066453580491,null,5,26,"van Vilsteren Marknesse.nl",4.3812569444444449E-2,5.6915625000000108E-3]
[6,1," Jazlin Ruinermans",1.2709953703703704E-2,"v",15.407871491795218,null,6,5,"Dujob",4.5100578703703702E-2,6.9795717592592635E-3]
[7,2," Priscilla Freke",1.3112847222222222E-2,"v",14.934463127234212,null,7,20,"Creil",4.5448541666666675E-2,7.327534722222237E-3]
[8,28," Boguslaw Korcz",1.3118287037037038E-2,null,14.928270191103033,null,8,13,"KLIF18 ladies",4.5929062499999999E-2,7.8080555555555611E-3]
[9,13," Margo Ras",1.3440624999999999E-2,"v",14.570254979462142,null,9,52,"Pool-der run4fun",4.6676157407407409E-2,8.555150462962971E-3]
[10,11," Joost Potters",1.3455787037037039E-2,null,14.553837155292538,null,10,34,"Team 't Voorhuys",4.6823726851851849E-2,8.7027199074074107E-3]
[11,7," Meinder Buynink",1.3908564814814813E-2,null,14.080053257884666,null,11,9,"VAN BLOOIS SPORTADVIES",4.7412696759259257E-2,9.2916898148148186E-3]
[12,6," Siem Sweep",1.3958912037037037E-2,null,14.029269101612703,null,12,39,"Suplacon",4.7815104166666664E-2,9.6940972222222255E-3]
[13,38," Roan Tolsma",1.4101388888888891E-2,null,13.88752092977445,null,13,27,"Running Team Espel",4.8085648148148141E-2,9.964641203703703E-3]
[14,8," Tom Vermunt",1.4434143518518518E-2,null,13.567367754247822,null,14,21,"050media",4.833761574074074E-2,1.0216608796296302E-2]
[15,5," Willem de Vries",1.4608101851851853E-2,null,13.405802842790814,null,15,6,"Running Ruijters",4.8400694444444448E-2,1.0279687500000009E-2]
[16,12," Sarah Visscher",1.4691319444444446E-2,"v",13.329866937675781,null,16,29,"Waterman Onions Pink Ladies",4.8823854166666673E-2,1.0702847222222235E-2]
[17,33," ramon vschendel",1.4915972222222221E-2,null,13.12910284463895,null,17,32,"Ber-di-do",4.8832129629629628E-2,1.071112268518519E-2]
[18,32," Marjanne Sloots",1.492638888888889E-2,"v",13.119940448497255,null,18,22,"Tollebeek in beweging",4.8956863425925923E-2,1.0835856481481485E-2]
[19,44," Rudi Verwer",1.5192939814814815E-2,null,12.889759040733772,null,19,14,"Vivan komt dr’an",4.8969212962962971E-2,1.0848206018518533E-2]
[20,17," Hans Jurgen Knapmann",1.5205324074074074E-2,null,12.879260736523209,null,20,36,"Schol op Urk",4.9404340277777778E-2,1.128333333333334E-2]
[21,47," Jan Pieter Baarssen",1.5333333333333332E-2,null,12.771739130434783,null,21,30,"Autofirst Minnaard ",4.9957395833333341E-2,1.1836388888888903E-2]
[22,41," Karel Kooij",1.536875E-2,null,12.742307170936694,null,22,11,"Kraggenburg 4",4.9959837962962959E-2,1.1838831018518521E-2]
[23,21," Niek Hessels",1.5540509259259259E-2,null,12.601474640649439,null,23,51,"Van Urk voeding",5.0133912037037043E-2,1.2012905092592605E-2]
[24,39," Vera te Riele",1.5548148148148149E-2,"v",12.595283468318247,null,24,12,"Hekwerkwebshop.nl",5.0230173611111109E-2,1.2109166666666671E-2]
[25,19," Selina de Jong ",1.5642592592592593E-2,"v",12.519237599147626,null,25,19,"STC Rutten",5.0522777777777778E-2,1.2401770833333339E-2]
[26,36," Linda de Boer",1.565335648148148E-2,"v",12.510628858737848,null,26,10,"RUN TEAM MARKNESSE",5.0972222222222224E-2,1.2851215277777786E-2]
[27,52," Marcin",1.5790509259259258E-2,null,12.401964377336364,null,27,25,"Hardloop groep Ens",5.1028298611111106E-2,1.2907291666666668E-2]
[28,9," Ylva Snoek",1.5808217592592592E-2,"v",12.388071721956614,null,28,17,"SAMEN ONDER WEG",5.11E-2,1.2978993055555561E-2]
[29,49," Lubbert van Otterloo",1.5831018518518519E-2,null,12.370229565725984,null,29,8,"Hardloopteam Bant",5.1296643518518516E-2,1.3175636574074077E-2]
[30,18," Adriaan Bootsma",1.5845486111111109E-2,null,12.358935027939085,null,30,55,"Fifty-Five",5.1832511574074078E-2,1.3711504629629639E-2]
[31,34," Robbin Gerritsen",1.5868287037037035E-2,null,12.341176642207992,null,31,33,"woensdagavondlopers",5.2041782407407401E-2,1.3920775462962963E-2]
[32,50," Jantine van der Linde",1.5943171296296296E-2,"v",12.28321076741029,null,32,46,"Hoekstra Assurantie B.V.",5.204436342592593E-2,1.3923356481481491E-2]
[33,43," Peter Lens",1.6007175925925928E-2,null,12.234096397738282,null,33,42,"Kinderopvang Pipo",5.2209178240740742E-2,1.4088171296296303E-2]
[34,23," Auke Pasterkamp",1.6110532407407407E-2,null,12.155609037680952,null,34,49,"Flynth",5.2408912037037042E-2,1.4287905092592604E-2]
[35,20," Kris van Valburg",1.6119212962962964E-2,"v",12.149062971207007,null,35,37,"Van Staveren",5.2460300925925921E-2,1.4339293981481482E-2]
[36,14," Paul Benjamins",1.6245138888888889E-2,null,12.054888214423119,null,36,7,"ASV Rutten",5.2715856481481478E-2,1.459484953703704E-2]
[37,10," Bennie Janssen",1.6292824074074074E-2,null,12.019606450237978,null,37,56,"De Broodlopers",5.2950497685185186E-2,1.4829490740740747E-2]
[38,42," Cynthia",1.6385069444444445E-2,"v",11.951937951641272,null,38,15,"Aves",5.299802083333334E-2,1.4877013888888901E-2]
[39,29," Isabel van Kuijk",1.6663194444444446E-2,"v",11.752448426755574,null,39,44,"Tafelronde Noordoostpolder",5.325196759259259E-2,1.5130960648148152E-2]
[40,24," Alko Tolner",1.6823842592592592E-2,null,11.640226200140344,null,40,38,"Vegterlopers",5.3694328703703706E-2,1.5573321759259268E-2]
[41,35," Sylwia Lidwa",1.7157291666666664E-2,"v",11.414000364276609,null,41,23,"Seaconcept",5.3817245370370373E-2,1.5696238425925935E-2]
[42,16," Margo Hanson",1.7504861111111113E-2,"v",11.187368588090608,null,42,54,"De Dijkies",5.3968900462962967E-2,1.5847893518518529E-2]
[43,40," Judith de Visser",1.7595023148148151E-2,"v",11.130041244301772,null,43,47,"CrossFit Urk",5.402314814814814E-2,1.5902141203703701E-2]
[44,54," Anneleen Dijkstra",1.7665162037037038E-2,"v",11.085849816873816,null,44,50,"Nick & de rest",5.4049895833333333E-2,1.5928888888888895E-2]
[45,15," Greta Procee",1.7698032407407409E-2,"v",11.065260184028617,null,45,31,"fam.Dekker Draaft Door",5.4214687499999997E-2,1.6093680555555559E-2]
[46,37," Pim Meijer",1.7752314814814815E-2,null,11.031425218411789,null,46,28,"Waterman Onions 1",5.4721180555555554E-2,1.6600173611111116E-2]
[47,25," Ingrid Dohmen",1.8171875000000001E-2,"v",10.776726855832617,null,47,18,"Fit Fun/ Anytime",5.502280092592593E-2,1.6901793981481492E-2]
[48,22," Trudy van der Pol",1.8514699074074072E-2,"v",10.577181543693388,null,48,40,"Mercatus, lopen op z’n best",5.5269664351851849E-2,1.7148657407407411E-2]
[49,30," Kyra Ronner",1.8695601851851852E-2,"v",10.474834396087415,null,49,16,"Team Nagele",5.5592916666666665E-2,1.7471909722222227E-2]
[50,55," Anneke Aarnink",1.9052199074074076E-2,"v",10.278778453444788,null,50,35,"Waterman Onions 2",5.5922812500000002E-2,1.7801805555555564E-2]
[51,31," Iris Vroegop",1.927210648148148E-2,"v",10.161490832437497,null,51,41,"Advies en Kies en Runners",5.7956134259259259E-2,1.9835127314814821E-2]
[52,46," Wilma Harteveld",1.9401273148148147E-2,"v",10.093839297965125,null,52,43,"Lerøy Seafood NL",5.8114930555555555E-2,1.9993923611111117E-2]
[53,56," Meghan van Lent",1.9706828703703706E-2,"v",9.9373337170444067,null,53,45,"Berechja College ",5.8418518518518522E-2,2.0297511574074084E-2]
[54,45," John Dam",2.1527777777777781E-2,null,9.0967741935483861,null,54,24,"Ter Haar Family & Friends",5.8526157407407409E-2,2.040515046296297E-2]

{"sheet":"3K","index":6,"n_rows":58,"n_cols":12,"rows_kept":58,"cut":false,"hidden":false,"merged":[]}
["Etappeuitslag Voorhuys 12-dorpenloop AV NOP 2 april 2022"]
["Uitslag van deze etappe. De tijd is de brutotijd",null,null,null,null,null,null,"Uitslag t/m deze etappe. De tijd is de som van de nettotijden."]
["Marknesse - Kraggenburg",null,null,5.72,"km",null,null,"Marknesse - Kraggenburg"]
["nr","team","Naam loper","Tijd",null,"km/h",null,"nr ","team","Teamnaam","Tijd","∆"]
[1,2," Thomas Straathof",1.3798263888888889E-2,null,17.272704396185105,null,1,2,"hardloopbegeleidingopmaat/klif 18",5.1919270833333329E-2,0]
[2,8," Max Bouma",1.4382060185185183E-2,null,16.571571128511764,null,2,4,"Klif 18",5.6034479166666672E-2,4.1152083333333422E-3]
[3,4," Lucas Rustenburg",1.4644675925925927E-2,null,16.274401327748357,null,3,1,"De Corner",5.7334050925925931E-2,5.4147800925926012E-3]
[4,6," Menno Ruijter",1.5308680555555556E-2,null,15.56850915194266,null,4,3,"Quick Jewels",5.9853703703703701E-2,7.9344328703703712E-3]
[5,37," Robin Boersma",1.5348148148148147E-2,null,15.528474903474903,null,5,26,"van Vilsteren Marknesse.nl",6.1428888888888894E-2,9.5096180555555646E-3]
[6,10," Chris Berndsen",1.5559722222222223E-2,null,15.317325716325982,null,6,5,"Dujob",6.2820717592592584E-2,1.0901446759259255E-2]
[7,47," Kobus Bos",1.5722453703703704E-2,null,15.158787414790712,null,7,13,"KLIF18 ladies",6.3383020833333331E-2,1.1463750000000002E-2]
[8,7," Ruud Burger",1.6017245370370369E-2,null,14.879795359457761,null,8,20,"Creil",6.3421041666666678E-2,1.1501770833333348E-2]
[9,11," Jesper Oosterwijk",1.6712847222222223E-2,null,14.26048656846654,null,9,6,"Running Ruijters",6.3709374999999999E-2,1.1790104166666669E-2]
[10,36," Juan Tol",1.6892592592592594E-2,null,14.108748081561059,null,10,32,"Ber-di-do",6.4902337962962964E-2,1.2983067129629634E-2]
[11,49," Stephan Wiersma",1.6913888888888891E-2,null,14.090983741172604,null,11,34,"Team 't Voorhuys",6.5001018518518514E-2,1.3081747685185184E-2]
[12,3," Pieter Buter",1.6951157407407408E-2,null,14.060003550505947,null,12,8,"Hardloopteam Bant",6.5678703703703697E-2,1.3759432870370368E-2]
[13,46," Tim Brouwer",1.7480671296296296E-2,null,13.634106453556507,null,13,21,"050media",6.6031712962962966E-2,1.4112442129629636E-2]
[14,26," Mark",1.7616319444444445E-2,null,13.529121907953089,null,14,39,"Suplacon",6.6158391203703704E-2,1.4239120370370374E-2]
[15,1," Agnes Olgers",1.7630092592592593E-2,"v",13.518552559018932,null,15,14,"Vivan komt dr’an",6.6180046296296313E-2,1.4260775462962984E-2]
[16,21," Arjen Hollenga",1.7694097222222222E-2,null,13.469652073235345,null,16,36,"Schol op Urk",6.6296932870370376E-2,1.4377662037037046E-2]
[17,5," Jan Willem Woord",1.7720138888888889E-2,null,13.449856958106359,null,17,9,"VAN BLOOIS SPORTADVIES",6.6405983796296295E-2,1.4486712962962965E-2]
[18,32," Afke Kruis",1.7855787037037038E-2,"v",13.347680101637344,null,18,10,"RUN TEAM MARKNESSE",6.6531944444444449E-2,1.461267361111112E-2]
[19,18," Henk Pals",1.7901273148148149E-2,null,13.313764409990494,null,19,27,"Running Team Espel",6.6623842592592589E-2,1.4704571759259259E-2]
[20,25," Frans Koeslag",1.8083217592592595E-2,null,13.179807858473234,null,20,11,"Kraggenburg 4",6.6672685185185182E-2,1.4753414351851853E-2]
[21,33," Linda Schwering",1.8134606481481481E-2,"v",13.142459615912383,null,21,37,"Van Staveren",6.7808449074074073E-2,1.5889178240740744E-2]
[22,43," Jelle Romkes",1.8336805555555554E-2,null,12.997538345010415,null,22,52,"Pool-der run4fun",6.7950115740740752E-2,1.6030844907407422E-2]
[23,39," Adrian Gliwka",1.8343287037037036E-2,null,12.992945749151344,null,23,33,"woensdagavondlopers",6.8362928240740736E-2,1.6443657407407407E-2]
[24,27," Piet Veeke",1.8538194444444444E-2,null,12.856340138602734,null,24,22,"Tollebeek in beweging",6.8444594907407411E-2,1.6525324074074081E-2]
[25,12," Adriaan Tiemen de Boer",1.8576273148148147E-2,null,12.829986479666539,null,25,51,"Van Urk voeding",6.8723842592592593E-2,1.6804571759259264E-2]
[26,51," Albert Ras",1.8589930555555554E-2,null,12.820560712751453,null,26,7,"ASV Rutten",6.8733101851851844E-2,1.6813831018518514E-2]
[27,54," Esmee Dijkstra",1.8773032407407405E-2,"v",12.695516001948226,null,27,30,"Autofirst Minnaard ",6.8778807870370384E-2,1.6859537037037055E-2]
[28,30," Maikel Minnaard",1.8821412037037036E-2,null,12.662882724438404,null,28,12,"Hekwerkwebshop.nl",6.880644675925926E-2,1.688717592592593E-2]
[29,17," Gerben Eenkhoorn",1.8851504629629628E-2,null,12.642669007901668,null,29,25,"Hardloop groep Ens",6.9111516203703705E-2,1.7192245370370375E-2]
[30,15," Jaqueline Koets",1.8970138888888887E-2,"v",12.56360508108504,null,30,49,"Flynth",6.9322800925925937E-2,1.7403530092592608E-2]
[31,9," Kees Regelink",1.8993287037037034E-2,null,12.548293134757651,null,31,46,"Hoekstra Assurantie B.V.",6.9525034722222226E-2,1.7605763888888896E-2]
[32,44," Arjan Vaandrager",1.9039930555555556E-2,null,12.517552657973921,null,32,47,"CrossFit Urk",6.9745601851851843E-2,1.7826331018518514E-2]
[33,14," Anna Heemskerk",1.912314814814815E-2,"v",12.463080424151453,null,33,17,"SAMEN ONDER WEG",6.9951504629629624E-2,1.8032233796296294E-2]
[34,13," Barbara Kaptein",1.9393287037037035E-2,"v",12.289475882977834,null,34,15,"Aves",7.0071145833333334E-2,1.8151875000000005E-2]
[35,56," Erwin Koolhof",1.9473611111111112E-2,null,12.238784680122672,null,35,54,"De Dijkies",7.0864629629629639E-2,1.8945358796296309E-2]
[36,22," Jacco van Breugel",1.9487731481481484E-2,null,12.229916732987276,null,36,29,"Waterman Onions Pink Ladies",7.0915833333333345E-2,1.8996562500000015E-2]
[37,20," Corine Boonen",1.9969444444444446E-2,"v",11.934900542495479,null,37,42,"Kinderopvang Pipo",7.1105844907407401E-2,1.9186574074074071E-2]
[38,45," Maarten Post",2.0160416666666667E-2,"v",11.821845613309909,null,38,19,"STC Rutten",7.2062986111111116E-2,2.0143715277777786E-2]
[39,34," Daphne Hellendoorn",2.0196990740740741E-2,"v",11.800437817331606,null,39,44,"Tafelronde Noordoostpolder",7.2291898148148154E-2,2.0372627314814824E-2]
[40,28," Naomi Waterman",2.0595949074074072E-2,"v",11.571854857290573,null,40,56,"De Broodlopers",7.2424108796296294E-2,2.0504837962962964E-2]
[41,23," Hans Hamersma",2.0759722222222221E-2,null,11.480564661805044,null,41,18,"Fit Fun/ Anytime",7.2924074074074086E-2,2.1004803240740756E-2]
[42,38," Cor Vegterlo",2.0981828703703704E-2,null,11.359035320465791,null,42,28,"Waterman Onions 1",7.3257534722222212E-2,2.1338263888888882E-2]
[43,42," Judith",2.0996296296296294E-2,"v",11.35120832598342,null,43,50,"Nick & de rest",7.3273333333333329E-2,2.13540625E-2]
[44,50," Floortje Ruijter",2.1359375E-2,"v",11.158254084369666,null,44,23,"Seaconcept",7.4576967592592594E-2,2.2657696759259265E-2]
[45,35," Taco ten Brinke",2.1390509259259258E-2,null,11.142013050959342,null,45,38,"Vegterlopers",7.4676157407407406E-2,2.2756886574074077E-2]
[46,40," Johan van Buiten",2.1494675925925924E-2,null,11.088017058487782,null,46,55,"Fifty-Five",7.4915034722222232E-2,2.2995763888888902E-2]
[47,16," Corine de Vries",2.169548611111111E-2,"v",10.985388025542948,null,47,16,"Team Nagele",7.5118854166666665E-2,2.3199583333333336E-2]
[48,41," Peter Haikens",2.1821296296296297E-2,null,10.922052021895022,null,48,43,"Lerøy Seafood NL",7.6451736111111113E-2,2.4532465277777783E-2]
[49,24," Denise Lassche",2.1935648148148149E-2,"v",10.865114708427429,null,49,45,"Berechja College ",7.6562893518518527E-2,2.4643622685185197E-2]
[50,31," Henk Dekker",2.2381250000000002E-2,null,10.648794563902074,null,50,31,"fam.Dekker Draaft Door",7.6595937500000003E-2,2.4676666666666673E-2]
[51,55," Bauke Hoekstra",2.3082523148148151E-2,null,10.325272146535426,null,51,40,"Mercatus, lopen op z’n best",7.6764340277777773E-2,2.4845069444444444E-2]
[52,52," Magda",2.3637731481481485E-2,"v",10.082749840865688,null,52,35,"Waterman Onions 2",7.7313321759259257E-2,2.5394050925925928E-2]
[53,19," Andrina Weerman",2.3933564814814817E-2,"v",9.9581209559641355,null,53,24,"Ter Haar Family & Friends",7.8268240740740735E-2,2.6348969907407406E-2]
[54,29," Vroukje Romkes",2.4546643518518516E-2,"v",9.7094062230353213,null,54,41,"Advies en Kies en Runners",7.9777430555555556E-2,2.7858159722222227E-2]

{"sheet":"4E","index":7,"n_rows":58,"n_cols":12,"rows_kept":58,"cut":false,"hidden":false,"merged":[]}
["Etappeuitslag Voorhuys 12-dorpenloop AV NOP 2 april 2022"]
["Uitslag van deze etappe. De tijd is de brutotijd",null,null,null,null,null,null,"Uitslag t/m deze etappe. De tijd is de som van de nettotijden."]
["Kraggenburg - Ens",null,null,6.34,"km",null,null,"Kraggenburg - Ens"]
["nr","team","Naam loper","Tijd",null,"km/h",null,"nr ","team","Teamnaam","Tijd","∆"]
[1,2," Nathan Uitslag",1.5488078703703704E-2,null,17.056128892442665,null,1,2,"hardloopbegeleidingopmaat/klif 18",6.7407349537037031E-2,0]
[2,4," Kees Kramer ",1.5759374999999999E-2,null,16.762509088505521,null,2,4,"Klif 18",7.1793854166666671E-2,4.3865046296296395E-3]
[3,6," Nick Ruijter",1.5955787037037036E-2,null,16.556166490156539,null,3,1,"De Corner",7.3594675925925931E-2,6.1873263888889002E-3]
[4,25," Riekus Nijmijer",1.612210648148148E-2,null,16.385369180516172,null,4,3,"Quick Jewels",7.7452662037037032E-2,1.00453125E-2]
[5,8," Dennis Seine",1.6409722222222221E-2,null,16.098180279305968,null,5,26,"van Vilsteren Marknesse.nl",7.9078425925925927E-2,1.1671076388888896E-2]
[6,3," Geert Hemelrijk",1.7598958333333331E-2,null,15.010358094110686,null,6,6,"Running Ruijters",7.9665162037037038E-2,1.2257812500000007E-2]
[7,26," Gaston",1.7649537037037036E-2,null,14.967342549117332,null,7,5,"Dujob",8.0741550925925915E-2,1.3334201388888883E-2]
[8,17," Rene Vernooy",1.7690046296296294E-2,null,14.933068135721857,null,8,8,"Hardloopteam Bant",8.2088425925925912E-2,1.4681076388888881E-2]
[9,5," Johan Berkhout",1.7920833333333334E-2,null,14.740757963264356,null,9,13,"KLIF18 ladies",8.2433958333333335E-2,1.5026608796296304E-2]
[10,1," Jolijn Zijlstra",1.806736111111111E-2,"v",14.621209209363109,null,10,21,"050media",8.4506504629629636E-2,1.7099155092592605E-2]
[11,12," Simon Bakker",1.8894560185185184E-2,null,13.981096361999155,null,11,25,"Hardloop groep Ens",8.5233622685185181E-2,1.782627314814815E-2]
[12,10," Joan Scholtens",1.9411342592592591E-2,null,13.608881786851427,null,12,32,"Ber-di-do",8.5414375000000001E-2,1.8007025462962969E-2]
[13,14," Richard Heemskerk",1.9897453703703702E-2,null,13.276405644682807,null,13,11,"Kraggenburg 4",8.5425497685185176E-2,1.8018148148148144E-2]
[14,18," Klaas Doornbos",2.0041782407407407E-2,null,13.18079706169403,null,14,10,"RUN TEAM MARKNESSE",8.5943287037037047E-2,1.8535937500000016E-2]
[15,39," Jory Cornelis",2.0114814814814815E-2,null,13.132940526606518,null,15,20,"Creil",8.6018842592592598E-2,1.8611493055555567E-2]
[16,54," Ryon Dijkstra",2.0157523148148147E-2,null,13.105115381744479,null,16,14,"Vivan komt dr’an",8.6077500000000015E-2,1.8670150462962984E-2]
[17,42," Jarno",2.0164004629629629E-2,null,13.100902896961836,null,17,39,"Suplacon",8.6273206018518511E-2,1.886585648148148E-2]
[18,47," Hassan Hajji",2.021111111111111E-2,null,13.070368334249588,null,18,9,"VAN BLOOIS SPORTADVIES",8.6388587962962962E-2,1.8981238425925931E-2]
[19,37," Jorn Goos",2.0295717592592591E-2,null,13.015882067805309,null,19,36,"Schol op Urk",8.6568287037037034E-2,1.9160937500000003E-2]
[20,29," Albert Jan van Dokkum",2.0398726851851852E-2,null,12.950154614315299,null,20,34,"Team 't Voorhuys",8.6762581018518511E-2,1.935523148148148E-2]
[21,40," Vincent v/d Weerd",2.0425231481481482E-2,null,12.933349955234199,null,21,27,"Running Team Espel",8.7263541666666666E-2,1.9856192129629635E-2]
[22,46," Louwe Kapitein",2.0453009259259258E-2,null,12.915784827461323,null,22,17,"SAMEN ONDER WEG",8.7641550925925918E-2,2.0234201388888887E-2]
[23,7," Erik Groen",2.0503703703703705E-2,null,12.883851156069364,null,23,12,"Hekwerkwebshop.nl",8.7701006944444437E-2,2.0293657407407406E-2]
[24,32," Gerrit Knoeff",2.0512037037037037E-2,null,12.878616891617387,null,24,33,"woensdagavondlopers",8.7815219907407399E-2,2.0407870370370368E-2]
[25,31," Michiel Tensen",2.0520717592592594E-2,null,12.873169053406956,null,25,37,"Van Staveren",8.8104166666666664E-2,2.0696817129629633E-2]
[26,21," Esther Rijkelijkhuizen",2.0527546296296297E-2,"v",12.868886658622673,null,26,52,"Pool-der run4fun",8.8183657407407412E-2,2.0776307870370381E-2]
[27,44," Melvin Kok",2.0571990740740741E-2,null,12.841084268208977,null,27,51,"Van Urk voeding",8.8195092592592589E-2,2.0787743055555558E-2]
[28,27," Pim de Wit",2.0639699074074074E-2,null,12.798959215374003,null,28,7,"ASV Rutten",8.9236805555555548E-2,2.1829456018518517E-2]
[29,24," Niek ter Haar",2.0768402777777778E-2,null,12.719642886997809,null,29,22,"Tollebeek in beweging",8.9563460648148158E-2,2.2156111111111126E-2]
[30,11," Jolien Scholtens",2.0836458333333332E-2,"v",12.678098285257212,null,30,47,"CrossFit Urk",8.9956712962962954E-2,2.2549363425925922E-2]
[31,56," Berend Groen",2.0912384259259259E-2,null,12.632068318546848,null,31,46,"Hoekstra Assurantie B.V.",8.9978043981481487E-2,2.2570694444444456E-2]
[32,50," Gerard van Etten",2.0958680555555553E-2,null,12.604164940938686,null,32,49,"Flynth",9.058819444444445E-2,2.3180844907407419E-2]
[33,22," Jannes de Vries",2.111886574074074E-2,null,12.508563192248461,null,33,54,"De Dijkies",9.1022152777777782E-2,2.361480324074075E-2]
[34,13," Jamie Jongman",2.1167708333333334E-2,"v",12.47970080212588,null,34,30,"Autofirst Minnaard ",9.1082280092592616E-2,2.3674930555555584E-2]
[35,49," Rick Steller",2.1265393518518517E-2,null,12.422373770634563,null,35,42,"Kinderopvang Pipo",9.1269849537037026E-2,2.3862499999999995E-2]
[36,33," annette hazenberg",2.1613657407407408E-2,"v",12.2222103222628,null,36,29,"Waterman Onions Pink Ladies",9.131456018518519E-2,2.3907210648148158E-2]
[37,51," Jeannette",2.1634722222222222E-2,"v",12.210310072542852,null,37,44,"Tafelronde Noordoostpolder",9.2863888888888899E-2,2.5456539351851867E-2]
[38,16," Erwin Bogaard",2.1662152777777777E-2,null,12.194848285700546,null,38,18,"Fit Fun/ Anytime",9.2965856481481493E-2,2.5558506944444462E-2]
[39,28," Wilco Besuijen",2.2040856481481481E-2,null,11.98531767078185,null,39,56,"De Broodlopers",9.3336493055555553E-2,2.5929143518518522E-2]
[40,38," Anne Vegterlo",2.2085763888888887E-2,"v",11.960947694436147,null,40,15,"Aves",9.3613043981481486E-2,2.6205694444444455E-2]
[41,9," Annie van der Linde",2.2202893518518518E-2,"v",11.89784864960669,null,41,50,"Nick & de rest",9.4232013888888883E-2,2.6824664351851851E-2]
[42,23," Hans van Eunen",2.2295833333333334E-2,null,11.848252663053634,null,42,38,"Vegterlopers",9.4553344907407411E-2,2.7145995370370379E-2]
[43,30," Rocus de Bruijne",2.2303472222222225E-2,null,11.844194663262446,null,43,19,"STC Rutten",9.5186840277777782E-2,2.777949074074075E-2]
[44,52," Gabi",2.248171296296296E-2,"v",11.750290874270242,null,44,28,"Waterman Onions 1",9.5298391203703689E-2,2.7891041666666658E-2]
[45,36," Geraldine Molenaar",2.252372685185185E-2,"v",11.728372857840242,null,45,16,"Team Nagele",9.6781006944444442E-2,2.9373657407407411E-2]
[46,20," Arjan Harkema",2.2597800925925927E-2,null,11.689928039130322,null,46,23,"Seaconcept",9.6872800925925928E-2,2.9465451388888897E-2]
[47,15," Molle Stuiver",2.3541898148148145E-2,null,11.221128602471953,null,47,31,"fam.Dekker Draaft Door",9.7116655092592596E-2,2.9709305555555565E-2]
[48,43," Ruben Geerts",2.3675694444444444E-2,null,11.157715660106181,null,48,40,"Mercatus, lopen op z’n best",9.7189571759259255E-2,2.9782222222222224E-2]
[49,35," Henry Dam",2.3940046296296293E-2,null,11.034509432320323,null,49,45,"Berechja College ",9.862820601851853E-2,3.1220856481481499E-2]
[50,34," Vera Ton",2.4179513888888886E-2,"v",10.925226531872426,null,50,24,"Ter Haar Family & Friends",9.9036643518518513E-2,3.1629293981481482E-2]
[51,45," Trudie de Vries",2.451701388888889E-2,"v",10.774830404056139,null,51,55,"Fifty-Five",0.10011836805555557,3.2711018518518542E-2]
[52,41," Anneke Keizer",2.4866782407407403E-2,"v",10.623274951244829,null,52,43,"Lerøy Seafood NL",0.10012743055555556,3.2720081018518532E-2]
[53,19," Ulrike Weerman",2.5693171296296294E-2,"v",10.281590529260459,null,53,35,"Waterman Onions 2",0.10125336805555554,3.3846018518518511E-2]
[54,55," Yke van der Vegt",2.8003703703703704E-2,"v",9.4332760216902525,null,54,41,"Advies en Kies en Runners",0.10215753472222222,3.475018518518519E-2]

{"sheet":"5N","index":8,"n_rows":58,"n_cols":12,"rows_kept":58,"cut":false,"hidden":false,"merged":[]}
["Etappeuitslag Voorhuys 12-dorpenloop AV NOP 2 april 2022"]
["Uitslag van deze etappe. De tijd is de brutotijd",null,null,null,null,null,null,"Uitslag t/m deze etappe. De tijd is de som van de nettotijden."]
["Ens - Nagele",null,null,7.78,"km",null,null,"Ens - Nagele"]
["nr","team","Naam loper","Tijd",null,"km/h",null,"nr ","team","Teamnaam","Tijd","∆"]
[1,2," Vincent Lankhaar",1.8119444444444441E-2,null,17.890541162042009,null,1,2,"hardloopbegeleidingopmaat/klif 18",8.5526793981481469E-2,0]
[2,6," Robin Ruijter",1.8857638888888889E-2,null,17.190204382250048,null,2,4,"Klif 18",9.0864918981481482E-2,5.338125000000013E-3]
[3,1," Jacob Snoek",1.9000115740740741E-2,null,17.06129957785345,null,3,1,"De Corner",9.2594791666666676E-2,7.0679976851852067E-3]
[4,4," Jan Sinke",1.9071064814814815E-2,null,16.997827327126853,null,4,6,"Running Ruijters",9.8522800925925927E-2,1.2996006944444458E-2]
[5,3," Leon Brands",2.1358680555555554E-2,null,15.177279599434268,null,5,3,"Quick Jewels",9.8811342592592583E-2,1.3284548611111113E-2]
[6,32," Gerwin Dibbits",2.1879166666666668E-2,null,14.816225480860787,null,6,5,"Dujob",0.10390069444444444,1.8373900462962972E-2]
[7,18," Tim",2.199351851851852E-2,null,14.73919083905191,null,7,26,"van Vilsteren Marknesse.nl",0.1054320138888889,1.9905219907407429E-2]
[8,19," Sietse de Vries ",2.2046643518518514E-2,null,14.703674343642218,null,8,8,"Hardloopteam Bant",0.10568564814814813,2.0158854166666657E-2]
[9,10," Peter Schwering",2.2092592592592594E-2,null,14.67309304274937,null,9,20,"Creil",0.1070135300925926,2.1486736111111127E-2]
[10,25," Joost Maaskant",2.2174652777777776E-2,null,14.618793354524531,null,10,32,"Ber-di-do",0.10729354166666667,2.1766747685185203E-2]
[11,22," Eric Pelleboer",2.2237268518518521E-2,null,14.577629729870399,null,11,25,"Hardloop groep Ens",0.10740827546296296,2.1881481481481488E-2]
[12,44," Hans Langedijk",2.2421412037037038E-2,null,14.45790595753687,null,12,13,"KLIF18 ladies",0.10762291666666668,2.209612268518521E-2]
[13,34," Twan Hakvoort",2.2989236111111113E-2,null,14.100802005769607,null,13,21,"050media",0.1078089351851852,2.2282141203703726E-2]
[14,5," Jan Bakker",2.3159143518518523E-2,null,13.997351258152376,null,14,10,"RUN TEAM MARKNESSE",0.10803587962962964,2.2509085648148172E-2]
[15,21," Sebastiaan Bakker",2.3302430555555559E-2,null,13.911281310068393,null,15,11,"Kraggenburg 4",0.10929540509259258,2.3768611111111115E-2]
[16,20," Iris Bakker",2.3327430555555556E-2,"v",13.896372594257477,null,16,34,"Team 't Voorhuys",0.10975181712962963,2.4225023148148159E-2]
[17,45," Sjoert Visser",2.3501388888888888E-2,null,13.793511021807223,null,17,27,"Running Team Espel",0.10981125,2.428445601851853E-2]
[18,52," Maciek",2.3589236111111109E-2,null,13.742143456437583,null,18,14,"Vivan komt dr’an",0.11005550925925928,2.4528715277777807E-2]
[19,8," Han van Wegen",2.3597222222222217E-2,null,13.737492642731022,null,19,7,"ASV Rutten",0.11125586805555555,2.5729074074074085E-2]
[20,40," Ben Wentink",2.3786689814814816E-2,null,13.628069697397295,null,20,52,"Pool-der run4fun",0.11177289351851852,2.6246099537037049E-2]
[21,11," Mike Temmink",2.3869907407407409E-2,null,13.580558195465388,null,21,22,"Tollebeek in beweging",0.11180072916666668,2.6273935185185213E-2]
[22,14," Erwin van Loo",2.3978009259259261E-2,null,13.519331949606602,null,22,17,"SAMEN ONDER WEG",0.11275462962962962,2.7227835648148152E-2]
[23,7," Gwendolien Flokstra",2.4465625000000001E-2,"v",13.249882913952399,null,23,37,"Van Staveren",0.11288877314814814,2.7361979166666675E-2]
[24,29," Bonnette van den Berg",2.4607060185185187E-2,"v",13.17372592366125,null,24,9,"VAN BLOOIS SPORTADVIES",0.11308326388888888,2.7556469907407413E-2]
[25,37," Stefan Wisse",2.478460648148148E-2,null,13.079354998388897,null,25,29,"Waterman Onions Pink Ladies",0.11346091435185186,2.7934120370370394E-2]
[26,54," Peter Smid",2.4796874999999999E-2,null,13.072883847931108,null,26,51,"Van Urk voeding",0.1139624537037037,2.8435659722222228E-2]
[27,27," Petra Kramer",2.5053009259259258E-2,"v",12.93923070526384,null,27,12,"Hekwerkwebshop.nl",0.1139670949074074,2.8440300925925935E-2]
[28,17," Raimond Lubbers",2.5113078703703703E-2,null,12.908280601169709,null,28,36,"Schol op Urk",0.1143292824074074,2.8802488425925935E-2]
[29,51," Rinke",2.5767361111111109E-2,null,12.580514755423799,null,29,39,"Suplacon",0.1144277199074074,2.8900925925925927E-2]
[30,42," Enrico",2.6057754629629629E-2,null,12.44031465006063,null,30,18,"Fit Fun/ Anytime",0.11495937500000002,2.9432581018518547E-2]
[31,31," Luuk Vroegop",2.6185416666666669E-2,null,12.379664253321664,null,31,44,"Tafelronde Noordoostpolder",0.11528530092592594,2.9758506944444471E-2]
[32,12," Dubbele de Boer",2.6266087962962963E-2,null,12.341642467799717,null,32,33,"woensdagavondlopers",0.11557008101851851,3.0043287037037042E-2]
[33,26," Addy Peters",2.6353587962962968E-2,null,12.300665363754144,null,33,54,"De Dijkies",0.11581902777777778,3.0292233796296308E-2]
[34,9," Egon Boerema",2.6694675925925924E-2,null,12.143495113639322,null,34,19,"STC Rutten",0.11723348379629629,3.1706689814814823E-2]
[35,30," Ryan Bennik",2.6740277777777779E-2,null,12.12278605931543,null,35,47,"CrossFit Urk",0.11732233796296296,3.1795543981481489E-2]
[36,50," Jarno Steenbergen",2.6811921296296296E-2,null,12.090393041376185,null,36,42,"Kinderopvang Pipo",0.11732760416666665,3.1800810185185185E-2]
[37,49," Theo van Steeg",2.6864004629629634E-2,null,12.066952456862195,null,37,49,"Flynth",0.11745219907407409,3.1925405092592618E-2]
[38,24," Marc Bakker",2.6872337962962966E-2,null,12.063210395517212,null,38,46,"Hoekstra Assurantie B.V.",0.11768579861111111,3.2159004629629645E-2]
[39,41," Nico Keizer",2.69443287037037E-2,null,12.030979514516817,null,39,30,"Autofirst Minnaard ",0.1178225578703704,3.2295763888888926E-2]
[40,28," Pieter Kuyper",2.7035069444444445E-2,null,11.990598630893516,null,40,40,"Mercatus, lopen op z’n best",0.12097626157407407,3.5449467592592598E-2]
[41,47," Rinke Oost",2.7365625000000001E-2,null,11.845761486049255,null,41,50,"Nick & de rest",0.12104393518518518,3.5517141203703709E-2]
[42,38," Pim van der Maden",2.7696643518518516E-2,null,11.704185976539812,null,42,15,"Aves",0.12136315972222222,3.5836365740740755E-2]
[43,46," Jelle de Boer",2.7707754629629627E-2,null,11.69949247060298,null,43,56,"De Broodlopers",0.12209795138888889,3.657115740740742E-2]
[44,15," Chris de Boer",2.7750115740740738E-2,null,11.681632959488825,null,44,45,"Berechja College ",0.12212959490740742,3.6602800925925952E-2]
[45,33," frens heijn",2.7754861111111112E-2,null,11.679635699452048,null,45,38,"Vegterlopers",0.12224998842592592,3.6723194444444454E-2]
[46,36," Jan Pieter Schaak",2.776099537037037E-2,null,11.677054887327762,null,46,28,"Waterman Onions 1",0.12233346064814814,3.6806666666666668E-2]
[47,35," Phensri Schouten",2.7798958333333335E-2,"v",11.661108404841308,null,47,16,"Team Nagele",0.12305465277777777,3.7527858796296304E-2]
[48,55," Siewert de Jong",2.7907060185185184E-2,null,11.615937490927642,null,48,31,"fam.Dekker Draaft Door",0.12330207175925927,3.7775277777777796E-2]
[49,13," Marja Kramer",2.7987731481481485E-2,"v",11.582455937207936,null,49,24,"Ter Haar Family & Friends",0.12590898148148147,4.03821875E-2]
[50,39," Otis Robert",2.8154513888888885E-2,null,11.513843497564286,null,50,35,"Waterman Onions 2",0.12627243055555554,4.0745636574074068E-2]
[51,56," Stefan de Goede",2.8761458333333333E-2,null,11.2708703053131,null,51,23,"Seaconcept",0.12681620370370369,4.1289409722222226E-2]
[52,16," Janine Bernard",2.9192939814814814E-2,"v",11.104283046620704,null,52,55,"Fifty-Five",0.12802542824074076,4.2498634259259288E-2]
[53,23," Lesley de Visser",2.9943402777777777E-2,null,10.825979567934878,null,53,41,"Advies en Kies en Runners",0.12910186342592592,4.3575069444444448E-2]
[54,43," Willem de Vries",3.1404282407407405E-2,null,10.322371403404674,null,54,43,"Lerøy Seafood NL",0.13153171296296295,4.6004918981481485E-2]

{"sheet":"6T","index":9,"n_rows":58,"n_cols":12,"rows_kept":58,"cut":false,"hidden":false,"merged":[]}
["Etappeuitslag Voorhuys 12-dorpenloop AV NOP 2 april 2022"]
["Uitslag van deze etappe. De tijd is de brutotijd",null,null,null,null,null,null,"Uitslag t/m deze etappe. De tijd is de som van de nettotijden."]
["Nagele - Tollebeek",null,null,5.31,"km",null,null,"Nagele - Tollebeek"]
["nr","team","Naam loper","Tijd",null,"km/h",null,"nr ","team","Teamnaam","Tijd","∆"]
[1,2," Leon Koch",1.2618518518518517E-2,null,17.533754035808631,null,1,2,"hardloopbegeleidingopmaat/klif 18",9.8145312499999984E-2,0]
[2,7," Tom Loman",1.3916203703703701E-2,null,15.898732492764232,null,2,4,"Klif 18",0.1061396875,7.9943750000000119E-3]
[3,52," Sebastian",1.4677199074074075E-2,null,15.074402062912521,null,3,1,"De Corner",0.10763113425925927,9.4858217592592858E-3]
[4,3," Pieter Coenen",1.4771643518518519E-2,null,14.97802189191942,null,4,3,"Quick Jewels",0.1135829861111111,1.5437673611111119E-2]
[5,1," Maurice Mulder",1.5036342592592594E-2,null,14.714349492741349,null,5,6,"Running Ruijters",0.11435960648148148,1.6214293981481498E-2]
[6,47," Jeroen Sleurink",1.5205671296296295E-2,null,14.550492095267817,null,6,5,"Dujob",0.11968101851851852,2.1535706018518536E-2]
[7,20," Andrew Koziarski",1.522337962962963E-2,null,14.533566486733063,null,7,8,"Hardloopteam Bant",0.12178252314814812,2.3637210648148138E-2]
[8,4," Jan Jongman",1.5274768518518516E-2,null,14.484671223119706,null,8,20,"Creil",0.12223690972222223,2.4091597222222247E-2]
[9,5," Kornelius Medendorp",1.5780324074074075E-2,null,14.020624605770781,null,9,26,"van Vilsteren Marknesse.nl",0.12264752314814815,2.4502210648148171E-2]
[10,30," Rémon Jansen",1.5786458333333333E-2,null,14.015176509402837,null,10,32,"Ber-di-do",0.12398393518518519,2.5838622685185206E-2]
[11,14," Rosalie Bakker",1.5815046296296296E-2,"v",13.989842069056365,null,11,14,"Vivan komt dr’an",0.12428905092592595,2.6143738425925961E-2]
[12,6," Anton Ruijter",1.5836805555555555E-2,null,13.970620477965358,null,12,21,"050media",0.12481900462962964,2.6673692129629653E-2]
[13,15," Geert- Jan",1.6352546296296299E-2,null,13.530002972693682,null,13,13,"KLIF18 ladies",0.12506291666666669,2.6917604166666706E-2]
[14,19," Willem de Vries ",1.6363425925925924E-2,null,13.521007214598955,null,14,7,"ASV Rutten",0.12517207175925926,2.7026759259259278E-2]
[15,18," Jan Willem de Boer",1.6457060185185186E-2,null,13.444077952584236,null,15,25,"Hardloop groep Ens",0.12530561342592592,2.7160300925925931E-2]
[16,44," Bart Loman",1.6515277777777778E-2,null,13.396686569674543,null,16,10,"RUN TEAM MARKNESSE",0.12543515046296297,2.7289837962962984E-2]
[17,51," Laurie Ras",1.6659606481481484E-2,"v",13.280625820660138,null,17,52,"Pool-der run4fun",0.1264500925925926,2.8304780092592616E-2]
[18,32," Martin de Jongh ",1.6690393518518521E-2,null,13.256128428279183,null,18,11,"Kraggenburg 4",0.12657896990740741,2.8433657407407428E-2]
[19,49," Chris van Otterloo",1.6883564814814817E-2,null,13.104460013436251,null,19,27,"Running Team Espel",0.12717177083333334,2.9026458333333352E-2]
[20,23," Jaap Post",1.6926504629629632E-2,null,13.071216109952475,null,20,34,"Team 't Voorhuys",0.12740046296296295,2.9255150462962967E-2]
[21,21," Cor Dijkshoorn",1.7010069444444446E-2,null,13.007001571781418,null,21,51,"Van Urk voeding",0.12895609953703704,3.081078703703706E-2]
[22,26," Youri van Vilsteren",1.721550925925926E-2,null,12.851783625337832,null,22,9,"VAN BLOOIS SPORTADVIES",0.12978920138888889,3.1643888888888902E-2]
[23,17," Sjaco Wierda",1.7263657407407405E-2,null,12.815940144008367,null,23,17,"SAMEN ONDER WEG",0.13001828703703702,3.1872974537037038E-2]
[24,11," Rens Hupkes",1.7283564814814814E-2,null,12.801178597736556,null,24,22,"Tollebeek in beweging",0.13067966435185185,3.253435185185187E-2]
[25,16," Niels Poppe",1.7548263888888891E-2,null,12.608084845366943,null,25,29,"Waterman Onions Pink Ladies",0.1309611226851852,3.2815810185185215E-2]
[26,8," Annerieke Doornbos",1.7885416666666664E-2,"v",12.370413511939431,null,26,18,"Fit Fun/ Anytime",0.1314164351851852,3.3271122685185214E-2]
[27,25," Corne Doggen",1.7897337962962962E-2,null,12.362173662801601,null,27,44,"Tafelronde Noordoostpolder",0.13180057870370371,3.3655266203703724E-2]
[28,9," Heleen van Dijke",1.8562152777777778E-2,"v",11.919414878692081,null,28,47,"CrossFit Urk",0.13252800925925926,3.4382696759259271E-2]
[29,22," Corné Boons",1.8878935185185183E-2,null,11.71941096411099,null,29,12,"Hekwerkwebshop.nl",0.13301640046296295,3.4871087962962968E-2]
[30,54," Maarten Faber",1.8991435185185184E-2,null,11.649988420706215,null,30,37,"Van Staveren",0.13308541666666665,3.4940104166666666E-2]
[31,12," Steven Hoefnagel",1.9049305555555555E-2,null,11.614596624257226,null,31,36,"Schol op Urk",0.13357210648148149,3.5426793981481505E-2]
[32,42," Piet",1.9115509259259259E-2,null,11.574371208176412,null,32,19,"STC Rutten",0.13359690972222221,3.5451597222222228E-2]
[33,36," Julian van Bruggen",1.9242824074074075E-2,null,11.497792587424362,null,33,30,"Autofirst Minnaard ",0.13360901620370372,3.5463703703703733E-2]
[34,27," Mariska van Strien",1.9289467592592594E-2,"v",11.469989979659307,null,34,39,"Suplacon",0.13391788194444443,3.5772569444444444E-2]
[35,10," Anke van Oorschot",1.9332523148148147E-2,"v",11.44444510964899,null,35,49,"Flynth",0.1343357638888889,3.619045138888892E-2]
[36,31," Eelco Tulp",1.9338657407407405E-2,null,11.440814909687228,null,36,54,"De Dijkies",0.13481046296296295,3.6665150462962967E-2]
[37,13," Babette Jongman",1.9377777777777778E-2,"v",11.417717889908255,null,37,46,"Hoekstra Assurantie B.V.",0.13516288194444445,3.7017569444444468E-2]
[38,46," Margriet de Boer",1.9418981481481482E-2,"v",11.393491476934079,null,38,33,"woensdagavondlopers",0.13538836805555554,3.7243055555555557E-2]
[39,29," Agnes Gnodde",1.9444675925925924E-2,"v",11.378435971000345,null,39,42,"Kinderopvang Pipo",0.13644311342592591,3.8297800925925926E-2]
[40,39," Ronyvan Almeida",1.9490162037037038E-2,null,11.351880994091271,null,40,15,"Aves",0.13771570601851851,3.9570393518518529E-2]
[41,34," Renée Hellendoorn",1.9609606481481481E-2,"v",11.282735337342926,null,41,50,"Nick & de rest",0.13875403935185185,4.0608726851851865E-2]
[42,50," Jantien de Boer-Matthijsen",1.9677893518518518E-2,"v",11.24358152420052,null,42,38,"Vegterlopers",0.14027811342592592,4.2132800925925931E-2]
[43,41," Marien van Staalduine",1.9722106481481479E-2,null,11.218375694693044,null,43,45,"Berechja College ",0.14035699074074076,4.2211678240740777E-2]
[44,33," theo willemsen",1.9818287037037037E-2,null,11.163931554050107,null,44,16,"Team Nagele",0.14060291666666666,4.2457604166666676E-2]
[45,56," Roland Kuper",1.9999884259259259E-2,null,11.062564019467704,null,45,56,"De Broodlopers",0.14209783564814815,4.3952523148148168E-2]
[46,38," Ingrid Schilstra",2.0031249999999997E-2,"v",11.045241809672389,null,46,40,"Mercatus, lopen op z’n best",0.14218309027777776,4.4037777777777773E-2]
[47,37," Sander Wisse",2.0196643518518517E-2,null,10.954790571865741,null,47,31,"fam.Dekker Draaft Door",0.14264072916666667,4.449541666666669E-2]
[48,45," Annelies Smaale",2.0252662037037038E-2,"v",10.924489807581306,null,48,23,"Seaconcept",0.14374270833333333,4.5597395833333346E-2]
[49,35," Ewout Wassink",2.1005324074074076E-2,null,10.533043871152595,null,49,28,"Waterman Onions 1",0.14428283564814814,4.613752314814816E-2]
[50,40," Julian van Buiten",2.1206828703703703E-2,null,10.432960207829632,null,50,35,"Waterman Onions 2",0.14727775462962961,4.9132442129629625E-2]
[51,55," Rommy de Witte",2.190162037037037E-2,"v",10.101992284521481,null,51,55,"Fifty-Five",0.14773688657407408,4.9591574074074093E-2]
[52,24," Jan Jonkman",2.2484606481481484E-2,null,9.8400654768951998,null,52,24,"Ter Haar Family & Friends",0.14839358796296295,5.0248275462962969E-2]
[53,43," Henk Brouwer",2.3503935185185187E-2,null,9.4133173129007144,null,53,41,"Advies en Kies en Runners",0.1488239699074074,5.0678657407407415E-2]
[54,28," Gergana Koleva",2.4388194444444445E-2,"v",9.0720123010336273,null,54,43,"Lerøy Seafood NL",0.15503564814814813,5.6890335648148146E-2]

{"sheet":"7U","index":10,"n_rows":58,"n_cols":12,"rows_kept":58,"cut":false,"hidden":false,"merged":[]}
["Etappeuitslag Voorhuys 12-dorpenloop AV NOP 2 april 2022"]
["Uitslag van deze etappe. De tijd is de brutotijd",null,null,null,null,null,null,"Uitslag t/m deze etappe. De tijd is de som van de nettotijden."]
["Tollebeek - Urk",null,null,5,"km",null,null,"Tollebeek - Urk"]
["nr","team","Naam loper","Tijd",null,"km/h",null,"nr ","team","Teamnaam","Tijd","∆"]
[1,2," Jeroen Woltinge",1.1133333333333334E-2,null,18.712574850299401,null,1,2,"hardloopbegeleidingopmaat/klif 18",0.10927864583333331,0]
[2,1," Alie Snoek",1.232048611111111E-2,"v",16.909505960600853,null,2,4,"Klif 18",0.11769489583333333,8.416250000000014E-3]
[3,11," Kas van Egmond",1.2710300925925925E-2,null,16.390904869009354,null,3,1,"De Corner",0.11871957175925926,9.4409259259259498E-3]
[4,4," Tiny de Vries ",1.2839120370370371E-2,"v",16.226449112052645,null,4,6,"Running Ruijters",0.12794016203703704,1.8661516203703724E-2]
[5,7," Richard Schrijver",1.2926967592592592E-2,null,16.116179749124804,null,5,3,"Quick Jewels",0.12849317129629628,1.921452546296297E-2]
[6,5," Johannes Berkhout",1.2940393518518516E-2,null,16.099458879298783,null,6,5,"Dujob",0.13262141203703703,2.3342766203703721E-2]
[7,32," Mark de Jong",1.2997569444444445E-2,null,16.028637832928165,null,7,32,"Ber-di-do",0.13698150462962963,2.7702858796296317E-2]
[8,6," Richard Ruijter",1.3580555555555556E-2,null,15.34056044180814,null,8,8,"Hardloopteam Bant",0.13726273148148146,2.7984085648148152E-2]
[9,23," Jacob de Vries",1.3690162037037037E-2,null,15.21774050370721,null,9,7,"ASV Rutten",0.13809903935185186,2.8820393518518547E-2]
[10,30," Paul van de Kemp",1.4400925925925926E-2,null,14.466662380248183,null,10,20,"Creil",0.13821784722222225,2.8939201388888933E-2]
[11,21," Daan Hoving",1.460127314814815E-2,null,14.268162181443461,null,11,26,"van Vilsteren Marknesse.nl",0.13823108796296296,2.8952442129629649E-2]
[12,39," Kees Meun",1.4610648148148149E-2,null,14.259006939383376,null,12,14,"Vivan komt dr’an",0.13877165509259262,2.9493009259259309E-2]
[13,44," René van Meijel",1.4619675925925925E-2,null,14.250201877859938,null,13,10,"RUN TEAM MARKNESSE",0.13886796296296297,2.9589317129629658E-2]
[14,3," Jakke Goosen",1.4910185185185186E-2,null,13.972551698441283,null,14,11,"Kraggenburg 4",0.13928927083333334,3.0010625000000027E-2]
[15,10," Maartje Masteling",1.4925347222222224E-2,"v",13.958357566592996,null,15,21,"050media",0.1394202777777778,3.0141631944444483E-2]
[16,54," Annet Dijkstra",1.5013194444444445E-2,"v",13.876682547758914,null,16,25,"Hardloop groep Ens",0.13967717592592591,3.0398530092592593E-2]
[17,8," Tom Habers",1.5480208333333334E-2,null,13.458044546127448,null,17,13,"KLIF18 ladies",0.13970989583333335,3.0431250000000035E-2]
[18,27," Peter van Strien",1.5553587962962962E-2,null,13.394551394149559,null,18,52,"Pool-der run4fun",0.14253780092592594,3.3259155092592627E-2]
[19,26," Arno Matthijssen",1.5583564814814816E-2,null,13.368785371577962,null,19,27,"Running Team Espel",0.1427253587962963,3.3446712962962991E-2]
[20,47," Albert Verhoeff",1.5616550925925926E-2,null,13.340547110659838,null,20,51,"Van Urk voeding",0.14331078703703704,3.4032141203703722E-2]
[21,42," Anja",1.5804976851851851E-2,"v",13.181501958917652,null,21,34,"Team 't Voorhuys",0.14351099537037035,3.4232349537037035E-2]
[22,35," Erik Waterman",1.5837152777777776E-2,null,13.154721448773323,null,22,9,"VAN BLOOIS SPORTADVIES",0.14458784722222223,3.5309201388888919E-2]
[23,18," Johannes ( van Trientje)",1.5848726851851853E-2,null,13.145114764154732,null,23,17,"SAMEN ONDER WEG",0.14544589120370369,3.6167245370370374E-2]
[24,51," Liza Hoorn",1.5949652777777778E-2,"v",13.06193534342005,null,24,22,"Tollebeek in beweging",0.14634851851851852,3.7069872685185204E-2]
[25,41," Ingrid Timmer",1.5959722222222222E-2,"v",13.053694195457314,null,25,44,"Tafelronde Noordoostpolder",0.14642025462962963,3.7141608796296313E-2]
[26,25," Bianca de Olde",1.5968402777777776E-2,"v",13.046598099545545,null,26,29,"Waterman Onions Pink Ladies",0.1469570601851852,3.7678414351851888E-2]
[27,37," Hans Harleman",1.5985416666666665E-2,null,13.03271210738955,null,27,18,"Fit Fun/ Anytime",0.14726516203703705,3.7986516203703732E-2]
[28,14," Josephina de Boer",1.6091782407407409E-2,"v",12.94656664245179,null,28,30,"Autofirst Minnaard ",0.14800994212962965,3.8731296296296333E-2]
[29,24," Eva ter Haar",1.6101157407407408E-2,"v",12.939028422732434,null,29,47,"CrossFit Urk",0.14814456018518518,3.8865914351851868E-2]
[30,34," Jarno Spijker",1.6110532407407407E-2,null,12.931498976256332,null,30,19,"STC Rutten",0.1481869097222222,3.8908263888888892E-2]
[31,19," Maaike de Kroon ",1.621111111111111E-2,"v",12.85126799177519,null,31,12,"Hekwerkwebshop.nl",0.14820608796296295,3.8927442129629633E-2]
[32,49," Ynze Scheffer",1.6227777777777775E-2,null,12.838069154399181,null,32,54,"De Dijkies",0.14832233796296296,3.9043692129629645E-2]
[33,13," Tineke Schenk",1.6274421296296297E-2,"v",12.801274437988493,null,33,39,"Suplacon",0.14852853009259256,3.9249884259259252E-2]
[34,9," Grietje Romkes",1.6442939814814813E-2,"v",12.670078202538241,null,34,37,"Van Staveren",0.14907083333333332,3.9792187500000006E-2]
[35,12," Helena Bakker",1.6877430555555555E-2,"v",12.343901084205978,null,35,49,"Flynth",0.15056354166666669,4.1284895833333377E-2]
[36,31," Janneke Dekker",1.6958449074074074E-2,"v",12.284928440291836,null,36,42,"Kinderopvang Pipo",0.15066759259259258,4.1388946759259262E-2]
[37,17," Kirsten Wierda",1.7141782407407408E-2,"v",12.153539718442996,null,37,46,"Hoekstra Assurantie B.V.",0.1519696527777778,4.2691006944444485E-2]
[38,16," Marije Bogaard",1.7238310185185183E-2,"v",12.085484661505719,null,38,33,"woensdagavondlopers",0.15310237268518517,4.382372685185186E-2]
[39,22," Hilde Roskam",1.740983796296296E-2,"v",11.966414263965804,null,39,36,"Schol op Urk",0.15362986111111113,4.4351215277777814E-2]
[40,33," arie v tilburg",1.7714004629629628E-2,null,11.760939307019322,null,40,15,"Aves",0.15383247685185186,4.455383101851855E-2]
[41,20," Tessa Koeman",1.7756597222222222E-2,"v",11.732728446000117,null,41,50,"Nick & de rest",0.15539122685185186,4.6112581018518548E-2]
[42,29," Loura Visser",1.7773263888888887E-2,"v",11.721726219547934,null,42,16,"Team Nagele",0.15611739583333334,4.6838750000000026E-2]
[43,52," Karolina",1.7875231481481482E-2,"v",11.654860724414343,null,43,23,"Seaconcept",0.15743287037037038,4.8154224537037063E-2]
[44,15," Inge Scheper",1.7907523148148148E-2,"v",11.633844145267934,null,44,38,"Vegterlopers",0.15767509259259258,4.8396446759259262E-2]
[45,50," Hayley Faber",1.8485763888888888E-2,"v",11.269933695223427,null,45,31,"fam.Dekker Draaft Door",0.15790333333333334,4.8624687500000027E-2]
[46,28," Bep Dunnink",1.8495949074074074E-2,"v",11.263727668095491,null,46,45,"Berechja College ",0.15850532407407408,4.922667824074077E-2]
[47,46," Emma Snoek",1.8674189814814814E-2,"v",11.156218042083735,null,47,28,"Waterman Onions 1",0.1609291898148148,5.1650543981481487E-2]
[48,40," Jan Zuidema",1.8946180555555556E-2,null,10.996059745257948,null,48,40,"Mercatus, lopen op z’n best",0.16112927083333331,5.1850624999999997E-2]
[49,43," Sanne Rook",1.910138888888889E-2,"v",10.906711262997163,null,49,56,"De Broodlopers",0.16120898148148149,5.1930335648148182E-2]
[50,38," José Schilstra",1.9329976851851852E-2,"v",10.777733203202184,null,50,24,"Ter Haar Family & Friends",0.16288462962962963,5.3605983796296316E-2]
[51,55," Jopie van Benthem",1.947824074074074E-2,"v",10.695695576735673,null,51,35,"Waterman Onions 2",0.16311490740740739,5.3836261574074076E-2]
[52,36," Hein Slump",2.005775462962963E-2,null,10.38667274479368,null,52,41,"Advies en Kies en Runners",0.16318771990740741,5.3909074074074095E-2]
[53,45," Willie Kiefte",2.0164814814814812E-2,"v",10.331527229313988,null,53,55,"Fifty-Five",0.16526730324074074,5.5988657407407424E-2]
[54,56," Linda Hoek",2.1234606481481483E-2,"v",9.8110286863577638,null,54,43,"Lerøy Seafood NL",0.17222689814814812,6.2948252314814809E-2]

{"sheet":"8E","index":11,"n_rows":58,"n_cols":12,"rows_kept":58,"cut":false,"hidden":false,"merged":[]}
["Etappeuitslag Voorhuys 12-dorpenloop AV NOP 2 april 2022"]
["Uitslag van deze etappe. De tijd is de brutotijd",null,null,null,null,null,null,"Uitslag t/m deze etappe. De tijd is de som van de nettotijden."]
["Urk - Espel",null,null,7.8,"km",null,null,"Urk - Espel"]
["nr","team","Naam loper","Tijd",null,"km/h",null,"nr ","team","Teamnaam","Tijd","∆"]
[1,7," Izak Hanse",1.8525231481481479E-2,null,17.543640430344002,null,1,2,"hardloopbegeleidingopmaat/klif 18",0.12835468749999998,0]
[2,2," Freek Koffeman",1.9076041666666665E-2,null,17.037077485938951,null,2,4,"Klif 18",0.13701208333333331,8.6573958333333312E-3]
[3,1," Jan Loosman",2.0539814814814813E-2,null,15.82292746697922,null,3,1,"De Corner",0.13925938657407408,1.0904699074074098E-2]
[4,27," Roger Fahner",2.1408564814814814E-2,null,15.180840136238309,null,4,6,"Running Ruijters",0.15046712962962963,2.211244212962965E-2]
[5,4," Dinie Ras ",2.1463541666666665E-2,"v",15.141955835962145,null,5,3,"Quick Jewels",0.15061793981481481,2.2263252314814824E-2]
[6,18," Teun de Boer",2.2107407407407409E-2,null,14.700954933824759,null,6,5,"Dujob",0.15524201388888889,2.688732638888891E-2]
[7,3," Jurian Molenaar",2.2124768518518519E-2,null,14.689419223888091,null,7,7,"ASV Rutten",0.15662427083333333,2.8269583333333348E-2]
[8,6," Dion Ruijter",2.2526967592592595E-2,null,14.427152641124577,null,8,8,"Hardloopteam Bant",0.15984247685185182,3.1487789351851841E-2]
[9,17," Berend Schotanus",2.2564236111111111E-2,null,14.403323843963991,null,9,32,"Ber-di-do",0.16153613425925925,3.318144675925927E-2]
[10,8," Richard de Nijs",2.2579745370370372E-2,null,14.393430690607875,null,10,21,"050media",0.16209666666666669,3.3741979166666713E-2]
[11,5," Jacob Baak",2.2620601851851854E-2,null,14.367433816682185,null,11,10,"RUN TEAM MARKNESSE",0.16250893518518519,3.4154247685185213E-2]
[12,19," Stefan de Wilde",2.2648495370370367E-2,null,14.349739118881049,null,12,26,"van Vilsteren Marknesse.nl",0.1631950925925926,3.4840405092592619E-2]
[13,21," Rory Bob de Haan",2.2676388888888888E-2,null,14.332087952471367,null,13,13,"KLIF18 ladies",0.16373510416666667,3.5380416666666692E-2]
[14,12," Remco Visser",2.274502314814815E-2,null,14.288840151233734,null,14,27,"Running Team Espel",0.16413392361111112,3.577923611111114E-2]
[15,10," Matijs Beers",2.3640972222222223E-2,null,13.74731956643069,null,15,25,"Hardloop groep Ens",0.1641478935185185,3.5793206018518514E-2]
[16,40," Jasper de Jong",2.3696296296296299E-2,null,13.715223507346044,null,16,14,"Vivan komt dr’an",0.16474329861111114,3.6388611111111163E-2]
[17,49," Thom Brands",2.3953472222222227E-2,null,13.56797031281709,null,17,11,"Kraggenburg 4",0.16510975694444446,3.6755069444444483E-2]
[18,9," Pieter Roskam",2.404537037037037E-2,null,13.516115368323771,null,18,20,"Creil",0.1663864814814815,3.8031793981481515E-2]
[19,50," Rick Sijtsma",2.4123148148148147E-2,null,13.472536752005528,null,19,17,"SAMEN ONDER WEG",0.16801012731481479,3.9655439814814814E-2]
[20,15," Gert Koets",2.4404513888888885E-2,null,13.317208508216549,null,20,9,"VAN BLOOIS SPORTADVIES",0.16863321759259259,4.0278530092592607E-2]
[21,46," Hessel Koster",2.4457638888888886E-2,null,13.288281893296233,null,21,18,"Fit Fun/ Anytime",0.16937256944444445,4.1017881944444473E-2]
[22,25," Edwin Spekschate",2.4470717592592593E-2,null,13.281179792552512,null,22,51,"Van Urk voeding",0.17045685185185186,4.2102164351851878E-2]
[23,32," Marko de Vos",2.4554629629629631E-2,null,13.235793204871978,null,23,19,"STC Rutten",0.17083540509259257,4.2480717592592587E-2]
[24,31," Matthijs Dekker",2.4727430555555555E-2,null,13.143298462402583,null,24,12,"Hekwerkwebshop.nl",0.17095111111111111,4.2596423611111128E-2]
[25,56," Marita van Overbeeke",2.4814814814814817E-2,"v",13.097014925373132,null,25,30,"Autofirst Minnaard ",0.17273598379629632,4.4381296296296335E-2]
[26,37," Erwin van der Kamp",2.4913078703703708E-2,null,13.045356772853761,null,26,47,"CrossFit Urk",0.17356689814814813,4.5212210648148149E-2]
[27,26," Tim",2.4964004629629628E-2,null,13.018744581318472,null,27,29,"Waterman Onions Pink Ladies",0.17380164351851854,4.5446956018518558E-2]
[28,33," gerdi wicherson",2.5016087962962966E-2,"v",12.991639639306186,null,28,37,"Van Staveren",0.17398391203703703,4.562922453703705E-2]
[29,23," Willem Hoekstra",2.5363310185185187E-2,null,12.813784858012493,null,29,52,"Pool-der run4fun",0.17406939814814817,4.5714710648148194E-2]
[30,47," Abbe Brouwer",2.5422337962962963E-2,null,12.784032706727551,null,30,49,"Flynth",0.17451701388888891,4.6162326388888925E-2]
[31,16," Michiel Eilander",2.5671527777777776E-2,null,12.659939946438715,null,31,22,"Tollebeek in beweging",0.17480210648148148,4.6447418981481498E-2]
[32,11," Joury Spelde",2.582048611111111E-2,null,12.586904777913748,null,32,34,"Team 't Voorhuys",0.17491307870370368,4.6558391203703697E-2]
[33,14," Jan Lourens Posthumus",2.5971643518518519E-2,null,12.513647808551884,null,33,54,"De Dijkies",0.17540335648148148,4.7048668981481495E-2]
[34,45," Angelique vd Kleef",2.6339930555555554E-2,"v",12.338680973912126,null,34,33,"woensdagavondlopers",0.17561685185185183,4.7262164351851849E-2]
[35,28," Quinten",2.655439814814815E-2,null,12.23902715425184,null,35,46,"Hoekstra Assurantie B.V.",0.17642729166666668,4.8072604166666699E-2]
[36,13," Carolien de Vries",2.6694675925925924E-2,"v",12.174712324728368,null,36,39,"Suplacon",0.17644866898148145,4.8093981481481474E-2]
[37,24," Jeroen Moolenaar",2.6855324074074077E-2,null,12.101883377149505,null,37,15,"Aves",0.17823699074074076,4.9882303240740777E-2]
[38,54," Koen van Raalten",2.7081018518518522E-2,null,12.001025728694758,null,38,42,"Kinderopvang Pipo",0.17945393518518515,5.1099247685185173E-2]
[39,51," Riekelt van Urk",2.7146064814814814E-2,null,11.972269359006063,null,39,50,"Nick & de rest",0.179514375,5.1159687500000023E-2]
[40,38," Dennis Gommers",2.7351157407407404E-2,null,11.882495324018045,null,40,16,"Team Nagele",0.18178892361111113,5.3434236111111144E-2]
[41,30," Moniek Buur",2.7473379629629632E-2,"v",11.829633062307789,null,41,45,"Berechja College ",0.18221126157407408,5.3856574074074098E-2]
[42,39," Jelle Hakvoort",2.7920138888888887E-2,null,11.640343240890438,null,42,36,"Schol op Urk",0.18250914351851855,5.4154456018518565E-2]
[43,41," Ronald Graver",2.8032638888888888E-2,null,11.593628458889688,null,43,31,"fam.Dekker Draaft Door",0.18263076388888888,5.42760763888889E-2]
[44,20," Jacob Kroon",2.8168634259259254E-2,null,11.537655571397464,null,44,23,"Seaconcept",0.18279618055555558,5.4441493055555595E-2]
[45,55," Hans Jansen",2.8257986111111109E-2,null,11.5011734637455,null,45,56,"De Broodlopers",0.18354231481481484,5.5187627314814858E-2]
[46,22," Leonard Naaktgeboren",2.8453587962962962E-2,null,11.422109592050083,null,46,40,"Mercatus, lopen op z’n best",0.18482556712962961,5.6470879629629628E-2]
[47,42," Teun",2.8786342592592593E-2,null,11.29007615172447,null,47,38,"Vegterlopers",0.18502624999999998,5.6671562499999995E-2]
[48,36," Albert Schreuder",2.8879282407407406E-2,null,11.253742229988339,null,48,44,"Tafelronde Noordoostpolder",0.1866980324074074,5.8343344907407418E-2]
[49,43," Jannie Romkes",2.8924884259259261E-2,"v",11.236000016005697,null,49,28,"Waterman Onions 1",0.18748358796296294,5.9128900462962958E-2]
[50,35," Marianne Kuyper",2.9612847222222221E-2,"v",10.974966289499912,null,50,24,"Ter Haar Family & Friends",0.1897399537037037,6.1385266203703714E-2]
[51,29," Geja Stoutjesdijk",2.982731481481481E-2,"v",10.896052897077313,null,51,35,"Waterman Onions 2",0.18976646990740739,6.1411782407407411E-2]
[52,34," Kevin Stielstra",3.1402083333333337E-2,null,10.349631791945862,null,52,41,"Advies en Kies en Runners",0.19122035879629629,6.2865671296296305E-2]
[53,52," Konrad",3.1531597222222228E-2,null,10.307121383973305,null,53,55,"Fifty-Five",0.19352528935185184,6.5170601851851861E-2]
[54,44," Jelmer Schotanus",4.027777777777778E-2,null,8.068965517241379,null,54,43,"Lerøy Seafood NL",0.19825929398148145,6.9904606481481474E-2]

{"sheet":"9C","index":12,"n_rows":58,"n_cols":12,"rows_kept":58,"cut":false,"hidden":false,"merged":[]}
["Etappeuitslag Voorhuys 12-dorpenloop AV NOP 2 april 2022"]
["Uitslag van deze etappe. De tijd is de brutotijd",null,null,null,null,null,null,"Uitslag t/m deze etappe. De tijd is de som van de nettotijden."]
["Espel - Creil",null,null,4.63,"km",null,null,"Espel - Creil"]
["nr","team","Naam loper","Tijd",null,"km/h",null,"nr ","team","Teamnaam","Tijd","∆"]
[1,56," Anjo Geluk",1.2382291666666668E-2,null,15.580045427778243,null,1,2,"hardloopbegeleidingopmaat/klif 18",0.1411706597222222,0]
[2,4," Peter Gnodde ",1.2615972222222223E-2,null,15.291462541971706,null,2,4,"Klif 18",0.14962805555555553,8.4573958333333255E-3]
[3,22," Max Maarsen",1.2730555555555556E-2,null,15.153829369408683,null,3,1,"De Corner",0.15179990740740743,1.0629247685185222E-2]
[4,2," Hugo Jongejan",1.2815972222222222E-2,null,15.052831211053915,null,4,3,"Quick Jewels",0.16519965277777776,2.4028993055555559E-2]
[5,5," Klaas Kramer",1.3210532407407409E-2,null,14.603246918231278,null,5,6,"Running Ruijters",0.16612708333333334,2.4956423611111139E-2]
[6,51," Klaas Willem ",1.3569675925925924E-2,null,14.216748264273896,null,6,5,"Dujob",0.1684525462962963,2.7281886574074099E-2]
[7,1," Annemiek Dekkert",1.3933912037037038E-2,"v",13.845118740084226,null,7,7,"ASV Rutten",0.17137114583333332,3.0200486111111119E-2]
[8,42," Oskar",1.4285879629629629E-2,null,13.504010370250345,null,8,8,"Hardloopteam Bant",0.17433020833333329,3.3159548611111089E-2]
[9,10," Bert de Vries",1.4422222222222223E-2,null,13.376348228043142,null,9,10,"RUN TEAM MARKNESSE",0.17693115740740742,3.5760497685185216E-2]
[10,8," Rudy van Steenbergen",1.4487731481481482E-2,null,13.315864316870915,null,10,32,"Ber-di-do",0.1769624074074074,3.5791747685185199E-2]
[11,18," Wieger Vreeke",1.4506828703703704E-2,null,13.298334915708597,null,11,25,"Hardloop groep Ens",0.17890331018518515,3.7732650462962952E-2]
[12,3," Roelof van der Meulen",1.4581712962962963E-2,null,13.230041433175113,null,12,11,"Kraggenburg 4",0.1790009027777778,3.7830243055555601E-2]
[13,43," Jaap van de Berg",1.519699074074074E-2,null,12.694399171375911,null,13,13,"KLIF18 ladies",0.179195625,3.8024965277777795E-2]
[14,24," Eline van Toledo",1.520775462962963E-2,"v",12.685414209064271,null,14,26,"van Vilsteren Marknesse.nl",0.1792775925925926,3.8106932870370397E-2]
[15,44," Michel Becker",1.5341666666666665E-2,null,12.574687669744705,null,15,14,"Vivan komt dr’an",0.18037975694444447,3.9209097222222267E-2]
[16,17," Edwin Schrotenboer",1.5375578703703702E-2,null,12.546953216154165,null,16,21,"050media",0.18108677083333335,3.9916111111111152E-2]
[17,32," Jetze Kempenaar",1.5426273148148149E-2,null,12.50572090964339,null,17,27,"Running Team Espel",0.18115423611111112,3.9983576388888914E-2]
[18,11," Manon Snellink",1.5434606481481481E-2,"v",12.498968917550897,null,18,9,"VAN BLOOIS SPORTADVIES",0.18256280092592592,4.1392141203703714E-2]
[19,9," Femmy Gnodde",1.5477314814814814E-2,"v",12.464479076306423,null,19,17,"SAMEN ONDER WEG",0.1833857060185185,4.2215046296296299E-2]
[20,31," Sofia Dekker",1.5530787037037037E-2,"v",12.421564097595875,null,20,20,"Creil",0.18342803240740743,4.2257372685185229E-2]
[21,16," Taco van der Sar",1.5561921296296298E-2,null,12.396712654791564,null,21,18,"Fit Fun/ Anytime",0.18387939814814816,4.2708738425925957E-2]
[22,14," Albert Bakker",1.5636458333333336E-2,null,12.337619079341813,null,22,51,"Van Urk voeding",0.18402652777777778,4.2855868055555579E-2]
[23,6," Finn van Ginkel",1.5659953703703704E-2,null,12.319108364990909,null,23,19,"STC Rutten",0.18623988425925925,4.5069224537037045E-2]
[24,30," Menno Hiemstra",1.586423611111111E-2,null,12.160476263433212,null,24,12,"Hekwerkwebshop.nl",0.18706559027777778,4.5894930555555574E-2]
[25,34," Tim van Gunst",1.6079166666666669E-2,null,11.997926924073592,null,25,22,"Tollebeek in beweging",0.18753266203703703,4.6362002314814826E-2]
[26,40," Engelbert Nikkels",1.6253472222222221E-2,null,11.869258705404828,null,26,30,"Autofirst Minnaard ",0.18860021990740744,4.7429560185185238E-2]
[27,33," chris-marije ",1.6274421296296297E-2,"v",11.853980129577344,null,27,47,"CrossFit Urk",0.18953585648148147,4.8365196759259266E-2]
[28,37," Wijnand Bok",1.6343518518518518E-2,null,11.803863803750495,null,28,52,"Pool-der run4fun",0.18997741898148152,4.8806759259259314E-2]
[29,50," Peter van Hulzen",1.6363425925925924E-2,null,11.789503465836754,null,29,33,"woensdagavondlopers",0.19026383101851849,4.9093171296296284E-2]
[30,7," Milotte Maas",1.6385416666666666E-2,"v",11.773680864589956,null,30,37,"Van Staveren",0.19032743055555554,4.9156770833333335E-2]
[31,25," Tialda van Ginkel",1.639490740740741E-2,"v",11.766865275463811,null,31,34,"Team 't Voorhuys",0.19099224537037035,4.9821585648148148E-2]
[32,20," Tycho Krone",1.7041550925925925E-2,null,11.320370282330089,null,32,54,"De Dijkies",0.1910135648148148,4.9842905092592593E-2]
[33,19," Maureen Roose",1.7116087962962965E-2,"v",11.271072401831177,null,33,29,"Waterman Onions Pink Ladies",0.19101664351851855,4.9845983796296345E-2]
[34,13," Wille-Marie Brouwer",1.7178356481481482E-2,"v",11.23021674830381,null,34,49,"Flynth",0.19218101851851854,5.101035879629634E-2]
[35,54," Maren Striker",1.7344675925925927E-2,"v",11.122529327763615,null,35,46,"Hoekstra Assurantie B.V.",0.19255375000000002,5.1383090277777821E-2]
[36,49," René Offenberg",1.7664004629629627E-2,null,10.921456980546074,null,36,42,"Kinderopvang Pipo",0.19373981481481478,5.2569155092592579E-2]
[37,52," Luca",1.7675578703703704E-2,"v",10.914305545551576,null,37,15,"Aves",0.19438501157407409,5.3214351851851888E-2]
[38,47," Klasina Heijns",1.774328703703704E-2,"v",10.872656586345903,null,38,39,"Suplacon",0.19548964120370368,5.4318981481481482E-2]
[39,26," Lisanne",1.7869444444444445E-2,"v",10.795896160422819,null,39,50,"Nick & de rest",0.19587780092592594,5.4707141203703735E-2]
[40,23," Willem Schraal",1.7887615740740742E-2,null,10.784929051627637,null,40,56,"De Broodlopers",0.19592460648148149,5.4753946759259292E-2]
[41,12," Ida de Boer",1.7904976851851852E-2,"v",10.77447171604212,null,41,31,"fam.Dekker Draaft Door",0.19660847222222222,5.5437812500000017E-2]
[42,46," Corina Oost",1.7918287037037038E-2,"v",10.766468148875424,null,42,16,"Team Nagele",0.19735084490740742,5.6180185185185222E-2]
[43,15," Cathy van den Berg",1.7942245370370372E-2,"v",10.752091652098747,null,43,45,"Berechja College ",0.19838261574074073,5.7211956018518528E-2]
[44,45," Vera Brouwer ",1.7968171296296295E-2,"v",10.736577667557732,null,44,23,"Seaconcept",0.20068379629629632,5.9513136574074116E-2]
[45,41," Kees Degenhart",1.8263310185185188E-2,null,10.563072340695204,null,45,40,"Mercatus, lopen op z’n best",0.20107903935185184,5.9908379629629638E-2]
[46,27," Carlien Hendrickx",1.8911458333333336E-2,"v",10.201046543651884,null,46,44,"Tafelronde Noordoostpolder",0.20203969907407407,6.0869039351851867E-2]
[47,35," Pieter Jaarsma",1.9023958333333334E-2,null,10.140721677709029,null,47,36,"Schol op Urk",0.20224571759259263,6.1075057870370431E-2]
[48,39," Michel Stoelwinder",1.9040972222222223E-2,null,10.13166052737153,null,48,38,"Vegterlopers",0.20278197916666663,6.1611319444444423E-2]
[49,29," Jannie van den Berg",1.9127777777777778E-2,"v",10.085681092070867,null,49,24,"Ter Haar Family & Friends",0.20342693287037036,6.2256273148148161E-2]
[50,28," Jolien van den Berg",1.923923611111111E-2,"v",10.027251890487106,null,50,28,"Waterman Onions 1",0.20479890046296295,6.3628240740740749E-2]
[51,55," Janette Schultink",1.9612847222222222E-2,"v",9.8362397096574306,null,51,35,"Waterman Onions 2",0.20879042824074073,6.761976851851853E-2]
[52,38," Mirjam Crève",1.9728587962962962E-2,"v",9.7785339239095368,null,52,41,"Advies en Kies en Runners",0.20948366898148146,6.8313009259259261E-2]
[53,36," Arie van Urk",1.9736574074074073E-2,null,9.774577185616101,null,53,55,"Fifty-Five",0.21117685185185184,7.0006192129629635E-2]
[54,21," Adrienne Moret",2.1100115740740739E-2,"v",9.1429198321494205,null,54,43,"Lerøy Seafood NL",0.21345628472222219,7.2285624999999992E-2]

{"sheet":"10R","index":13,"n_rows":58,"n_cols":12,"rows_kept":58,"cut":false,"hidden":false,"merged":[]}
["Etappeuitslag Voorhuys 12-dorpenloop AV NOP 2 april 2022"]
["Uitslag van deze etappe. De tijd is de brutotijd",null,null,null,null,null,null,"Uitslag t/m deze etappe. De tijd is de som van de nettotijden."]
["Creil - Rutten",null,null,5.44,"km",null,null,"Creil - Rutten"]
["nr","team","Naam loper","Tijd",null,"km/h",null,"nr ","team","Teamnaam","Tijd","∆"]
[1,4," Bart Maljaars ",1.4593981481481484E-2,null,15.531516670367667,null,1,2,"hardloopbegeleidingopmaat/klif 18",0.15591730324074071,0]
[2,2," Jorn Hofstra",1.4746643518518518E-2,null,15.370729371875271,null,2,4,"Klif 18",0.164222037037037,8.3047337962962875E-3]
[3,6," Marcel Ruijter",1.5777083333333334E-2,null,14.366829525947445,null,3,1,"De Corner",0.16790071759259262,1.1983414351851907E-2]
[4,31," Erwin Bosma",1.5951851851851852E-2,null,14.209426514975622,null,4,3,"Quick Jewels",0.18164120370370368,2.5723900462962968E-2]
[5,9," Hessel de Vries",1.6049074074074073E-2,null,14.123348525933192,null,5,6,"Running Ruijters",0.18190416666666667,2.598686342592596E-2]
[6,1," Doede Terluin",1.6100810185185187E-2,null,14.077966515947695,null,6,5,"Dujob",0.18502280092592593,2.9105497685185222E-2]
[7,10," Stef Masteling",1.6346412037037038E-2,null,13.86644764325618,null,7,8,"Hardloopteam Bant",0.19072071759259254,3.480341435185183E-2]
[8,11," Rinke Biesheuvel",1.6363425925925924E-2,null,13.852029990097613,null,8,7,"ASV Rutten",0.19149788194444445,3.5580578703703736E-2]
[9,8," Dirk Jan Doornbos",1.6390509259259261E-2,null,13.829141186605844,null,9,10,"RUN TEAM MARKNESSE",0.19327756944444446,3.7360266203703751E-2]
[10,3," Riekelt Romkes",1.6441550925925925E-2,null,13.786209566717117,null,10,25,"Hardloop groep Ens",0.19506987268518516,3.9152569444444452E-2]
[11,5," Jacob Hoekstra",1.6570254629629629E-2,null,13.679129967101359,null,11,11,"Kraggenburg 4",0.19536432870370374,3.9447025462963026E-2]
[12,21," Thierry Kienart",1.6856018518518517E-2,null,13.447224587327312,null,12,13,"KLIF18 ladies",0.19598750000000001,4.0070196759259297E-2]
[13,16," Paul Bovée",1.7649884259259258E-2,null,12.842388275025414,null,13,32,"Ber-di-do",0.19636761574074074,4.045031250000003E-2]
[14,25," Manon van Schie",1.796284722222222E-2,"v",12.61863800668819,null,14,26,"van Vilsteren Marknesse.nl",0.19769935185185186,4.178204861111115E-2]
[15,15," Simone Schuitemaker",1.8213773148148146E-2,"v",12.444794651991844,null,15,21,"050media",0.19794278935185186,4.2025486111111149E-2]
[16,18," Jos Netten",1.838738425925926E-2,null,12.327292641014182,null,16,9,"VAN BLOOIS SPORTADVIES",0.19861187499999999,4.2694571759259281E-2]
[17,26," Jesse ",1.8421759259259259E-2,null,12.304289914804857,null,17,27,"Running Team Espel",0.20060986111111112,4.4692557870370409E-2]
[18,54," Jaap-Jan Tichelaar",1.8491203703703704E-2,null,12.258080668986755,null,18,14,"Vivan komt dr’an",0.2007463078703704,4.4829004629629687E-2]
[19,13," Jara de Boer",1.865763888888889E-2,"v",12.148732645996947,null,19,18,"Fit Fun/ Anytime",0.20226678240740742,4.6349479166666707E-2]
[20,22," Bram Roskam",1.8704282407407406E-2,null,12.11843692955045,null,20,17,"SAMEN ONDER WEG",0.20243142361111111,4.6514120370370393E-2]
[21,33," Johan Kommerij",1.8864120370370368E-2,null,12.015755954499161,null,21,20,"Creil",0.20299271990740744,4.7075416666666731E-2]
[22,52," Robert",1.8895949074074072E-2,null,11.99551638174457,null,22,51,"Van Urk voeding",0.20305997685185184,4.714267361111113E-2]
[23,19," Nyka van der Veen",1.8919097222222223E-2,"v",11.980839466294713,null,23,19,"STC Rutten",0.20326707175925926,4.7349768518518548E-2]
[24,35," Jannes Dokter",1.896539351851852E-2,null,11.951593118557803,null,24,22,"Tollebeek in beweging",0.20623694444444443,5.0319641203703719E-2]
[25,51," William Visser",1.9033449074074074E-2,null,11.908859281600984,null,25,12,"Hekwerkwebshop.nl",0.20655146990740741,5.0634166666666702E-2]
[26,17," Jacco Verpoorte",1.9045717592592593E-2,null,11.901188052626782,null,26,30,"Autofirst Minnaard ",0.20801596064814817,5.2098657407407462E-2]
[27,46," Steven Post",1.9137962962962964E-2,null,11.84382408437757,null,27,47,"CrossFit Urk",0.2081626273148148,5.224532407407409E-2]
[28,28," Henri Hendrikse",1.9174421296296294E-2,null,11.821304182486557,null,28,29,"Waterman Onions Pink Ladies",0.20833976851851854,5.242246527777783E-2]
[29,29," Annelies Pasterkamp",1.9247916666666667E-2,"v",11.776166251758848,null,29,52,"Pool-der run4fun",0.20887336805555559,5.2956064814814879E-2]
[30,34," Jeroen Ansink",1.9381018518518516E-2,null,11.695291785108571,null,30,33,"woensdagavondlopers",0.20912795138888884,5.3210648148148132E-2]
[31,32," Henk Bremer",1.9405208333333333E-2,null,11.680712867035268,null,31,54,"De Dijkies",0.20950476851851851,5.3587465277777802E-2]
[32,30," Christiaan Schaart",1.941574074074074E-2,null,11.674376460489295,null,32,37,"Van Staveren",0.21036087962962963,5.4443576388888915E-2]
[33,56," Abdi Hamidan Mohamed",1.9471759259259258E-2,null,11.640790318362303,null,33,34,"Team 't Voorhuys",0.21037326388888886,5.4455960648148144E-2]
[34,12," Hendrik Pasterkamp",1.9485879629629627E-2,null,11.632354862851782,null,34,15,"Aves",0.21077740740740741,5.4860104166666701E-2]
[35,42," Rob",1.9838888888888889E-2,null,11.425371044525344,null,35,46,"Hoekstra Assurantie B.V.",0.21169171296296299,5.5774409722222279E-2]
[36,45," Sybren Zandstra",1.9910185185185184E-2,null,11.38445798260708,null,36,31,"fam.Dekker Draaft Door",0.21256032407407408,5.6643020833333363E-2]
[37,37," Vinus Bok",2.0033449074074075E-2,null,11.314410505578055,null,37,49,"Flynth",0.2131396990740741,5.7222395833333384E-2]
[38,7," Dik Nieuwenhuizen",2.0126736111111113E-2,null,11.261968429224533,null,38,42,"Kinderopvang Pipo",0.21357870370370366,5.7661400462962947E-2]
[39,38," Bas de Jong",2.0318865740740742E-2,null,11.155478340121331,null,39,16,"Team Nagele",0.21500072916666668,5.908342592592597E-2]
[40,14," Riekelt Brouwer",2.0366550925925927E-2,null,11.129359482175635,null,40,50,"Nick & de rest",0.21530311342592595,5.9385810185185239E-2]
[41,24," Jur Bos",2.0411111111111113E-2,null,11.105062602068591,null,41,56,"De Broodlopers",0.21539636574074075,5.9479062500000041E-2]
[42,47," Antje Brouwer",2.0696412037037034E-2,"v",10.95197883870102,null,42,45,"Berechja College ",0.2182928009259259,6.2375497685185188E-2]
[43,49," Quinten Offenberg",2.0958680555555553E-2,null,10.814930170142976,null,43,39,"Suplacon",0.21907818287037034,6.3160879629629629E-2]
[44,40," Dirk Bolle",2.1199884259259259E-2,null,10.691882271369844,null,44,23,"Seaconcept",0.22188946759259262,6.5972164351851909E-2]
[45,23," Frederik Kramer",2.1205671296296299E-2,null,10.688964451988625,null,45,36,"Schol op Urk",0.2221661342592593,6.6248831018518584E-2]
[46,43," Ben Bakker",2.1572453703703701E-2,null,10.507226937645534,null,46,40,"Mercatus, lopen op z’n best",0.2222789236111111,6.6361620370370383E-2]
[47,50," Evelien Steenbergen",2.1583680555555554E-2,"v",10.501761554672546,null,47,38,"Vegterlopers",0.22310084490740736,6.7183541666666652E-2]
[48,27," Suzanne Blok",2.1617361111111111E-2,"v",10.485399466735199,null,48,24,"Ter Haar Family & Friends",0.22383804398148147,6.7920740740740754E-2]
[49,41," Anne Kooij",2.1679861111111112E-2,"v",10.455171530157918,null,49,28,"Waterman Onions 1",0.22397332175925924,6.805601851851853E-2]
[50,20," Mariska Schutte",2.1738541666666666E-2,"v",10.426949063203796,null,50,44,"Tafelronde Noordoostpolder",0.22491747685185184,6.9000173611111132E-2]
[51,55," Ada de Munnik",2.1844791666666665E-2,"v",10.376233846740739,null,51,35,"Waterman Onions 2",0.22775582175925926,7.1838518518518552E-2]
[52,36," Marloes Slump",2.2133796296296294E-2,"v",10.240749649647558,null,52,41,"Advies en Kies en Runners",0.22899554398148148,7.3078240740740763E-2]
[53,44," Leo Joosten",2.2877777777777778E-2,null,9.9077221952404084,null,53,55,"Fifty-Five",0.23083716435185184,7.4919861111111125E-2]
[54,39," Radboud Sanders",2.3588541666666667E-2,null,9.6091852506071991,null,54,43,"Lerøy Seafood NL",0.23502873842592589,7.911143518518518E-2]

{"sheet":"11B","index":14,"n_rows":58,"n_cols":12,"rows_kept":58,"cut":false,"hidden":false,"merged":[]}
["Etappeuitslag Voorhuys 12-dorpenloop AV NOP 2 april 2022"]
["Uitslag van deze etappe. De tijd is de brutotijd",null,null,null,null,null,null,"Uitslag t/m deze etappe. De tijd is de som van de nettotijden."]
["Rutten - Bant",null,null,7.05,"km",null,null,"Rutten - Bant"]
["nr","team","Naam loper","Tijd",null,"km/h",null,"nr ","team","Teamnaam","Tijd","∆"]
[1,2," Jasper Meijer",1.735810185185185E-2,null,16.922933308440129,null,1,2,"hardloopbegeleidingopmaat/klif 18",0.17327540509259257,0]
[2,8," Gerben Franssen",1.8152662037037037E-2,null,16.182199580461493,null,2,4,"Klif 18",0.18151807870370368,8.2426736111111121E-3]
[3,44," Bas Stevens",1.8751967592592594E-2,null,15.665022806248725,null,3,1,"De Corner",0.18702386574074076,1.3748460648148192E-2]
[4,10," Peter Iepsma",1.9021064814814814E-2,null,15.443404607464922,null,4,3,"Quick Jewels",0.20071655092592591,2.7441145833333347E-2]
[5,3," Jan Post",1.9075347222222223E-2,null,15.399457560478366,null,5,6,"Running Ruijters",0.20233402777777779,2.905862268518522E-2]
[6,1," Eugene Olgers",1.912314814814815E-2,null,15.360964508788069,null,6,5,"Dujob",0.20596226851851854,3.2686863425925972E-2]
[7,12," Luut de Boer",1.914837962962963E-2,null,15.340723637286782,null,7,8,"Hardloopteam Bant",0.20887337962962957,3.5597974537037003E-2]
[8,4," Jantina Loosman",1.9217824074074071E-2,"v",15.285289264162081,null,8,7,"ASV Rutten",0.21228908564814816,3.9013680555555597E-2]
[9,9," Johannes Schenk",1.9447569444444444E-2,null,15.104715313610312,null,9,10,"RUN TEAM MARKNESSE",0.21229863425925927,3.9023229166666701E-2]
[10,17," Rik de Graaf",1.982951388888889E-2,null,14.813777162969059,null,10,11,"Kraggenburg 4",0.21693064814814819,4.3655243055555626E-2]
[11,15," Sander de Wit",1.986712962962963E-2,null,14.785729266189731,null,11,25,"Hardloop groep Ens",0.2172518171296296,4.3976412037037033E-2]
[12,31," Harry Terluin",2.0368750000000001E-2,null,14.421601718318501,null,12,13,"KLIF18 ladies",0.21764781250000001,4.4372407407407444E-2]
[13,6," Fabian Ruijter",2.042986111111111E-2,null,14.378462898127061,null,13,9,"VAN BLOOIS SPORTADVIES",0.21805944444444444,4.4784039351851879E-2]
[14,7," Rutger Mutsaers",2.0791203703703704E-2,null,14.128571110467835,null,14,32,"Ber-di-do",0.21856541666666668,4.5290011574074113E-2]
[15,5," Kees de Vries",2.0939467592592593E-2,null,14.02853242094441,null,15,26,"van Vilsteren Marknesse.nl",0.21884018518518519,4.5564780092592627E-2]
[16,21," Jordi den Hollander",2.1136689814814813E-2,null,13.897634992689779,null,16,21,"050media",0.21907947916666667,4.5804074074074108E-2]
[17,19," Bauke van der Valk",2.1424884259259258E-2,null,13.710692503416869,null,17,17,"SAMEN ONDER WEG",0.22226093750000001,4.8985532407407439E-2]
[18,11," Wout van Keulen ",2.1566319444444444E-2,null,13.620775708006633,null,18,27,"Running Team Espel",0.22258555555555556,4.9310150462962998E-2]
[19,54," Martijn Stiekema",2.1706597222222221E-2,null,13.532752139486524,null,19,19,"STC Rutten",0.22469195601851852,5.1416550925925952E-2]
[20,34," Dik van der Linde",2.1824189814814817E-2,null,13.459835278769203,null,20,14,"Vivan komt dr’an",0.22518369212962966,5.1908287037037093E-2]
[21,27," Jeroen Snippe",2.1975694444444444E-2,null,13.367040606730921,null,21,20,"Creil",0.2251875115740741,5.1912106481481535E-2]
[22,23," Pieter Sinke",2.2118634259259261E-2,null,13.280657230318409,null,22,18,"Fit Fun/ Anytime",0.22518981481481481,5.1914409722222249E-2]
[23,30," Robbin Willemsen",2.2139930555555552E-2,null,13.267882627856283,null,23,12,"Hekwerkwebshop.nl",0.22569984953703703,5.2424444444444468E-2]
[24,25," Bas Wouters",2.2181944444444445E-2,null,13.242752488886106,null,24,51,"Van Urk voeding",0.22590060185185185,5.262519675925928E-2]
[25,32," Sjirk Dottinga ",2.2197800925925926E-2,null,13.233292837441146,null,25,22,"Tollebeek in beweging",0.22882212962962961,5.5546724537037045E-2]
[26,41," Wim Kok",2.2211226851851854E-2,null,13.22529376514421,null,26,30,"Autofirst Minnaard ",0.23015589120370372,5.6880486111111156E-2]
[27,52," Lukasz",2.2234722222222222E-2,null,13.211318633268787,null,27,29,"Waterman Onions Pink Ladies",0.23027487268518521,5.699946759259264E-2]
[28,47," Mark Oost",2.2409837962962965E-2,null,13.108082284462943,null,28,47,"CrossFit Urk",0.23057246527777778,5.7297060185185211E-2]
[29,22," Jack Tabak",2.2585185185185184E-2,null,13.00631354542473,null,29,15,"Aves",0.23064453703703705,5.7369131944444485E-2]
[30,46," Auke Brouwer",2.2835069444444443E-2,null,12.863985402569757,null,30,52,"Pool-der run4fun",0.23110809027777782,5.7832685185185251E-2]
[31,18," Kees Boot",2.2923032407407406E-2,null,12.81462220090379,null,31,54,"De Dijkies",0.23121136574074075,5.7935960648148183E-2]
[32,28," Niels Ensing",2.2997916666666663E-2,null,12.77289609566084,null,32,34,"Team 't Voorhuys",0.23219745370370368,5.8922048611111111E-2]
[33,36," Albert Hoekman",2.333611111111111E-2,null,12.587787168194263,null,33,31,"fam.Dekker Draaft Door",0.23292907407407407,5.96536689814815E-2]
[34,50," Reinier van der Linde",2.338449074074074E-2,null,12.56174458775898,null,34,33,"woensdagavondlopers",0.23303697916666663,5.9761574074074064E-2]
[35,56," Richard ter Wijlen",2.3469212962962963E-2,null,12.516397565762869,null,35,37,"Van Staveren",0.23343921296296297,6.01638078703704E-2]
[36,26," Tessa Peters",2.3489814814814814E-2,"v",12.505420000788364,null,36,46,"Hoekstra Assurantie B.V.",0.23452678240740743,6.1251377314814864E-2]
[37,38," Jesper Kooijman",2.3580555555555559E-2,null,12.457297679349745,null,37,49,"Flynth",0.23673217592592594,6.345677083333337E-2]
[38,49," Auke Johannes van Slooten",2.3592476851851851E-2,null,12.451002997463686,null,38,42,"Kinderopvang Pipo",0.23788194444444441,6.4606539351851844E-2]
[39,16," Nolke van der Meer",2.3630439814814816E-2,null,12.431000112652876,null,39,16,"Team Nagele",0.23863116898148151,6.5355763888888946E-2]
[40,33," ivo de wit",2.3909027777777783E-2,null,12.286154114264136,null,40,50,"Nick & de rest",0.23868760416666668,6.5412199074074112E-2]
[41,24," Tom ter Haar",2.3982060185185183E-2,null,12.248739171352044,null,41,56,"De Broodlopers",0.23886557870370373,6.5590173611111163E-2]
[42,13," Henny van Lu",2.4067013888888891E-2,"v",12.205502575274478,null,42,39,"Suplacon",0.24116755787037034,6.789215277777777E-2]
[43,42," Johan",2.430324074074074E-2,null,12.086865415753881,null,43,44,"Tafelronde Noordoostpolder",0.24366944444444444,7.0394039351851873E-2]
[44,29," Willy Sinke",2.4372337962962964E-2,"v",12.052598336950378,null,44,23,"Seaconcept",0.24400810185185187,7.0732696759259306E-2]
[45,14," Wim Vader",2.4437384259259259E-2,null,12.020517289558063,null,45,45,"Berechja College ",0.24414916666666664,7.0873761574074073E-2]
[46,39," Evelina Kupryte",2.4543750000000003E-2,"v",11.968423733129613,null,46,36,"Schol op Urk",0.24550224537037041,7.2226840277777843E-2]
[47,20," Martine Schenk",2.4660879629629626E-2,"v",11.911578354531375,null,47,40,"Mercatus, lopen op z’n best",0.24603590277777776,7.2760497685185194E-2]
[48,35," Naomi Tramper",2.5122453703703706E-2,"v",11.69272728948023,null,48,38,"Vegterlopers",0.24668140046296291,7.3405995370370347E-2]
[49,51," Sanne ",2.5378472222222222E-2,"v",11.574770830482965,null,49,28,"Waterman Onions 1",0.24697123842592592,7.3695833333333349E-2]
[50,37," Janneke van der Kamp",2.5642592592592592E-2,"v",11.455549938614862,null,50,24,"Ter Haar Family & Friends",0.24782010416666664,7.4544699074074072E-2]
[51,45," Albert Romkes",2.5856365740740742E-2,null,11.360838678776538,null,51,35,"Waterman Onions 2",0.25036603009259262,7.7090625000000051E-2]
[52,40," Brenda Bouma",2.6396643518518517E-2,"v",11.128308786453104,null,52,41,"Advies en Kies en Runners",0.25120677083333331,7.7931365740740749E-2]
[53,55," Grietje Overmars",2.7086805555555555E-2,"v",10.844763491860018,null,53,55,"Fifty-Five",0.25521528935185184,8.1939884259259271E-2]
[54,43," Dirkje van de Berg",2.7133101851851849E-2,"v",10.826259437785268,null,54,43,"Lerøy Seafood NL",0.25944853009259256,8.6173124999999989E-2]

{"sheet":"12E","index":15,"n_rows":58,"n_cols":12,"rows_kept":58,"cut":false,"hidden":false,"merged":[]}
["Etappeuitslag Voorhuys 12-dorpenloop AV NOP 2 april 2022"]
["Uitslag van deze etappe. De tijd is de brutotijd",null,null,null,null,null,null,"Uitslag t/m deze etappe. De tijd is de som van de nettotijden."]
["Bant - Emmeloord",null,null,5.93,"km",null,null,"Bant - Emmeloord"]
["nr","team","Naam loper","Tijd",null,"km/h",null,"nr ","team","Teamnaam","Tijd","∆"]
[1,2," Daniël Klappe",1.3839583333333334E-2,null,17.853379497215112,null,1,2,"hardloopbegeleidingopmaat/klif 18",0.18711498842592589,0]
[2,1," Fokke Snoek",1.3991782407407408E-2,null,17.659174945611262,null,2,4,"Klif 18",0.19571425925925923,8.599270833333339E-3]
[3,4," Geert de Wit ",1.4196180555555556E-2,null,17.404916228445639,null,3,1,"De Corner",0.20101564814814815,1.3900659722222264E-2]
[4,31," Jarno Dekker",1.4914467592592592E-2,null,16.566688136829608,null,4,3,"Quick Jewels",0.21592106481481479,2.8806076388888907E-2]
[5,9," Mark Versluis",1.5106597222222221E-2,null,16.355988691474934,null,5,6,"Running Ruijters",0.21996226851851852,3.2847280092592634E-2]
[6,24," Quirijn van Toledo",1.5162615740740742E-2,null,16.29556123812068,null,6,5,"Dujob",0.22385231481481482,3.6737326388888936E-2]
[7,3," Barend Baarsen",1.5204513888888889E-2,null,16.250656557582953,null,7,8,"Hardloopteam Bant",0.22487870370370364,3.7763715277777749E-2]
[8,26," Theo Knook",1.557638888888889E-2,null,15.862683905483726,null,8,10,"RUN TEAM MARKNESSE",0.23200407407407408,4.4889085648148197E-2]
[9,8," Wietze van Wegen",1.6005324074074075E-2,null,15.437571409976425,null,9,7,"ASV Rutten",0.23230447916666669,4.5189490740740801E-2]
[10,32," Robert van Loenen",1.6074768518518519E-2,null,15.370879714298056,null,10,9,"VAN BLOOIS SPORTADVIES",0.23316604166666666,4.6051053240740769E-2]
[11,44," Jasper Stege",1.7029629629629627E-2,null,14.509025663331885,null,11,25,"Hardloop groep Ens",0.23383046296296292,4.6715474537037033E-2]
[12,47," Gerrit Visser",1.7242708333333332E-2,null,14.329728750075516,null,12,11,"Kraggenburg 4",0.23426664351851856,4.715165509259267E-2]
[13,11," Lars van Diepen ",1.733599537037037E-2,null,14.252618788514051,null,13,26,"van Vilsteren Marknesse.nl",0.23441657407407407,4.7301585648148181E-2]
[14,17," Harry Feenstra",1.7553703703703707E-2,null,14.07585188311003,null,14,32,"Ber-di-do",0.2346401851851852,4.7525196759259314E-2]
[15,6," Jan Ruijter",1.7628240740740739E-2,null,14.016335320534706,null,15,13,"KLIF18 ladies",0.23528437500000002,4.816938657407413E-2]
[16,5," Arie Baak",1.7890046296296296E-2,null,13.811218218282978,null,16,21,"050media",0.23839313657407407,5.1278148148148184E-2]
[17,50," Jack Gros",1.7989236111111109E-2,null,13.73506533613851,null,17,17,"SAMEN ONDER WEG",0.23981464120370372,5.2699652777777828E-2]
[18,15," Carolien Breimer",1.8074189814814814E-2,"v",13.670506720628071,null,18,27,"Running Team Espel",0.2419350925925926,5.4820104166666717E-2]
[19,16," Peter van der Kooi",1.8324537037037038E-2,null,13.483742199540181,null,19,18,"Fit Fun/ Anytime",0.24254679398148149,5.5431805555555602E-2]
[20,25," Larissa Wouters",1.8420717592592593E-2,"v",13.413339197637523,null,20,20,"Creil",0.24361332175925929,5.64983333333334E-2]
[21,20," Leo Tubben",1.8425810185185184E-2,null,13.409631970050063,null,21,19,"STC Rutten",0.24391153935185186,5.6796550925925976E-2]
[22,22," Cees Leijten",1.8431134259259258E-2,null,13.405758422556438,null,22,14,"Vivan komt dr’an",0.24411401620370374,5.699902777777785E-2]
[23,14," André Bakker",1.8930324074074075E-2,null,13.05225057777669,null,23,12,"Hekwerkwebshop.nl",0.24666466435185186,5.9549675925925971E-2]
[24,18," Jose Stuivenvolt",1.9285532407407407E-2,"v",12.811849220114386,null,24,15,"Aves",0.24691130787037038,5.9796319444444496E-2]
[25,41," Ankie Kooij",1.929386574074074E-2,"v",12.806315574778493,null,25,51,"Van Urk voeding",0.24708312499999999,5.9968136574074099E-2]
[26,21," Onur Aksoy",1.9313657407407408E-2,null,12.793192305387427,null,26,22,"Tollebeek in beweging",0.24725326388888888,6.0138275462962992E-2]
[27,46," Hein Ras",1.9320254629629632E-2,null,12.788823857135153,null,27,47,"CrossFit Urk",0.24781517361111111,6.0700185185185218E-2]
[28,27," Albert de Vries",1.9349537037037037E-2,null,12.769470032300514,null,28,31,"fam.Dekker Draaft Door",0.24784354166666667,6.0728553240740779E-2]
[29,30," Erwin Kooistra",1.9421180555555556E-2,null,12.722364257236336,null,29,29,"Waterman Onions Pink Ladies",0.2490511226851852,6.1936134259259312E-2]
[30,37," Luuk Valk",1.9553472222222222E-2,null,12.63628937741947,null,30,30,"Autofirst Minnaard ",0.24957707175925928,6.246208333333339E-2]
[31,13," Karina Post",1.9596180555555554E-2,"v",12.608749579176781,null,31,54,"De Dijkies",0.25124342592592591,6.4128437500000024E-2]
[32,10," Cees Masteling",1.9705439814814815E-2,null,12.538838800622596,null,32,52,"Pool-der run4fun",0.25128482638888894,6.416983796296305E-2]
[33,34," Mart Hazenberg",1.9984259259259261E-2,null,12.363897511930684,null,33,34,"Team 't Voorhuys",0.25218171296296293,6.5066724537037046E-2]
[34,7," Pim Dollekamp",2.0015393518518519E-2,null,12.344665274990891,null,34,37,"Van Staveren",0.2529926851851852,6.5877696759259308E-2]
[35,54," Jesse Dijkstra",2.0032060185185184E-2,null,12.334394518046881,null,35,46,"Hoekstra Assurantie B.V.",0.25384703703703704,6.673204861111115E-2]
[36,43," Ricardo van Essen",2.0097800925925925E-2,null,12.294048201791011,null,36,33,"woensdagavondlopers",0.25393674768518515,6.6821759259259261E-2]
[37,49," Klaas Mosselaar",2.0157523148148147E-2,null,12.257623693019678,null,37,50,"Nick & de rest",0.25667684027777776,6.9561851851851875E-2]
[38,52," Arek",2.0176736111111111E-2,null,12.245951573766542,null,38,49,"Flynth",0.25688969907407411,6.9774710648148219E-2]
[39,42," Bas",2.0677662037037036E-2,null,11.949287733340796,null,39,16,"Team Nagele",0.25695570601851853,6.9840717592592638E-2]
[40,45," Gerlinde Bakker",2.0857754629629629E-2,"v",11.846113722247809,null,40,42,"Kinderopvang Pipo",0.25855960648148146,7.1444618055555575E-2]
[41,29," Hilde Woort",2.0862500000000003E-2,"v",11.843419213101656,null,41,44,"Tafelronde Noordoostpolder",0.26069907407407406,7.3584085648148168E-2]
[42,33," hans vis",2.0899768518518519E-2,null,11.82229999889242,null,42,56,"De Broodlopers",0.26079648148148149,7.3681493055555602E-2]
[43,12," Andries Pasterkamp",2.0964814814814815E-2,null,11.785619644907694,null,43,39,"Suplacon",0.26232114583333332,7.5206157407407437E-2]
[44,23," Gerrit Post",2.1098263888888889E-2,null,11.711074173427908,null,44,45,"Berechja College ",0.26292114583333331,7.5806157407407426E-2]
[45,39," Antijn Koers",2.1153587962962964E-2,null,11.680445594664244,null,45,24,"Ter Haar Family & Friends",0.2629827199074074,7.5867731481481515E-2]
[46,51," Albert Koffeman",2.1182523148148152E-2,null,11.664490183971978,null,46,23,"Seaconcept",0.26510636574074076,7.7991377314814869E-2]
[47,19," Marieke vd Heuvel",2.1355092592592592E-2,"v",11.570230017126628,null,47,36,"Schol op Urk",0.26616880787037039,7.9053819444444506E-2]
[48,38," Marco de Jong",2.1546412037037038E-2,null,11.467493191377356,null,48,28,"Waterman Onions 1",0.2663878009259259,7.9272812500000012E-2]
[49,28," Miriam Waterman",2.1573958333333334E-2,"v",11.452851141905267,null,49,38,"Vegterlopers",0.26822781249999994,8.1112824074074052E-2]
[50,56," Piet Rienstra",2.1930902777777778E-2,null,11.266446066401734,null,50,41,"Advies en Kies en Runners",0.26857124999999998,8.1456261574074096E-2]
[51,55," Harm Schippers",2.1957291666666667E-2,null,11.252905735566204,null,51,40,"Mercatus, lopen op z’n best",0.26960881944444443,8.2493831018518538E-2]
[52,36," Hanneke Vos",2.2962847222222221E-2,"v",10.760134879712096,null,52,55,"Fifty-Five",0.27717258101851849,9.0057592592592606E-2]
[53,40," Johan van Buiten",2.3572916666666666E-2,null,10.481661511268229,null,53,43,"Lerøy Seafood NL",0.2795463310185185,9.2431342592592614E-2]
[54,35," Asata Kanten",3.2638888888888891E-2,"v",7.5702127659574456,null,54,35,"Waterman Onions 2",0.2797410300925926,9.2626041666666714E-2]

{"sheet":"Einduitslag","index":16,"n_rows":56,"n_cols":17,"rows_kept":56,"cut":false,"hidden":false,"merged":[]}
[null,null,"Einduitslag Voorhuys12-dorpenloop 2022 AV NOP. De tijden zijn netto tijden"]
["nr","team","Teamnaam",1,2,3,4,5,6,7,8,9,10,11,12,"Totaal","∆"]
[1,2,"hardloopbegeleidingopmaat/klif 18",2.631944444444444E-2,1.18015625E-2,1.3798263888888889E-2,1.5488078703703704E-2,1.8119444444444441E-2,1.2618518518518517E-2,1.1133333333333334E-2,1.9076041666666665E-2,1.2815972222222222E-2,1.4746643518518518E-2,1.735810185185185E-2,1.3839583333333334E-2,0.18711498842592589,"00:00:00"]
[2,4,"Klif 18",2.8752187500000002E-2,1.2637615740740739E-2,1.4644675925925927E-2,1.5759374999999999E-2,1.9071064814814815E-2,1.5274768518518516E-2,1.1555208333333334E-2,1.9317187499999999E-2,1.2615972222222223E-2,1.4593981481481484E-2,1.7296041666666664E-2,1.4196180555555556E-2,0.19571425925925923,"00:12:22.977"]
[3,1,"De Corner",3.0028009259259258E-2,1.1438958333333334E-2,1.5867083333333334E-2,1.6260625000000001E-2,1.9000115740740741E-2,1.5036342592592594E-2,1.1088437499999999E-2,2.0539814814814813E-2,1.2540520833333334E-2,1.6100810185185187E-2,1.912314814814815E-2,1.3991782407407408E-2,0.20101564814814815,"00:20:01.017"]
[4,3,"Quick Jewels",3.0528240740740741E-2,1.2374305555555555E-2,1.6951157407407408E-2,1.7598958333333331E-2,2.1358680555555554E-2,1.4771643518518519E-2,1.4910185185185186E-2,2.2124768518518519E-2,1.4581712962962963E-2,1.6441550925925925E-2,1.9075347222222223E-2,1.5204513888888889E-2,0.21592106481481479,"00:41:28.845"]
[5,6,"Running Ruijters",3.4441782407407411E-2,1.3958912037037037E-2,1.5308680555555556E-2,1.5955787037037036E-2,1.8857638888888889E-2,1.5836805555555555E-2,1.3580555555555556E-2,2.2526967592592595E-2,1.5659953703703704E-2,1.5777083333333334E-2,2.042986111111111E-2,1.7628240740740739E-2,0.21996226851851852,"00:47:18.005"]
[6,5,"Dujob",3.0492476851851847E-2,1.4608101851851853E-2,1.7720138888888889E-2,1.7920833333333334E-2,2.3159143518518523E-2,1.5780324074074075E-2,1.2940393518518516E-2,2.2620601851851854E-2,1.3210532407407409E-2,1.6570254629629629E-2,2.0939467592592593E-2,1.7890046296296296E-2,0.22385231481481482,"00:52:54.105"]
[7,8,"Hardloopteam Bant",3.6862499999999999E-2,1.4434143518518518E-2,1.4382060185185183E-2,1.6409722222222221E-2,2.3597222222222217E-2,1.6096874999999997E-2,1.5480208333333334E-2,2.2579745370370372E-2,1.4487731481481482E-2,1.6390509259259261E-2,1.8152662037037037E-2,1.6005324074074075E-2,0.22487870370370364,"00:54:22.785"]
[8,10,"RUN TEAM MARKNESSE",3.4679398148148147E-2,1.6292824074074074E-2,1.5559722222222223E-2,1.9411342592592591E-2,2.2092592592592594E-2,1.7399270833333334E-2,1.3432812500000002E-2,2.3640972222222223E-2,1.4422222222222223E-2,1.6346412037037038E-2,1.9021064814814814E-2,1.9705439814814815E-2,0.23200407407407408,"01:04:38.417"]
[9,7,"ASV Rutten",3.8807291666666667E-2,1.3908564814814813E-2,1.6017245370370369E-2,2.0503703703703705E-2,2.2019062500000002E-2,1.3916203703703701E-2,1.2926967592592592E-2,1.8525231481481479E-2,1.4746875E-2,2.0126736111111113E-2,2.0791203703703704E-2,2.0015393518518519E-2,0.23230447916666669,"01:05:04.372"]
[10,9,"VAN BLOOIS SPORTADVIES",3.3185300925925927E-2,1.4227395833333333E-2,1.8993287037037034E-2,1.9982604166666668E-2,2.6694675925925924E-2,1.67059375E-2,1.4798645833333332E-2,2.404537037037037E-2,1.3929583333333332E-2,1.6049074074074073E-2,1.9447569444444444E-2,1.5106597222222221E-2,0.23316604166666666,"01:06:18.811"]
[11,25,"Hardloop groep Ens",3.4673611111111106E-2,1.6354687499999999E-2,1.8083217592592595E-2,1.612210648148148E-2,2.2174652777777776E-2,1.7897337962962962E-2,1.4371562499999999E-2,2.4470717592592593E-2,1.475541666666667E-2,1.6166562499999999E-2,2.2181944444444445E-2,1.6578645833333332E-2,0.23383046296296292,"01:07:16.217"]
[12,11,"Kraggenburg 4",3.6504050925925922E-2,1.3455787037037039E-2,1.6712847222222223E-2,1.87528125E-2,2.3869907407407409E-2,1.7283564814814814E-2,1.2710300925925925E-2,2.582048611111111E-2,1.3891145833333333E-2,1.6363425925925924E-2,2.1566319444444444E-2,1.733599537037037E-2,0.23426664351851856,"01:07:53.903"]
[13,26,"van Vilsteren Marknesse.nl",3.1960833333333334E-2,1.1851736111111113E-2,1.7616319444444445E-2,1.7649537037037036E-2,2.6353587962962968E-2,1.721550925925926E-2,1.5583564814814816E-2,2.4964004629629628E-2,1.60825E-2,1.8421759259259259E-2,2.1140833333333334E-2,1.557638888888889E-2,0.23441657407407407,"01:08:06.857"]
[14,32,"Ber-di-do",3.5398379629629627E-2,1.3433750000000001E-2,1.6070208333333336E-2,2.0512037037037037E-2,2.1879166666666668E-2,1.6690393518518521E-2,1.2997569444444445E-2,2.4554629629629631E-2,1.5426273148148149E-2,1.9405208333333333E-2,2.2197800925925926E-2,1.6074768518518519E-2,0.2346401851851852,"01:08:26.177"]
[15,13,"KLIF18 ladies",3.3832500000000001E-2,1.20965625E-2,1.7453958333333332E-2,1.90509375E-2,2.5188958333333338E-2,1.7440000000000001E-2,1.4646979166666668E-2,2.4025208333333332E-2,1.5460520833333335E-2,1.6791875000000001E-2,2.1660312500000004E-2,1.7636562499999998E-2,0.23528437500000002,"01:09:21.835"]
[16,21,"050media",3.2797106481481479E-2,1.5540509259259259E-2,1.7694097222222222E-2,1.8474791666666667E-2,2.3302430555555559E-2,1.7010069444444446E-2,1.460127314814815E-2,2.2676388888888888E-2,1.8990104166666664E-2,1.6856018518518517E-2,2.1136689814814813E-2,1.9313657407407408E-2,0.23839313657407407,"01:13:50.432"]
[17,17,"SAMEN ONDER WEG",3.5894675925925927E-2,1.5205324074074074E-2,1.8851504629629628E-2,1.7690046296296294E-2,2.5113078703703703E-2,1.7263657407407405E-2,1.5427604166666668E-2,2.2564236111111111E-2,1.5375578703703702E-2,1.9045717592592593E-2,1.982951388888889E-2,1.7553703703703707E-2,0.23981464120370372,"01:15:53.250"]
[18,27,"Running Team Espel",3.5518865740740736E-2,1.2566782407407407E-2,1.8538194444444444E-2,2.0639699074074074E-2,2.2547708333333333E-2,1.7360520833333334E-2,1.5553587962962962E-2,2.1408564814814814E-2,1.7020312500000002E-2,1.9455625000000001E-2,2.1975694444444444E-2,1.9349537037037037E-2,0.2419350925925926,"01:18:56.457"]
[19,18,"Fit Fun/ Anytime",3.9177314814814818E-2,1.5845486111111109E-2,1.7901273148148149E-2,2.0041782407407407E-2,2.199351851851852E-2,1.6457060185185186E-2,1.5848726851851853E-2,2.2107407407407409E-2,1.4506828703703704E-2,1.838738425925926E-2,2.2923032407407406E-2,1.7356979166666668E-2,0.24254679398148149,"01:19:49.308"]
[20,20,"Creil",3.0941250000000003E-2,1.4507291666666668E-2,1.7972500000000002E-2,2.2597800925925927E-2,2.0994687500000001E-2,1.522337962962963E-2,1.59809375E-2,2.8168634259259254E-2,1.7041550925925925E-2,1.95646875E-2,2.2194791666666665E-2,1.8425810185185184E-2,0.24361332175925929,"01:21:21.456"]
[21,19,"STC Rutten",3.6444444444444439E-2,1.4078333333333335E-2,2.1540208333333335E-2,2.3123854166666666E-2,2.2046643518518514E-2,1.6363425925925924E-2,1.4589999999999999E-2,2.2648495370370367E-2,1.5404479166666669E-2,1.7027187500000002E-2,2.1424884259259258E-2,1.9219583333333335E-2,0.24391153935185186,"01:21:47.222"]
[22,14,"Vivan komt dr’an",3.2724074074074079E-2,1.6245138888888889E-2,1.7210833333333335E-2,1.9897453703703702E-2,2.3978009259259261E-2,1.4233541666666667E-2,1.4482604166666668E-2,2.5971643518518519E-2,1.5636458333333336E-2,2.0366550925925927E-2,2.4437384259259259E-2,1.8930324074074075E-2,0.24411401620370374,"01:22:04.716"]
[23,12,"Hekwerkwebshop.nl",3.7007986111111106E-2,1.3222187500000001E-2,1.8576273148148147E-2,1.8894560185185184E-2,2.6266087962962963E-2,1.9049305555555555E-2,1.51896875E-2,2.274502314814815E-2,1.6114479166666668E-2,1.9485879629629627E-2,1.914837962962963E-2,2.0964814814814815E-2,0.24666466435185186,"01:25:45.092"]
[24,15,"Aves",3.7069791666666671E-2,1.5928229166666669E-2,1.7073124999999998E-2,2.3541898148148145E-2,2.7750115740740738E-2,1.6352546296296299E-2,1.6116770833333335E-2,2.4404513888888885E-2,1.6148020833333335E-2,1.639239583333333E-2,1.986712962962963E-2,1.6266770833333333E-2,0.24691130787037038,"01:26:06.402"]
[25,51,"Van Urk voeding",3.7781597222222227E-2,1.2352314814814814E-2,1.8589930555555554E-2,1.9471249999999999E-2,2.5767361111111109E-2,1.4993645833333336E-2,1.4354687500000001E-2,2.7146064814814814E-2,1.3569675925925924E-2,1.9033449074074074E-2,2.2840625E-2,2.1182523148148152E-2,0.24708312499999999,"01:26:21.247"]
[26,22,"Tollebeek in beweging",3.2293634259259262E-2,1.6663229166666665E-2,1.9487731481481484E-2,2.111886574074074E-2,2.2237268518518521E-2,1.8878935185185183E-2,1.5668854166666666E-2,2.8453587962962962E-2,1.2730555555555556E-2,1.8704282407407406E-2,2.2585185185185184E-2,1.8431134259259258E-2,0.24725326388888888,"01:26:35.947"]
[27,47,"CrossFit Urk",3.8689814814814809E-2,1.5333333333333332E-2,1.5722453703703704E-2,2.021111111111111E-2,2.7365625000000001E-2,1.5205671296296295E-2,1.5616550925925926E-2,2.5422337962962963E-2,1.5968958333333335E-2,1.862677083333333E-2,2.2409837962962965E-2,1.7242708333333332E-2,0.24781517361111111,"01:27:24.496"]
[28,31,"fam.Dekker Draaft Door",3.6869791666666665E-2,1.7344895833333332E-2,2.2381250000000002E-2,2.0520717592592594E-2,2.6185416666666669E-2,1.9338657407407405E-2,1.5262604166666667E-2,2.4727430555555555E-2,1.3977708333333333E-2,1.5951851851851852E-2,2.0368750000000001E-2,1.4914467592592592E-2,0.24784354166666667,"01:27:26.947"]
[29,29,"Waterman Onions Pink Ladies",3.3826979166666674E-2,1.4996875000000002E-2,2.2091979166666664E-2,2.0398726851851852E-2,2.214635416666667E-2,1.7500208333333333E-2,1.5995937499999998E-2,2.6844583333333328E-2,1.7215000000000001E-2,1.7323125000000002E-2,2.1935104166666667E-2,1.8776250000000001E-2,0.2490511226851852,"01:29:11.282"]
[30,30,"Autofirst Minnaard ",3.3131354166666675E-2,1.6826041666666666E-2,1.8821412037037036E-2,2.2303472222222225E-2,2.6740277777777779E-2,1.5786458333333333E-2,1.4400925925925926E-2,2.472604166666667E-2,1.586423611111111E-2,1.941574074074074E-2,2.2139930555555552E-2,1.9421180555555556E-2,0.24957707175925928,"01:29:56.724"]
[31,54,"De Dijkies",3.8070254629629631E-2,1.5898645833333336E-2,1.6895729166666665E-2,2.0157523148148147E-2,2.4796874999999999E-2,1.8991435185185184E-2,1.3511875000000001E-2,2.7081018518518522E-2,1.5610208333333334E-2,1.8491203703703704E-2,2.1706597222222221E-2,2.0032060185185184E-2,0.25124342592592591,"01:32:20.697"]
[32,52,"Pool-der run4fun",3.0885648148148148E-2,1.5790509259259258E-2,2.1273958333333336E-2,2.0233541666666664E-2,2.3589236111111109E-2,1.4677199074074075E-2,1.6087708333333332E-2,3.1531597222222228E-2,1.5908020833333335E-2,1.8895949074074072E-2,2.2234722222222222E-2,2.0176736111111111E-2,0.25128482638888894,"01:32:24.274"]
[33,34,"Team 't Voorhuys",3.0955439814814814E-2,1.5868287037037035E-2,1.8177291666666668E-2,2.1761562499999998E-2,2.2989236111111113E-2,1.7648645833333334E-2,1.6110532407407407E-2,3.1402083333333337E-2,1.6079166666666669E-2,1.9381018518518516E-2,2.1824189814814817E-2,1.9984259259259261E-2,0.25218171296296293,"01:33:41.765"]
[34,37,"Van Staveren",3.470798611111111E-2,1.7752314814814815E-2,1.5348148148148147E-2,2.0295717592592591E-2,2.478460648148148E-2,2.0196643518518517E-2,1.5985416666666665E-2,2.4913078703703708E-2,1.6343518518518518E-2,2.0033449074074075E-2,2.3078333333333333E-2,1.9553472222222222E-2,0.2529926851851852,"01:34:51.833"]
[35,46,"Hoekstra Assurantie B.V.",3.4583217592592592E-2,1.7461145833333334E-2,1.7480671296296296E-2,2.0453009259259258E-2,2.7707754629629627E-2,1.7477083333333334E-2,1.6806770833333332E-2,2.4457638888888886E-2,1.6126458333333336E-2,1.9137962962962964E-2,2.2835069444444443E-2,1.9320254629629632E-2,0.25384703703703704,"01:36:05.649"]
[36,33,"woensdagavondlopers",3.7125810185185182E-2,1.4915972222222221E-2,1.6321145833333332E-2,1.9452291666666666E-2,2.7754861111111112E-2,1.9818287037037037E-2,1.7714004629629628E-2,2.251447916666667E-2,1.4646979166666668E-2,1.8864120370370368E-2,2.3909027777777783E-2,2.0899768518518519E-2,0.25393674768518515,"01:36:13.400"]
[37,50,"Nick & de rest",3.9701041666666666E-2,1.4348854166666666E-2,1.9223437499999999E-2,2.0958680555555553E-2,2.6811921296296296E-2,1.7710104166666667E-2,1.6637187500000001E-2,2.4123148148148147E-2,1.6363425925925924E-2,1.94253125E-2,2.338449074074074E-2,1.7989236111111109E-2,0.25667684027777776,"01:40:10.144"]
[38,49,"Flynth",3.657789351851852E-2,1.5831018518518519E-2,1.6913888888888891E-2,2.1265393518518517E-2,2.6864004629629634E-2,1.6883564814814817E-2,1.6227777777777775E-2,2.3953472222222227E-2,1.7664004629629627E-2,2.0958680555555553E-2,2.3592476851851851E-2,2.0157523148148147E-2,0.25688969907407411,"01:40:28.535"]
[39,16,"Team Nagele",3.9838541666666664E-2,1.5754375000000001E-2,1.95259375E-2,2.1662152777777777E-2,2.6273645833333335E-2,1.7548263888888891E-2,1.5514479166666664E-2,2.5671527777777776E-2,1.5561921296296298E-2,1.7649884259259258E-2,2.3630439814814816E-2,1.8324537037037038E-2,0.25695570601851853,"01:40:34.238"]
[40,42,"Kinderopvang Pipo",3.7462615740740744E-2,1.4746562500000001E-2,1.8896666666666666E-2,2.0164004629629629E-2,2.6057754629629629E-2,1.9115509259259259E-2,1.4224479166666667E-2,2.8786342592592593E-2,1.4285879629629629E-2,1.9838888888888889E-2,2.430324074074074E-2,2.0677662037037036E-2,0.25855960648148146,"01:42:52.815"]
[41,44,"Tafelronde Noordoostpolder",3.8059027777777775E-2,1.5192939814814815E-2,1.9039930555555556E-2,2.0571990740740741E-2,2.2421412037037038E-2,1.6515277777777778E-2,1.4619675925925925E-2,4.027777777777778E-2,1.5341666666666665E-2,2.2877777777777778E-2,1.8751967592592594E-2,1.7029629629629627E-2,0.26069907407407406,"01:45:57.665"]
[42,56,"De Broodlopers",3.5214351851851851E-2,1.7736145833333335E-2,1.9473611111111112E-2,2.0912384259259259E-2,2.8761458333333333E-2,1.9999884259259259E-2,1.9111145833333336E-2,2.2333333333333337E-2,1.2382291666666668E-2,1.9471759259259258E-2,2.3469212962962963E-2,2.1930902777777778E-2,0.26079648148148149,"01:46:06.081"]
[43,39,"Suplacon",3.3821770833333327E-2,1.3993333333333335E-2,1.8343287037037036E-2,2.0114814814814815E-2,2.8154513888888885E-2,1.9490162037037038E-2,1.4610648148148149E-2,2.7920138888888887E-2,1.9040972222222223E-2,2.3588541666666667E-2,2.2089375000000005E-2,2.1153587962962964E-2,0.26232114583333332,"01:48:17.812"]
[44,45,"Berechja College ",3.6890740740740745E-2,2.1527777777777781E-2,1.8144375000000001E-2,2.2065312500000003E-2,2.3501388888888888E-2,1.8227395833333333E-2,1.8148333333333332E-2,2.37059375E-2,1.6171354166666665E-2,1.9910185185185184E-2,2.5856365740740742E-2,1.8771979166666668E-2,0.26292114583333331,"01:49:09.652"]
[45,24,"Ter Haar Family & Friends",4.1702314814814817E-2,1.6823842592592592E-2,1.9742083333333334E-2,2.0768402777777778E-2,2.6872337962962966E-2,2.2484606481481484E-2,1.4491041666666668E-2,2.6855324074074077E-2,1.3686979166666667E-2,2.0411111111111113E-2,2.3982060185185183E-2,1.5162615740740742E-2,0.2629827199074074,"01:49:14.972"]
[46,23,"Seaconcept",3.7706712962962963E-2,1.6110532407407407E-2,2.0759722222222221E-2,2.2295833333333334E-2,2.9943402777777777E-2,1.6926504629629632E-2,1.3690162037037037E-2,2.5363310185185187E-2,1.7887615740740742E-2,2.1205671296296299E-2,2.2118634259259261E-2,2.1098263888888889E-2,0.26510636574074076,"01:52:18.455"]
[47,36,"Schol op Urk",3.5316319444444445E-2,1.4088020833333333E-2,1.6892592592592594E-2,2.0271354166666665E-2,2.776099537037037E-2,1.9242824074074075E-2,2.005775462962963E-2,2.8879282407407406E-2,1.9736574074074073E-2,1.9920416666666666E-2,2.333611111111111E-2,2.0666562499999999E-2,0.26616880787037039,"01:53:50.250"]
[48,28,"Waterman Onions 1",4.1602893518518515E-2,1.3118287037037038E-2,1.8536354166666665E-2,2.2040856481481481E-2,2.7035069444444445E-2,2.1949375E-2,1.6646354166666669E-2,2.655439814814815E-2,1.7315312499999999E-2,1.9174421296296294E-2,2.2997916666666663E-2,1.9416562500000002E-2,0.2663878009259259,"01:54:09.171"]
[49,38,"Vegterlopers",3.9592939814814813E-2,1.4101388888888891E-2,2.0981828703703704E-2,1.9877187500000001E-2,2.7696643518518516E-2,1.8028124999999999E-2,1.7396979166666666E-2,2.7351157407407404E-2,1.7755729166666664E-2,2.0318865740740742E-2,2.3580555555555559E-2,2.1546412037037038E-2,0.26822781249999994,"01:56:48.148"]
[50,41,"Advies en Kies en Runners",4.2587384259259259E-2,1.536875E-2,2.1821296296296297E-2,2.2380104166666664E-2,2.69443287037037E-2,1.9722106481481479E-2,1.436375E-2,2.8032638888888888E-2,1.8263310185185188E-2,1.9511875000000001E-2,2.2211226851851854E-2,1.7364479166666665E-2,0.26857124999999998,"01:57:17.821"]
[51,40,"Mercatus, lopen op z’n best",3.9434143518518518E-2,1.5835520833333335E-2,2.1494675925925924E-2,2.0425231481481482E-2,2.3786689814814816E-2,2.1206828703703703E-2,1.8946180555555556E-2,2.3696296296296299E-2,1.6253472222222221E-2,2.1199884259259259E-2,2.3756979166666668E-2,2.3572916666666666E-2,0.26960881944444443,"01:58:47.467"]
[52,55,"Fifty-Five",3.4685532407407411E-2,1.714697916666667E-2,2.3082523148148151E-2,2.5203333333333335E-2,2.7907060185185184E-2,1.9711458333333334E-2,1.7530416666666666E-2,2.8257986111111109E-2,1.7651562500000002E-2,1.9660312499999999E-2,2.4378125E-2,2.1957291666666667E-2,0.27717258101851849,"02:09:40.976"]
[53,43,"Lerøy Seafood NL",4.210775462962963E-2,1.6007175925925928E-2,1.8336805555555554E-2,2.3675694444444444E-2,3.1404282407407405E-2,2.3503935185185187E-2,1.7191250000000002E-2,2.6032395833333336E-2,1.519699074074074E-2,2.1572453703703701E-2,2.4419791666666666E-2,2.0097800925925925E-2,0.2795463310185185,"02:13:06.068"]
[54,35,"Waterman Onions 2",4.0481250000000003E-2,1.5441562499999999E-2,2.1390509259259258E-2,2.3940046296296293E-2,2.5019062500000001E-2,2.1005324074074076E-2,1.5837152777777776E-2,2.66515625E-2,1.9023958333333334E-2,1.896539351851852E-2,2.2610208333333336E-2,2.9375000000000002E-2,0.2797410300925926,"02:13:22.890"]

{"sheet":"Digilink","index":17,"n_rows":61,"n_cols":5,"rows_kept":61,"cut":false,"hidden":false,"merged":[]}
["00:00:00","Deze tijd komt er bij."]
[12,"etappe"]
[null,"2002-04-22"]
[null,"MCH-010"]
[null,"    Lap#  "," Lap Time "," Split Time "," Speed"]
[null,1," 0:19'55.74",1.3839583333333334E-2]
[null,2," 0:00'13.15",1.3991782407407408E-2]
[null,3," 0:00'17.66",1.4196180555555556E-2]
[null,4," 0:01'02.06",1.4914467592592592E-2]
[null,"1900-01-05"," 0:00'16.60",1.5106597222222221E-2]
[null,6," 0:00'04.84",1.5162615740740742E-2]
[null,7," 0:00'03.62",1.5204513888888889E-2]
[null,8," 0:00'32.13",1.557638888888889E-2]
[null,9," 0:00'37.06",1.6005324074074075E-2]
[null,10," 0:00'06.00",1.6074768518518519E-2]
[null,11," 0:01'22.50",1.7029629629629627E-2]
[null,12," 0:00'18.41",1.7242708333333332E-2]
[null,13," 0:00'08.06",1.733599537037037E-2]
[null,14," 0:00'18.81",1.7553703703703707E-2]
[null,15," 0:00'06.44",1.7628240740740739E-2]
[null,16," 0:00'22.62",1.7890046296296296E-2]
[null,17," 0:00'08.57",1.7989236111111109E-2]
[null,18," 0:00'07.34",1.8074189814814814E-2]
[null,19," 0:00'21.63",1.8324537037037038E-2]
[null,20," 0:00'08.31",1.8420717592592593E-2]
[null,21," 0:00'00.44",1.8425810185185184E-2]
[null,22," 0:00'00.46",1.8431134259259258E-2]
[null,23," 0:00'43.13",1.8930324074074075E-2]
[null,24," 0:00'30.69",1.9285532407407407E-2]
[null,25," 0:00'00.72",1.929386574074074E-2]
[null,26," 0:00'01.71",1.9313657407407408E-2]
[null,27," 0:00'00.57",1.9320254629629632E-2]
[null,28," 0:00'02.53",1.9349537037037037E-2]
[null,29," 0:00'06.19",1.9421180555555556E-2]
[null,30," 0:00'11.43",1.9553472222222222E-2]
[null,31," 0:00'03.69",1.9596180555555554E-2]
[null,32," 0:00'09.44",1.9705439814814815E-2]
[null,33," 0:00'24.09",1.9984259259259261E-2]
[null,34," 0:00'02.69",2.0015393518518519E-2]
[null,35," 0:00'01.44",2.0032060185185184E-2]
[null,36," 0:00'05.68",2.0097800925925925E-2]
[null,37," 0:00'05.16",2.0157523148148147E-2]
[null,38," 0:00'01.66",2.0176736111111111E-2]
[null,39," 0:00'43.28",2.0677662037037036E-2]
[null,40," 0:00'15.56",2.0857754629629629E-2]
[null,41," 0:00'00.41",2.0862500000000003E-2]
[null,42," 0:00'03.22",2.0899768518518519E-2]
[null,43," 0:00'05.62",2.0964814814814815E-2]
[null,44," 0:00'11.53",2.1098263888888889E-2]
[null,45," 0:00'04.78",2.1153587962962964E-2]
[null,46," 0:00'02.50",2.1182523148148152E-2]
[null,47," 0:00'14.91",2.1355092592592592E-2]
[null,48," 0:00'16.53",2.1546412037037038E-2]
[null,49," 0:00'02.38",2.1573958333333334E-2]
[null,50," 0:00'30.84",2.1930902777777778E-2]
[null,51," 0:00'02.28",2.1957291666666667E-2]
[null,52," 0:01'26.88",2.2962847222222221E-2]
[null,53," 0:00'52.71",2.3572916666666666E-2]
[null,"Stop time     "," 0:34'03.99"]
[null,"Average time  "," 0:00'38.42"]
[null,"Fastest time  "," 0:00'00.41"]

{"sheet":"N1L","index":18,"n_rows":58,"n_cols":4,"rows_kept":58,"cut":false,"hidden":true,"merged":[]}
[" ","Emmeloord-Luttelgeest","8.15 - 9.24  (1 h 9 min)"]
[]
[1,"De Corner"," Luc Beuckers"]
[2,"hardloopbegeleidingopmaat/klif 18"," Bas Hollegien"]
[3,"Quick Jewels"," Meindert Ruiten"]
[4,"KLIF18"," Jacolien Ruizendaal","v"]
[5,"Dujob"," Tomas Prysmantas"]
[6,"Running Ruijters"," Jos Ruijter"]
[7,"ASV Rutten"," Edwin Wever"]
[8,"Hardloopteam Bant"," Gabry Vlot"]
[9,"VAN BLOOIS SPORTADVIES"," William van Boven"]
[10,"RUN TEAM MARKNESSE"," Klaas Jurjen Zachariasse"]
[11,"Kraggenburg 4"," Marco van Diepen"]
[12,"Hekwerkwebshop.nl"," Andries de Boer"]
[13,"KLIF18 ladies"," Willeke Post","v"]
[14,"Vivan komt dr' an"," Arjen Spaan"]
[15,"Aves"," Marianne Slimmen","v"]
[16,"Team Nagele"," Wilco van der Sar"]
[17,"SAMEN ONDER WEG"," Olaf van Campen"]
[18,"Fit Fun/ Anytime"," Wim Kuis"]
[19,"STC Rutten"," Anne Oenema"]
[20,"Creil"," Erna van Es-Keen","v"]
[21,"050media"," Gert Jan van de Berg"]
[22,"Tollebeek in beweging"," Luc Overvoorde"]
[23,"Seaconcept "," Reindert Rorije"]
[24,"Ter Haar Family & Friends"," Harjan ter Haar"]
[25,"Hardloop groep Ens"," Maarten Maaskant"]
[26,"Van Vilsteren Marknesse.nl"," Iris Peters","v"]
[27,"Running Team Espel"," Pieter Maas"]
[28,"Waterman Onions - Team 1 "," Wim Waterman"]
[29,"Waterman Onions Pink Ladies"," Annegina de Vries","v"]
[30,"Autofirst Minnaard"," Daniëlle Willems","v"]
[31,"fam.Dekker Draaft Door"," Arjan Vroegop"]
[32,"Ber-di-do"," Harold Oeverhaus"]
[33,"woensdagavondlopers"," hendrik hornstra"]
[34,"Team 't Voorhuys"," Rick Hellendoorn"]
[35,"Waterman Onions 2"," Jan Dam"]
[36,"Schol op Urk "," Bert van Slooten"]
[37,"Van Staveren"," Coen Willems"]
[38,"Vegterlopers"," Alexander Kooijman"]
[39,"Suplacon"," Lianne van de Guchte","v"]
[40,"Mercatus, lopen op z'n best"," Matthijs de Vries"]
[41,"Advies en Kies en Runners"," Johann Diermeier"]
[42,"Kinderopvang Pipo"," Rafaël"]
[43,"Lerøy Seafood NL"," Wouter de Vries"]
[44,"Tafelronde Noordoostpolder"," Gert-Jan Baken"]
[45,"Berechja College "," Dirk Wesseling"]
[46,"Hoekstra Assurantie"," Jan Willem Koster"]
[47,"CrossFit Urk"," Cornelis Romkes"]
[48,"Cultuurbedrijf NOP"," #####"]
[49,"Flynth"," Albert Koffeman"]
[50,"Nick en de rest"," Peter-Paul Frijlink"]
[51,"van Urk voeding"," Cees Zwarthoed"]
[52,"Pool-der run4fun"," Krzysiek"]
[53,"UCT "," #####"]
[54,"De Dijkies"," Arnoud Kievit"]
[55,"Fifty-Five"," Gerard Hesselmans"]
[56,"De broodlopers "," Mark Groenewold"]

{"sheet":"N2M","index":19,"n_rows":58,"n_cols":4,"rows_kept":58,"cut":false,"hidden":true,"merged":[]}
["Luttelgeest - Marknesse",null,"9.24 - 9.53  (29 min)"]
[]
[1,"De Corner"," Jazlin Ruinermans","v"]
[2,"hardloopbegeleidingopmaat/klif 18"," Priscilla Freke","v"]
[3,"Quick Jewels"," Cornelis Post"]
[4,"KLIF18"," Jeroen Vels "]
[5,"Dujob"," Willem de Vries"]
[6,"Running Ruijters"," Siem Sweep"]
[7,"ASV Rutten"," Meinder Buynink"]
[8,"Hardloopteam Bant"," Tom Vermunt"]
[9,"VAN BLOOIS SPORTADVIES"," Ylva Snoek","v"]
[10,"RUN TEAM MARKNESSE"," Bennie Janssen"]
[11,"Kraggenburg 4"," Joost Potters"]
[12,"Hekwerkwebshop.nl"," Sarah Visscher","v"]
[13,"KLIF18 ladies"," Margo Ras","v"]
[14,"Vivan komt dr' an"," Paul Benjamins"]
[15,"Aves"," Greta Procee","v"]
[16,"Team Nagele"," Margo Hanson","v"]
[17,"SAMEN ONDER WEG"," Hans Jurgen Knapmann"]
[18,"Fit Fun/ Anytime"," Adriaan Bootsma"]
[19,"STC Rutten"," Selina de Jong ","v"]
[20,"Creil"," Kris van Valburg","v"]
[21,"050media"," Niek Hessels"]
[22,"Tollebeek in beweging"," Trudy van der Pol","v"]
[23,"Seaconcept "," Auke Pasterkamp"]
[24,"Ter Haar Family & Friends"," Alko Tolner"]
[25,"Hardloop groep Ens"," Ingrid Dohmen","v"]
[26,"Van Vilsteren Marknesse.nl"," Rob Loman"]
[27,"Running Team Espel"," Jeroen van de Berg"]
[28,"Waterman Onions - Team 1 "," Boguslaw Korcz"]
[29,"Waterman Onions Pink Ladies"," Isabel van Kuijk","v"]
[30,"Autofirst Minnaard"," Kyra Ronner","v"]
[31,"fam.Dekker Draaft Door"," Iris Vroegop","v"]
[32,"Ber-di-do"," Marjanne Sloots","v"]
[33,"woensdagavondlopers"," ramon vschendel"]
[34,"Team 't Voorhuys"," Robbin Gerritsen"]
[35,"Waterman Onions 2"," Sylwia Lidwa","v"]
[36,"Schol op Urk "," Linda de Boer","v"]
[37,"Van Staveren"," Pim Meijer"]
[38,"Vegterlopers"," Roan Tolsma"]
[39,"Suplacon"," Vera te Riele","v"]
[40,"Mercatus, lopen op z'n best"," Judith de Visser","v"]
[41,"Advies en Kies en Runners"," Karel Kooij"]
[42,"Kinderopvang Pipo"," Cynthia","v"]
[43,"Lerøy Seafood NL"," Peter Lens"]
[44,"Tafelronde Noordoostpolder"," Rudi Verwer"]
[45,"Berechja College "," John Dam"]
[46,"Hoekstra Assurantie"," Wilma Harteveld","v"]
[47,"CrossFit Urk"," Jan Pieter Baarssen"]
[48,"Cultuurbedrijf NOP"," #####"]
[49,"Flynth"," Lubbert van Otterloo"]
[50,"Nick en de rest"," Jantine van der Linde","v"]
[51,"van Urk voeding"," Jelle Kramer"]
[52,"Pool-der run4fun"," Marcin"]
[53,"UCT "," #####"]
[54,"De Dijkies"," Anneleen Dijkstra","v"]
[55,"Fifty-Five"," Anneke Aarnink","v"]
[56,"De broodlopers "," Meghan van Lent","v"]

{"sheet":"N3K","index":20,"n_rows":58,"n_cols":4,"rows_kept":58,"cut":false,"hidden":true,"merged":[]}
["Marknesse - Kraggenburg",null,"9.55 - 10.31  (36 min)"]
[]
[1,"De Corner"," Agnes Olgers","v"]
[2,"hardloopbegeleidingopmaat/klif 18"," Thomas Straathof"]
[3,"Quick Jewels"," Pieter Buter"]
[4,"KLIF18"," Lucas Rustenburg"]
[5,"Dujob"," Jan Willem Woord"]
[6,"Running Ruijters"," Menno Ruijter"]
[7,"ASV Rutten"," Ruud Burger"]
[8,"Hardloopteam Bant"," Max Bouma"]
[9,"VAN BLOOIS SPORTADVIES"," Kees Regelink"]
[10,"RUN TEAM MARKNESSE"," Chris Berndsen"]
[11,"Kraggenburg 4"," Jesper Oosterwijk"]
[12,"Hekwerkwebshop.nl"," Adriaan Tiemen de Boer"]
[13,"KLIF18 ladies"," Barbara Kaptein","v"]
[14,"Vivan komt dr' an"," Anna Heemskerk","v"]
[15,"Aves"," Jaqueline Koets","v"]
[16,"Team Nagele"," Corine de Vries","v"]
[17,"SAMEN ONDER WEG"," Gerben Eenkhoorn"]
[18,"Fit Fun/ Anytime"," Henk Pals"]
[19,"STC Rutten"," Andrina Weerman","v"]
[20,"Creil"," Corine Boonen","v"]
[21,"050media"," Arjen Hollenga"]
[22,"Tollebeek in beweging"," Jacco van Breugel"]
[23,"Seaconcept "," Hans Hamersma"]
[24,"Ter Haar Family & Friends"," Denise Lassche","v"]
[25,"Hardloop groep Ens"," Frans Koeslag"]
[26,"Van Vilsteren Marknesse.nl"," Mark"]
[27,"Running Team Espel"," Piet Veeke"]
[28,"Waterman Onions - Team 1 "," Naomi Waterman","v"]
[29,"Waterman Onions Pink Ladies"," Vroukje Romkes","v"]
[30,"Autofirst Minnaard"," Maikel Minnaard"]
[31,"fam.Dekker Draaft Door"," Henk Dekker"]
[32,"Ber-di-do"," Afke Kruis","v"]
[33,"woensdagavondlopers"," Linda Schwering","v"]
[34,"Team 't Voorhuys"," Daphne Hellendoorn","v"]
[35,"Waterman Onions 2"," Taco ten Brinke"]
[36,"Schol op Urk "," Juan Tol"]
[37,"Van Staveren"," Robin Boersma"]
[38,"Vegterlopers"," Cor Vegterlo"]
[39,"Suplacon"," Adrian Gliwka"]
[40,"Mercatus, lopen op z'n best"," Johan van Buiten"]
[41,"Advies en Kies en Runners"," Peter Haikens"]
[42,"Kinderopvang Pipo"," Judith","v"]
[43,"Lerøy Seafood NL"," Jelle Romkes"]
[44,"Tafelronde Noordoostpolder"," Arjan Vaandrager"]
[45,"Berechja College "," Maarten Post","v"]
[46,"Hoekstra Assurantie"," Tim Brouwer"]
[47,"CrossFit Urk"," Kobus Bos"]
[48,"Cultuurbedrijf NOP"," #####"]
[49,"Flynth"," Stephan Wiersma"]
[50,"Nick en de rest"," Floortje Ruijter","v"]
[51,"van Urk voeding"," Albert Ras"]
[52,"Pool-der run4fun"," Magda","v"]
[53,"UCT "," #####"]
[54,"De Dijkies"," Esmee Dijkstra","v"]
[55,"Fifty-Five"," Bauke Hoekstra"]
[56,"De broodlopers "," Erwin Koolhof"]

{"sheet":"N4E","index":21,"n_rows":58,"n_cols":4,"rows_kept":58,"cut":false,"hidden":true,"merged":[]}
["Kraggenburg - Ens",null,"10.33 - 11.13  (40 min)"]
[]
[1,"De Corner"," Jolijn Zijlstra","v"]
[2,"hardloopbegeleidingopmaat/klif 18"," Nathan Uitslag"]
[3,"Quick Jewels"," Geert Hemelrijk"]
[4,"KLIF18"," Kees Kramer "]
[5,"Dujob"," Johan Berkhout"]
[6,"Running Ruijters"," Nick Ruijter"]
[7,"ASV Rutten"," Erik Groen"]
[8,"Hardloopteam Bant"," Dennis Seine"]
[9,"VAN BLOOIS SPORTADVIES"," Annie van der Linde","v"]
[10,"RUN TEAM MARKNESSE"," Joan Scholtens"]
[11,"Kraggenburg 4"," Jolien Scholtens","v"]
[12,"Hekwerkwebshop.nl"," Simon Bakker"]
[13,"KLIF18 ladies"," Jamie Jongman","v"]
[14,"Vivan komt dr' an"," Richard Heemskerk"]
[15,"Aves"," Molle Stuiver"]
[16,"Team Nagele"," Erwin Bogaard"]
[17,"SAMEN ONDER WEG"," Rene Vernooy"]
[18,"Fit Fun/ Anytime"," Klaas Doornbos"]
[19,"STC Rutten"," Ulrike Weerman","v"]
[20,"Creil"," Arjan Harkema"]
[21,"050media"," Esther Rijkelijkhuizen","v"]
[22,"Tollebeek in beweging"," Jannes de Vries"]
[23,"Seaconcept "," Hans van Eunen"]
[24,"Ter Haar Family & Friends"," Niek ter Haar"]
[25,"Hardloop groep Ens"," Riekus Nijmijer"]
[26,"Van Vilsteren Marknesse.nl"," Gaston"]
[27,"Running Team Espel"," Pim de Wit"]
[28,"Waterman Onions - Team 1 "," Wilco Besuijen"]
[29,"Waterman Onions Pink Ladies"," Albert Jan van Dokkum"]
[30,"Autofirst Minnaard"," Rocus de Bruijne"]
[31,"fam.Dekker Draaft Door"," Michiel Tensen"]
[32,"Ber-di-do"," Gerrit Knoeff"]
[33,"woensdagavondlopers"," annette hazenberg","v"]
[34,"Team 't Voorhuys"," Vera Ton","v"]
[35,"Waterman Onions 2"," Henry Dam"]
[36,"Schol op Urk "," Geraldine Molenaar","v"]
[37,"Van Staveren"," Jorn Goos"]
[38,"Vegterlopers"," Anne Vegterlo","v"]
[39,"Suplacon"," Jory Cornelis"]
[40,"Mercatus, lopen op z'n best"," Vincent v/d Weerd"]
[41,"Advies en Kies en Runners"," Anneke Keizer","v"]
[42,"Kinderopvang Pipo"," Jarno"]
[43,"Lerøy Seafood NL"," Ruben Geerts"]
[44,"Tafelronde Noordoostpolder"," Melvin Kok"]
[45,"Berechja College "," Trudie de Vries","v"]
[46,"Hoekstra Assurantie"," Louwe Kapitein"]
[47,"CrossFit Urk"," Hassan Hajji"]
[48,"Cultuurbedrijf NOP"," #####"]
[49,"Flynth"," Rick Steller"]
[50,"Nick en de rest"," Gerard van Etten"]
[51,"van Urk voeding"," Jeannette","v"]
[52,"Pool-der run4fun"," Gabi","v"]
[53,"UCT "," #####"]
[54,"De Dijkies"," Ryon Dijkstra"]
[55,"Fifty-Five"," Yke van der Vegt","v"]
[56,"De broodlopers "," Berend Groen"]

{"sheet":"N5N","index":22,"n_rows":58,"n_cols":4,"rows_kept":58,"cut":false,"hidden":true,"merged":[]}
["Ens - Nagele",null,"11.15 - 12.03  (48 min)"]
[]
[1,"De Corner"," Jacob Snoek"]
[2,"hardloopbegeleidingopmaat/klif 18"," Vincent Lankhaar"]
[3,"Quick Jewels"," Leon Brands"]
[4,"KLIF18"," Jan Sinke"]
[5,"Dujob"," Jan Bakker"]
[6,"Running Ruijters"," Robin Ruijter"]
[7,"ASV Rutten"," Gwendolien Flokstra","v"]
[8,"Hardloopteam Bant"," Han van Wegen"]
[9,"VAN BLOOIS SPORTADVIES"," Egon Boerema"]
[10,"RUN TEAM MARKNESSE"," Peter Schwering"]
[11,"Kraggenburg 4"," Mike Temmink"]
[12,"Hekwerkwebshop.nl"," Dubbele de Boer"]
[13,"KLIF18 ladies"," Marja Kramer","v"]
[14,"Vivan komt dr' an"," Erwin van Loo"]
[15,"Aves"," Chris de Boer"]
[16,"Team Nagele"," Janine Bernard","v"]
[17,"SAMEN ONDER WEG"," Raimond Lubbers"]
[18,"Fit Fun/ Anytime"," Tim"]
[19,"STC Rutten"," Sietse de Vries "]
[20,"Creil"," Iris Bakker","v"]
[21,"050media"," Sebastiaan Bakker"]
[22,"Tollebeek in beweging"," Eric Pelleboer"]
[23,"Seaconcept "," Lesley de Visser"]
[24,"Ter Haar Family & Friends"," Marc Bakker"]
[25,"Hardloop groep Ens"," Joost Maaskant"]
[26,"Van Vilsteren Marknesse.nl"," Addy Peters"]
[27,"Running Team Espel"," Petra Kramer","v"]
[28,"Waterman Onions - Team 1 "," Pieter Kuyper"]
[29,"Waterman Onions Pink Ladies"," Bonnette van den Berg","v"]
[30,"Autofirst Minnaard"," Ryan Bennik"]
[31,"fam.Dekker Draaft Door"," Luuk Vroegop"]
[32,"Ber-di-do"," Gerwin Dibbits"]
[33,"woensdagavondlopers"," frens heijn"]
[34,"Team 't Voorhuys"," Twan Hakvoort"]
[35,"Waterman Onions 2"," Phensri Schouten","v"]
[36,"Schol op Urk "," Jan Pieter Schaak"]
[37,"Van Staveren"," Stefan Wisse"]
[38,"Vegterlopers"," Pim van der Maden"]
[39,"Suplacon"," Otis Robert"]
[40,"Mercatus, lopen op z'n best"," Ben Wentink"]
[41,"Advies en Kies en Runners"," Nico Keizer"]
[42,"Kinderopvang Pipo"," Enrico"]
[43,"Lerøy Seafood NL"," Willem de Vries"]
[44,"Tafelronde Noordoostpolder"," Hans Langedijk"]
[45,"Berechja College "," Sjoert Visser"]
[46,"Hoekstra Assurantie"," Jelle de Boer"]
[47,"CrossFit Urk"," Rinke Oost"]
[48,"Cultuurbedrijf NOP"," #####"]
[49,"Flynth"," Theo van Steeg"]
[50,"Nick en de rest"," Jarno Steenbergen"]
[51,"van Urk voeding"," Rinke"]
[52,"Pool-der run4fun"," Maciek"]
[53,"UCT "," #####"]
[54,"De Dijkies"," Peter Smid"]
[55,"Fifty-Five"," Siewert de Jong"]
[56,"De broodlopers "," Stefan de Goede"]

{"sheet":"N6T","index":23,"n_rows":58,"n_cols":4,"rows_kept":58,"cut":false,"hidden":true,"merged":[]}
["Nagele -Tollebeek",null,"12.05 - 12.39  (34 min)"]
[]
[1,"De Corner"," Maurice Mulder"]
[2,"hardloopbegeleidingopmaat/klif 18"," Leon Koch"]
[3,"Quick Jewels"," Pieter Coenen"]
[4,"KLIF18"," Jan Jongman"]
[5,"Dujob"," Kornelius Medendorp"]
[6,"Running Ruijters"," Anton Ruijter"]
[7,"ASV Rutten"," Tom Loman"]
[8,"Hardloopteam Bant"," Annerieke Doornbos","v"]
[9,"VAN BLOOIS SPORTADVIES"," Heleen van Dijke","v"]
[10,"RUN TEAM MARKNESSE"," Anke van Oorschot","v"]
[11,"Kraggenburg 4"," Rens Hupkes"]
[12,"Hekwerkwebshop.nl"," Steven Hoefnagel"]
[13,"KLIF18 ladies"," Babette Jongman","v"]
[14,"Vivan komt dr' an"," Rosalie Bakker","v"]
[15,"Aves"," Geert- Jan"]
[16,"Team Nagele"," Niels Poppe"]
[17,"SAMEN ONDER WEG"," Sjaco Wierda"]
[18,"Fit Fun/ Anytime"," Jan Willem de Boer"]
[19,"STC Rutten"," Willem de Vries "]
[20,"Creil"," Andrew Koziarski"]
[21,"050media"," Cor Dijkshoorn"]
[22,"Tollebeek in beweging"," Corné Boons"]
[23,"Seaconcept "," Jaap Post"]
[24,"Ter Haar Family & Friends"," Jan Jonkman"]
[25,"Hardloop groep Ens"," Corne Doggen"]
[26,"Van Vilsteren Marknesse.nl"," Youri van Vilsteren"]
[27,"Running Team Espel"," Mariska van Strien","v"]
[28,"Waterman Onions - Team 1 "," Gergana Koleva","v"]
[29,"Waterman Onions Pink Ladies"," Agnes Gnodde","v"]
[30,"Autofirst Minnaard"," Rémon Jansen"]
[31,"fam.Dekker Draaft Door"," Eelco Tulp"]
[32,"Ber-di-do"," Martin de Jongh "]
[33,"woensdagavondlopers"," theo willemsen"]
[34,"Team 't Voorhuys"," Renée Hellendoorn","v"]
[35,"Waterman Onions 2"," Ewout Wassink"]
[36,"Schol op Urk "," Julian van Bruggen"]
[37,"Van Staveren"," Sander Wisse"]
[38,"Vegterlopers"," Ingrid Schilstra","v"]
[39,"Suplacon"," Ronyvan Almeida"]
[40,"Mercatus, lopen op z'n best"," Julian van Buiten"]
[41,"Advies en Kies en Runners"," Marien van Staalduine"]
[42,"Kinderopvang Pipo"," Piet"]
[43,"Lerøy Seafood NL"," Henk Brouwer"]
[44,"Tafelronde Noordoostpolder"," Bart Loman"]
[45,"Berechja College "," Annelies Smaale","v"]
[46,"Hoekstra Assurantie"," Margriet de Boer","v"]
[47,"CrossFit Urk"," Jeroen Sleurink"]
[48,"Cultuurbedrijf NOP"," #####"]
[49,"Flynth"," Chris van Otterloo"]
[50,"Nick en de rest"," Jantien de Boer-Matthijsen","v"]
[51,"van Urk voeding"," Laurie Ras","v"]
[52,"Pool-der run4fun"," Sebastian"]
[53,"UCT "," #####"]
[54,"De Dijkies"," Maarten Faber"]
[55,"Fifty-Five"," Rommy de Witte","v"]
[56,"De broodlopers "," Roland Kuper"]

{"sheet":"N7U","index":24,"n_rows":58,"n_cols":4,"rows_kept":58,"cut":false,"hidden":true,"merged":[]}
["Tollebeek - Urk",null,"12.41 - 13.13  (32 min)"]
[]
[1,"De Corner"," Alie Snoek","v"]
[2,"hardloopbegeleidingopmaat/klif 18"," Jeroen Woltinge"]
[3,"Quick Jewels"," Jakke Goosen"]
[4,"KLIF18"," Tiny de Vries ","v"]
[5,"Dujob"," Johannes Berkhout"]
[6,"Running Ruijters"," Richard Ruijter"]
[7,"ASV Rutten"," Richard Schrijver"]
[8,"Hardloopteam Bant"," Tom Habers"]
[9,"VAN BLOOIS SPORTADVIES"," Grietje Romkes","v"]
[10,"RUN TEAM MARKNESSE"," Maartje Masteling","v"]
[11,"Kraggenburg 4"," Kas van Egmond"]
[12,"Hekwerkwebshop.nl"," Helena Bakker","v"]
[13,"KLIF18 ladies"," Tineke Schenk","v"]
[14,"Vivan komt dr' an"," Josephina de Boer","v"]
[15,"Aves"," Inge Scheper","v"]
[16,"Team Nagele"," Marije Bogaard","v"]
[17,"SAMEN ONDER WEG"," Kirsten Wierda","v"]
[18,"Fit Fun/ Anytime"," Johannes ( van Trientje)"]
[19,"STC Rutten"," Maaike de Kroon ","v"]
[20,"Creil"," Tessa Koeman","v"]
[21,"050media"," Daan Hoving"]
[22,"Tollebeek in beweging"," Hilde Roskam","v"]
[23,"Seaconcept "," Jacob de Vries"]
[24,"Ter Haar Family & Friends"," Eva ter Haar","v"]
[25,"Hardloop groep Ens"," Bianca de Olde","v"]
[26,"Van Vilsteren Marknesse.nl"," Arno Matthijssen"]
[27,"Running Team Espel"," Peter van Strien"]
[28,"Waterman Onions - Team 1 "," Bep Dunnink","v"]
[29,"Waterman Onions Pink Ladies"," Loura Visser","v"]
[30,"Autofirst Minnaard"," Paul van de Kemp"]
[31,"fam.Dekker Draaft Door"," Janneke Dekker","v"]
[32,"Ber-di-do"," Mark de Jong"]
[33,"woensdagavondlopers"," arie v tilburg"]
[34,"Team 't Voorhuys"," Jarno Spijker"]
[35,"Waterman Onions 2"," Erik Waterman"]
[36,"Schol op Urk "," Hein Slump"]
[37,"Van Staveren"," Hans Harleman"]
[38,"Vegterlopers"," José Schilstra","v"]
[39,"Suplacon"," Kees Meun"]
[40,"Mercatus, lopen op z'n best"," Jan Zuidema"]
[41,"Advies en Kies en Runners"," Ingrid Timmer","v"]
[42,"Kinderopvang Pipo"," Anja","v"]
[43,"Lerøy Seafood NL"," Sanne Rook","v"]
[44,"Tafelronde Noordoostpolder"," René van Meijel"]
[45,"Berechja College "," Willie Kiefte","v"]
[46,"Hoekstra Assurantie"," Emma Snoek","v"]
[47,"CrossFit Urk"," Albert Verhoeff"]
[48,"Cultuurbedrijf NOP"," #####"]
[49,"Flynth"," Ynze Scheffer"]
[50,"Nick en de rest"," Hayley Faber","v"]
[51,"van Urk voeding"," Liza Hoorn","v"]
[52,"Pool-der run4fun"," Karolina","v"]
[53,"UCT "," #####"]
[54,"De Dijkies"," Annet Dijkstra","v"]
[55,"Fifty-Five"," Jopie van Benthem","v"]
[56,"De broodlopers "," Linda Hoek","v"]

{"sheet":"N8E","index":25,"n_rows":58,"n_cols":4,"rows_kept":58,"cut":false,"hidden":true,"merged":[]}
["Urk - Espel",null,"13.15 - 14.03  (48 min)"]
[]
[1,"De Corner"," Jan Loosman"]
[2,"hardloopbegeleidingopmaat/klif 18"," Freek Koffeman"]
[3,"Quick Jewels"," Jurian Molenaar"]
[4,"KLIF18"," Dinie Ras ","v"]
[5,"Dujob"," Jacob Baak"]
[6,"Running Ruijters"," Dion Ruijter"]
[7,"ASV Rutten"," Izak Hanse"]
[8,"Hardloopteam Bant"," Richard de Nijs"]
[9,"VAN BLOOIS SPORTADVIES"," Pieter Roskam"]
[10,"RUN TEAM MARKNESSE"," Matijs Beers"]
[11,"Kraggenburg 4"," Joury Spelde"]
[12,"Hekwerkwebshop.nl"," Remco Visser"]
[13,"KLIF18 ladies"," Carolien de Vries","v"]
[14,"Vivan komt dr' an"," Jan Lourens Posthumus"]
[15,"Aves"," Gert Koets"]
[16,"Team Nagele"," Michiel Eilander"]
[17,"SAMEN ONDER WEG"," Berend Schotanus"]
[18,"Fit Fun/ Anytime"," Teun de Boer"]
[19,"STC Rutten"," Stefan de Wilde"]
[20,"Creil"," Jacob Kroon"]
[21,"050media"," Rory Bob de Haan"]
[22,"Tollebeek in beweging"," Leonard Naaktgeboren"]
[23,"Seaconcept "," Willem Hoekstra"]
[24,"Ter Haar Family & Friends"," Jeroen Moolenaar"]
[25,"Hardloop groep Ens"," Edwin Spekschate"]
[26,"Van Vilsteren Marknesse.nl"," Tim"]
[27,"Running Team Espel"," Roger Fahner"]
[28,"Waterman Onions - Team 1 "," Quinten"]
[29,"Waterman Onions Pink Ladies"," Geja Stoutjesdijk","v"]
[30,"Autofirst Minnaard"," Moniek Buur","v"]
[31,"fam.Dekker Draaft Door"," Matthijs Dekker"]
[32,"Ber-di-do"," Marko de Vos"]
[33,"woensdagavondlopers"," gerdi wicherson","v"]
[34,"Team 't Voorhuys"," Kevin Stielstra"]
[35,"Waterman Onions 2"," Marianne Kuyper","v"]
[36,"Schol op Urk "," Albert Schreuder"]
[37,"Van Staveren"," Erwin van der Kamp"]
[38,"Vegterlopers"," Dennis Gommers"]
[39,"Suplacon"," Jelle Hakvoort"]
[40,"Mercatus, lopen op z'n best"," Jasper de Jong"]
[41,"Advies en Kies en Runners"," Ronald Graver"]
[42,"Kinderopvang Pipo"," Teun"]
[43,"Lerøy Seafood NL"," Jannie Romkes","v"]
[44,"Tafelronde Noordoostpolder"," Jelmer Schotanus"]
[45,"Berechja College "," Angelique vd Kleef","v"]
[46,"Hoekstra Assurantie"," Hessel Koster"]
[47,"CrossFit Urk"," Abbe Brouwer"]
[48,"Cultuurbedrijf NOP"," #####"]
[49,"Flynth"," Thom Brands"]
[50,"Nick en de rest"," Rick Sijtsma"]
[51,"van Urk voeding"," Riekelt van Urk"]
[52,"Pool-der run4fun"," Konrad"]
[53,"UCT "," #####"]
[54,"De Dijkies"," Koen van Raalten"]
[55,"Fifty-Five"," Hans Jansen"]
[56,"De broodlopers "," Marita van Overbeeke","v"]

{"sheet":"N9C","index":26,"n_rows":58,"n_cols":4,"rows_kept":58,"cut":false,"hidden":true,"merged":[]}
["Espel - Creil",null,"14.05 - 14.34  (29 min)"]
[]
[1,"De Corner"," Annemiek Dekkert","v"]
[2,"hardloopbegeleidingopmaat/klif 18"," Hugo Jongejan"]
[3,"Quick Jewels"," Roelof van der Meulen"]
[4,"KLIF18"," Peter Gnodde "]
[5,"Dujob"," Klaas Kramer"]
[6,"Running Ruijters"," Finn van Ginkel"]
[7,"ASV Rutten"," Milotte Maas","v"]
[8,"Hardloopteam Bant"," Rudy van Steenbergen"]
[9,"VAN BLOOIS SPORTADVIES"," Femmy Gnodde","v"]
[10,"RUN TEAM MARKNESSE"," Bert de Vries"]
[11,"Kraggenburg 4"," Manon Snellink","v"]
[12,"Hekwerkwebshop.nl"," Ida de Boer","v"]
[13,"KLIF18 ladies"," Wille-Marie Brouwer","v"]
[14,"Vivan komt dr' an"," Albert Bakker"]
[15,"Aves"," Cathy van den Berg","v"]
[16,"Team Nagele"," Taco van der Sar"]
[17,"SAMEN ONDER WEG"," Edwin Schrotenboer"]
[18,"Fit Fun/ Anytime"," Wieger Vreeke"]
[19,"STC Rutten"," Maureen Roose","v"]
[20,"Creil"," Tycho Krone"]
[21,"050media"," Adrienne Moret","v"]
[22,"Tollebeek in beweging"," Max Maarsen"]
[23,"Seaconcept "," Willem Schraal"]
[24,"Ter Haar Family & Friends"," Eline van Toledo","v"]
[25,"Hardloop groep Ens"," Tialda van Ginkel","v"]
[26,"Van Vilsteren Marknesse.nl"," Lisanne","v"]
[27,"Running Team Espel"," Carlien Hendrickx","v"]
[28,"Waterman Onions - Team 1 "," Jolien van den Berg","v"]
[29,"Waterman Onions Pink Ladies"," Jannie van den Berg","v"]
[30,"Autofirst Minnaard"," Menno Hiemstra"]
[31,"fam.Dekker Draaft Door"," Sofia Dekker","v"]
[32,"Ber-di-do"," Jetze Kempenaar"]
[33,"woensdagavondlopers"," chris-marije ","v"]
[34,"Team 't Voorhuys"," Tim van Gunst"]
[35,"Waterman Onions 2"," Pieter Jaarsma"]
[36,"Schol op Urk "," Arie van Urk"]
[37,"Van Staveren"," Wijnand Bok"]
[38,"Vegterlopers"," Mirjam Crève","v"]
[39,"Suplacon"," Michel Stoelwinder"]
[40,"Mercatus, lopen op z'n best"," Engelbert Nikkels"]
[41,"Advies en Kies en Runners"," Kees Degenhart"]
[42,"Kinderopvang Pipo"," Oskar"]
[43,"Lerøy Seafood NL"," Jaap van de Berg"]
[44,"Tafelronde Noordoostpolder"," Michel Becker"]
[45,"Berechja College "," Vera Brouwer ","v"]
[46,"Hoekstra Assurantie"," Corina Oost","v"]
[47,"CrossFit Urk"," Klasina Heijns","v"]
[48,"Cultuurbedrijf NOP"," #####"]
[49,"Flynth"," René Offenberg"]
[50,"Nick en de rest"," Peter van Hulzen"]
[51,"van Urk voeding"," Klaas Willem "]
[52,"Pool-der run4fun"," Luca","v"]
[53,"UCT "," #####"]
[54,"De Dijkies"," Maren Striker","v"]
[55,"Fifty-Five"," Janette Schultink","v"]
[56,"De broodlopers "," Anjo Geluk"]

{"sheet":"N10R","index":27,"n_rows":58,"n_cols":4,"rows_kept":58,"cut":false,"hidden":true,"merged":[]}
["Creil - Rutten",null,"14.36 - 15.10  (34 min)"]
[]
[1,"De Corner"," Doede Terluin"]
[2,"hardloopbegeleidingopmaat/klif 18"," Jorn Hofstra"]
[3,"Quick Jewels"," Riekelt Romkes"]
[4,"KLIF18"," Bart Maljaars "]
[5,"Dujob"," Jacob Hoekstra"]
[6,"Running Ruijters"," Marcel Ruijter"]
[7,"ASV Rutten"," Dik Nieuwenhuizen"]
[8,"Hardloopteam Bant"," Dirk Jan Doornbos"]
[9,"VAN BLOOIS SPORTADVIES"," Hessel de Vries"]
[10,"RUN TEAM MARKNESSE"," Stef Masteling"]
[11,"Kraggenburg 4"," Rinke Biesheuvel"]
[12,"Hekwerkwebshop.nl"," Hendrik Pasterkamp"]
[13,"KLIF18 ladies"," Jara de Boer","v"]
[14,"Vivan komt dr' an"," Riekelt Brouwer"]
[15,"Aves"," Simone Schuitemaker","v"]
[16,"Team Nagele"," Paul Bovée"]
[17,"SAMEN ONDER WEG"," Jacco Verpoorte"]
[18,"Fit Fun/ Anytime"," Jos Netten"]
[19,"STC Rutten"," Nyka van der Veen","v"]
[20,"Creil"," Mariska Schutte","v"]
[21,"050media"," Thierry Kienart"]
[22,"Tollebeek in beweging"," Bram Roskam"]
[23,"Seaconcept "," Frederik Kramer"]
[24,"Ter Haar Family & Friends"," Jur Bos"]
[25,"Hardloop groep Ens"," Manon van Schie","v"]
[26,"Van Vilsteren Marknesse.nl"," Jesse "]
[27,"Running Team Espel"," Suzanne Blok","v"]
[28,"Waterman Onions - Team 1 "," Henri Hendrikse"]
[29,"Waterman Onions Pink Ladies"," Annelies Pasterkamp","v"]
[30,"Autofirst Minnaard"," Christiaan Schaart"]
[31,"fam.Dekker Draaft Door"," Erwin Bosma"]
[32,"Ber-di-do"," Henk Bremer"]
[33,"woensdagavondlopers"," Johan Kommerij"]
[34,"Team 't Voorhuys"," Jeroen Ansink"]
[35,"Waterman Onions 2"," Jannes Dokter"]
[36,"Schol op Urk "," Marloes Slump","v"]
[37,"Van Staveren"," Vinus Bok"]
[38,"Vegterlopers"," Bas de Jong"]
[39,"Suplacon"," Radboud Sanders"]
[40,"Mercatus, lopen op z'n best"," Dirk Bolle"]
[41,"Advies en Kies en Runners"," Anne Kooij","v"]
[42,"Kinderopvang Pipo"," Rob"]
[43,"Lerøy Seafood NL"," Ben Bakker"]
[44,"Tafelronde Noordoostpolder"," Leo Joosten"]
[45,"Berechja College "," Sybren Zandstra"]
[46,"Hoekstra Assurantie"," Steven Post"]
[47,"CrossFit Urk"," Antje Brouwer","v"]
[48,"Cultuurbedrijf NOP"," #####"]
[49,"Flynth"," Quinten Offenberg"]
[50,"Nick en de rest"," Evelien Steenbergen","v"]
[51,"van Urk voeding"," William Visser"]
[52,"Pool-der run4fun"," Robert"]
[53,"UCT "," #####"]
[54,"De Dijkies"," Jaap-Jan Tichelaar"]
[55,"Fifty-Five"," Ada de Munnik","v"]
[56,"De broodlopers "," Abdi Hamidan Mohamed"]

{"sheet":"N11B","index":28,"n_rows":58,"n_cols":4,"rows_kept":58,"cut":false,"hidden":true,"merged":[]}
["Rutten - Bant",null,"15.12 - 15.56  (44 min)"]
[]
[1,"De Corner"," Eugene Olgers"]
[2,"hardloopbegeleidingopmaat/klif 18"," Jasper Meijer"]
[3,"Quick Jewels"," Jan Post"]
[4,"KLIF18"," Jantina Loosman","v"]
[5,"Dujob"," Kees de Vries"]
[6,"Running Ruijters"," Fabian Ruijter"]
[7,"ASV Rutten"," Rutger Mutsaers"]
[8,"Hardloopteam Bant"," Gerben Franssen"]
[9,"VAN BLOOIS SPORTADVIES"," Johannes Schenk"]
[10,"RUN TEAM MARKNESSE"," Peter Iepsma"]
[11,"Kraggenburg 4"," Wout van Keulen "]
[12,"Hekwerkwebshop.nl"," Luut de Boer"]
[13,"KLIF18 ladies"," Henny van Lu","v"]
[14,"Vivan komt dr' an"," Wim Vader"]
[15,"Aves"," Sander de Wit"]
[16,"Team Nagele"," Nolke van der Meer"]
[17,"SAMEN ONDER WEG"," Rik de Graaf"]
[18,"Fit Fun/ Anytime"," Kees Boot"]
[19,"STC Rutten"," Bauke van der Valk"]
[20,"Creil"," Martine Schenk","v"]
[21,"050media"," Jordi den Hollander"]
[22,"Tollebeek in beweging"," Jack Tabak"]
[23,"Seaconcept "," Pieter Sinke"]
[24,"Ter Haar Family & Friends"," Tom ter Haar"]
[25,"Hardloop groep Ens"," Bas Wouters"]
[26,"Van Vilsteren Marknesse.nl"," Tessa Peters","v"]
[27,"Running Team Espel"," Jeroen Snippe"]
[28,"Waterman Onions - Team 1 "," Niels Ensing"]
[29,"Waterman Onions Pink Ladies"," Willy Sinke","v"]
[30,"Autofirst Minnaard"," Robbin Willemsen"]
[31,"fam.Dekker Draaft Door"," Harry Terluin"]
[32,"Ber-di-do"," Sjirk Dottinga "]
[33,"woensdagavondlopers"," ivo de wit"]
[34,"Team 't Voorhuys"," Dik van der Linde"]
[35,"Waterman Onions 2"," Naomi Tramper","v"]
[36,"Schol op Urk "," Albert Hoekman"]
[37,"Van Staveren"," Janneke van der Kamp","v"]
[38,"Vegterlopers"," Jesper Kooijman"]
[39,"Suplacon"," Evelina Kupryte","v"]
[40,"Mercatus, lopen op z'n best"," Brenda Bouma","v"]
[41,"Advies en Kies en Runners"," Wim Kok"]
[42,"Kinderopvang Pipo"," Johan"]
[43,"Lerøy Seafood NL"," Dirkje van de Berg","v"]
[44,"Tafelronde Noordoostpolder"," Bas Stevens"]
[45,"Berechja College "," Albert Romkes"]
[46,"Hoekstra Assurantie"," Auke Brouwer"]
[47,"CrossFit Urk"," Mark Oost"]
[48,"Cultuurbedrijf NOP"," #####"]
[49,"Flynth"," Auke Johannes van Slooten"]
[50,"Nick en de rest"," Reinier van der Linde"]
[51,"van Urk voeding"," Sanne ","v"]
[52,"Pool-der run4fun"," Lukasz"]
[53,"UCT "," #####"]
[54,"De Dijkies"," Martijn Stiekema"]
[55,"Fifty-Five"," Grietje Overmars","v"]
[56,"De broodlopers "," Richard ter Wijlen"]

{"sheet":"N12E","index":29,"n_rows":58,"n_cols":4,"rows_kept":58,"cut":false,"hidden":true,"merged":[]}
["Bant - Emmeloord",null,"15.58 - 16.35  (37 min)"]
[]
[1,"De Corner"," Fokke Snoek"]
[2,"hardloopbegeleidingopmaat/klif 18"," Daniël Klappe"]
[3,"Quick Jewels"," Barend Baarsen"]
[4,"KLIF18"," Geert de Wit "]
[5,"Dujob"," Arie Baak"]
[6,"Running Ruijters"," Jan Ruijter"]
[7,"ASV Rutten"," Pim Dollekamp"]
[8,"Hardloopteam Bant"," Wietze van Wegen"]
[9,"VAN BLOOIS SPORTADVIES"," Mark Versluis"]
[10,"RUN TEAM MARKNESSE"," Cees Masteling"]
[11,"Kraggenburg 4"," Lars van Diepen "]
[12,"Hekwerkwebshop.nl"," Andries Pasterkamp"]
[13,"KLIF18 ladies"," Karina Post","v"]
[14,"Vivan komt dr' an"," André Bakker"]
[15,"Aves"," Carolien Breimer","v"]
[16,"Team Nagele"," Peter van der Kooi"]
[17,"SAMEN ONDER WEG"," Harry Feenstra"]
[18,"Fit Fun/ Anytime"," Jose Stuivenvolt","v"]
[19,"STC Rutten"," Marieke vd Heuvel","v"]
[20,"Creil"," Leo Tubben"]
[21,"050media"," Onur Aksoy"]
[22,"Tollebeek in beweging"," Cees Leijten"]
[23,"Seaconcept "," Gerrit Post"]
[24,"Ter Haar Family & Friends"," Quirijn van Toledo"]
[25,"Hardloop groep Ens"," Larissa Wouters","v"]
[26,"Van Vilsteren Marknesse.nl"," Theo Knook"]
[27,"Running Team Espel"," Albert de Vries"]
[28,"Waterman Onions - Team 1 "," Miriam Waterman","v"]
[29,"Waterman Onions Pink Ladies"," Hilde Woort","v"]
[30,"Autofirst Minnaard"," Erwin Kooistra"]
[31,"fam.Dekker Draaft Door"," Jarno Dekker"]
[32,"Ber-di-do"," Robert van Loenen"]
[33,"woensdagavondlopers"," hans vis"]
[34,"Team 't Voorhuys"," Mart Hazenberg"]
[35,"Waterman Onions 2"," Asata Kanten","v"]
[36,"Schol op Urk "," Hanneke Vos","v"]
[37,"Van Staveren"," Luuk Valk"]
[38,"Vegterlopers"," Marco de Jong"]
[39,"Suplacon"," Antijn Koers"]
[40,"Mercatus, lopen op z'n best"," Johan van Buiten"]
[41,"Advies en Kies en Runners"," Ankie Kooij","v"]
[42,"Kinderopvang Pipo"," Bas"]
[43,"Lerøy Seafood NL"," Ricardo van Essen"]
[44,"Tafelronde Noordoostpolder"," Jasper Stege"]
[45,"Berechja College "," Gerlinde Bakker","v"]
[46,"Hoekstra Assurantie"," Hein Ras"]
[47,"CrossFit Urk"," Gerrit Visser"]
[48,"Cultuurbedrijf NOP"," #####"]
[49,"Flynth"," Klaas Mosselaar"]
[50,"Nick en de rest"," Jack Gros"]
[51,"van Urk voeding"," Albert Koffeman"]
[52,"Pool-der run4fun"," Arek"]
[53,"UCT "," #####"]
[54,"De Dijkies"," Jesse Dijkstra"]
[55,"Fifty-Five"," Harm Schippers"]
[56,"De broodlopers "," Piet Rienstra"]

{"sheet":"Sheet1","index":30,"n_rows":869,"n_cols":9,"rows_kept":869,"cut":false,"hidden":false,"merged":[]}
[]
[null,1,1,null,2,2,null,3,3]
[]
["1-Luttelgeest"]
[null,1,2.6377314814814815E-2,null,1,2.6377314814814815E-2,null,1,"00:17:04"]
[null,2,3.0081018518518521E-2,null,2,3.0081018518518521E-2,null,2,"00:17:47"]
[null,3,3.0543981481481481E-2,null,3,3.0543981481481481E-2,null,3,"00:17:49"]
[null,4,3.0578703703703702E-2,null,4,3.0578703703703702E-2,null,4,"00:18:06"]
[null,5,3.0937499999999996E-2,null,5,3.0937499999999996E-2,null,5,"00:18:12"]
[null,6,3.1006944444444445E-2,null,6,3.1006944444444445E-2,null,6,"00:18:18"]
[null,7,3.2002314814814817E-2,null,7,3.2002314814814817E-2,null,7,"00:18:53"]
[null,8,3.2337962962962964E-2,null,8,3.2337962962962964E-2,null,8,"00:18:53"]
[null,9,3.2777777777777781E-2,null,9,3.2777777777777781E-2,null,9,"00:19:21"]
[null,10,3.2847222222222222E-2,null,10,3.2847222222222222E-2,null,10,"00:19:23"]
[null,11,3.3240740740740744E-2,null,11,3.3240740740740744E-2,null,11,"00:19:58"]
[null,12,3.4432870370370371E-2,null,12,3.4432870370370371E-2,null,12,"00:20:02"]
[null,13,3.4490740740740738E-2,null,13,3.4490740740740738E-2,null,13,"00:20:06"]
[null,14,3.4629629629629628E-2,null,14,3.4629629629629628E-2,null,14,"00:20:18"]
[null,15,3.4722222222222224E-2,null,15,3.4722222222222224E-2,null,15,"00:20:47"]
[null,16,3.4733796296296297E-2,null,16,3.4733796296296297E-2,null,16,"00:21:02"]
[null,17,3.4733796296296297E-2,null,17,3.4733796296296297E-2,null,17,"00:21:09"]
[null,18,3.4756944444444444E-2,null,18,3.4756944444444444E-2,null,18,"00:21:29"]
[null,19,3.5266203703703702E-2,null,19,3.5266203703703702E-2,null,19,"00:21:30"]
[null,20,3.5370370370370365E-2,null,20,3.5370370370370365E-2,null,20,"00:21:53"]
[null,21,3.5451388888888886E-2,null,21,3.5451388888888886E-2,null,21,"00:21:54"]
[null,22,3.5567129629629629E-2,null,22,3.5567129629629629E-2,null,22,"00:22:05"]
[null,23,3.5567129629629629E-2,null,23,3.5567129629629629E-2,null,23,"00:22:08"]
[null,24,3.5949074074074071E-2,null,24,3.5949074074074071E-2,null,24,"00:22:23"]
[null,25,3.6493055555555549E-2,null,25,3.6493055555555549E-2,null,25,"00:22:23"]
[null,26,3.6562499999999998E-2,null,26,3.6562499999999998E-2,null,26,"00:22:32"]
[null,27,3.6631944444444446E-2,null,27,3.6631944444444446E-2,null,27,"00:22:32"]
[null,28,3.6851851851851851E-2,null,28,3.6851851851851851E-2,null,28,"00:22:44"]
[null,29,3.6909722222222226E-2,null,29,3.6909722222222226E-2,null,29,"00:22:46"]
[null,30,3.6921296296296292E-2,null,30,3.6921296296296292E-2,null,30,"00:22:48"]
[null,31,3.6944444444444446E-2,null,31,3.6944444444444446E-2,null,31,"00:22:49"]
[null,32,3.7060185185185189E-2,null,32,3.7060185185185189E-2,null,32,"00:22:51"]
[null,33,3.7175925925925925E-2,null,33,3.7175925925925925E-2,null,33,"00:22:57"]
[null,34,3.7499999999999999E-2,null,34,3.7499999999999999E-2,null,34,"00:23:03"]
[null,35,3.7627314814814815E-2,null,35,3.7627314814814815E-2,null,35,"00:23:12"]
[null,36,3.7638888888888895E-2,null,36,3.7638888888888895E-2,null,36,"00:23:13"]
[null,37,3.7638888888888895E-2,null,37,3.7638888888888895E-2,null,37,"00:23:24"]
[null,38,3.7754629629629631E-2,null,38,3.7754629629629631E-2,null,38,"00:23:28"]
[null,39,3.7824074074074072E-2,null,39,3.7824074074074072E-2,null,39,"00:23:36"]
[null,40,3.8101851851851852E-2,null,40,3.8101851851851852E-2,null,40,"00:24:00"]
[null,41,3.8124999999999999E-2,null,41,3.8124999999999999E-2,null,41,"00:24:14"]
[null,42,3.8738425925925926E-2,null,42,3.8738425925925926E-2,null,42,"00:24:42"]
[null,43,3.8854166666666669E-2,null,43,3.8854166666666669E-2,null,43,"00:25:12"]
[null,44,3.9224537037037037E-2,null,44,3.9224537037037037E-2,null,44,"00:25:20"]
[null,45,3.9479166666666669E-2,null,45,3.9479166666666669E-2,null,45,"00:25:26"]
[null,46,3.9641203703703706E-2,null,46,3.9641203703703706E-2,null,46,"00:25:29"]
[null,47,3.9745370370370368E-2,null,47,3.9745370370370368E-2,null,47,"00:25:34"]
[null,48,3.9872685185185185E-2,null,48,3.9872685185185185E-2,null,48,"00:26:10"]
[null,49,4.0532407407407406E-2,null,49,4.0532407407407406E-2,null,49,"00:26:40"]
[null,50,4.1238425925925921E-2,null,50,4.1238425925925921E-2,null,50,"00:26:55"]
[null,51,4.1643518518518517E-2,null,51,4.1643518518518517E-2,null,51,"00:27:26"]
[null,52,4.1747685185185186E-2,null,52,4.1747685185185186E-2,null,52,"00:27:45"]
[null,53,4.2152777777777782E-2,null,53,4.2152777777777782E-2,null,53,"00:27:56"]
[null,54,4.2627314814814819E-2,null,54,4.2627314814814819E-2,null,54,"00:28:23"]
[null,null,null,null,"Stop time     ",null,null,"Stop time     "]
["2-Marknesse",null,null,null,"Average time  ",null,null,"Average time  "]
[null,null,null,null,"Fastest time  ",null,null,"Fastest time  "]
[]
[null,null,null,null,37368,null,null,37368]
[null,1,1.1851851851851851E-2,null,"MCH-002",null,null,"MCH-002"]
[null,2,1.2349537037037039E-2,null,"    Lap#  "," Split Time ",null,"    Lap#  "," Split Time "]
[null,3,1.238425925925926E-2,null,1,1.1851851851851851E-2,null,1,"00:02:18"]
[null,4,1.2581018518518519E-2,null,2,1.2349537037037039E-2,null,2,"00:02:42"]
[null,5,1.2650462962962962E-2,null,3,1.238425925925926E-2,null,3,"00:02:59"]
[null,6,1.2719907407407407E-2,null,4,1.2581018518518519E-2,null,4,"00:03:13"]
[null,7,1.3113425925925926E-2,null,5,1.2650462962962962E-2,null,5,"00:03:38"]
[null,8,1.3125E-2,null,6,1.2719907407407407E-2,null,6,"00:05:21"]
[null,9,1.34375E-2,null,7,1.3113425925925926E-2,null,7,"00:05:25"]
[null,10,1.3472222222222221E-2,null,8,1.3125E-2,null,8,"00:05:28"]
[null,11,1.3877314814814815E-2,null,9,1.34375E-2,null,9,"00:05:48"]
[null,12,1.3912037037037037E-2,null,10,1.3472222222222221E-2,null,10,"00:06:01"]
[null,13,"00:20:07",null,11,"00:19:59",null,11,"00:07:12"]
[null,14,"00:20:19",null,12,"00:20:02",null,12,"00:07:57"]
[null,15,"00:20:47",null,13,1.3969907407407408E-2,null,13,6.0069444444444441E-3]
[null,16,"00:21:03",null,14,1.4108796296296295E-2,null,14,6.1574074074074074E-3]
[null,17,"00:21:11",null,15,1.4432870370370372E-2,null,15,6.2268518518518515E-3]
[null,18,"00:21:29",null,16,1.4618055555555556E-2,null,16,6.2731481481481484E-3]
[null,19,"00:21:30",null,17,1.4710648148148148E-2,null,17,6.2731481481481484E-3]
[null,20,"00:21:53",null,18,1.4918981481481483E-2,null,18,6.3194444444444444E-3]
[null,21,"00:21:54",null,19,1.4930555555555556E-2,null,19,6.4120370370370364E-3]
[null,22,"00:22:05",null,20,1.5196759259259259E-2,null,20,6.5046296296296302E-3]
[null,23,"00:22:08",null,21,1.5208333333333332E-2,null,21,6.5393518518518517E-3]
[null,24,"00:22:23",null,22,1.5335648148148147E-2,null,22,6.5624999999999998E-3]
[null,25,"00:22:23",null,23,1.5370370370370369E-2,null,23,6.6203703703703702E-3]
[null,26,"00:22:32",null,24,1.554398148148148E-2,null,24,6.6203703703703702E-3]
[null,27,"00:22:33",null,25,1.554398148148148E-2,null,25,6.6319444444444446E-3]
[null,28,"00:22:45",null,26,1.5648148148148151E-2,null,26,6.6435185185185182E-3]
[null,29,"00:22:46",null,27,1.5659722222222224E-2,null,27,6.6782407407407415E-3]
[null,30,"00:22:48",null,28,1.579861111111111E-2,null,28,6.7476851851851856E-3]
[null,31,"00:22:49",null,29,1.5810185185185184E-2,null,29,6.875E-3]
[null,32,"00:22:51",null,30,1.5833333333333335E-2,null,30,6.9444444444444441E-3]
[null,33,"00:22:58",null,31,1.5844907407407408E-2,null,31,7.0254629629629634E-3]
[null,34,"00:23:03",null,32,1.5868055555555555E-2,null,32,7.0717592592592594E-3]
[null,35,"00:23:12",null,33,1.5949074074074074E-2,null,33,7.2337962962962963E-3]
[null,36,"00:23:13",null,34,1.6006944444444445E-2,null,34,7.2800925925925915E-3]
[null,37,"00:23:24",null,35,1.6111111111111111E-2,null,35,7.3726851851851861E-3]
[null,38,"00:23:28",null,36,1.6122685185185184E-2,null,36,7.719907407407408E-3]
[null,39,"00:23:36",null,37,1.6249999999999997E-2,null,37,7.743055555555556E-3]
[null,40,"00:24:00",null,38,1.6296296296296295E-2,null,38,7.7777777777777767E-3]
[null,41,"00:24:14",null,39,1.638888888888889E-2,null,39,8.1481481481481474E-3]
[null,42,"00:24:43",null,40,1.6666666666666666E-2,null,40,8.1944444444444452E-3]
[null,43,"00:25:13",null,41,1.6828703703703703E-2,null,41,8.3101851851851861E-3]
[null,44,"00:25:21",null,42,1.7164351851851851E-2,null,42,8.4027777777777781E-3]
[null,45,"00:25:27",null,43,1.7511574074074072E-2,null,43,8.4143518518518517E-3]
[null,46,"00:25:30",null,44,1.7604166666666667E-2,null,44,8.5879629629629622E-3]
[null,47,"00:25:34",null,45,1.7673611111111109E-2,null,45,8.6342592592592599E-3]
[null,48,"00:26:10",null,46,1.7708333333333333E-2,null,46,8.7037037037037031E-3]
[null,49,"00:26:40",null,47,1.7754629629629631E-2,null,47,9.6527777777777775E-3]
[null,50,"00:26:56",null,48,1.8171296296296297E-2,null,48,9.7916666666666655E-3]
[null,51,"00:27:26",null,49,1.8518518518518521E-2,null,49,1.0046296296296296E-2]
[null,52,"00:27:44",null,50,1.8705671E-2,null,50,1.0289351851851852E-2]
["3-Kraggenburg",53,"00:27:57",null,51,1.9056597000000002E-2,null,51,1.0625000000000001E-2]
[null,54,"00:28:23",null,52,1.9259259259259261E-2,null,52,1.0972222222222223E-2]
[null,null,null,null,53,1.9409722222222221E-2,null,53,1.1805555555555555E-2]
[null,null,null,null,54,1.9710648148148147E-2,null,54,1.4120370370370368E-2]
[null,null,null,null,"Stop time     ",null,null,"Stop time     "]
[null,null,null,null,"Stop time     ",null,null,"Average time  "]
[null,null,null,null,"Average time  ",null,null,"Fastest time  "]
[null,null,null,null,"Fastest time  "]
[null,null,null,null,null,null,null,37368]
[null,null,null,null,37368,null,null,"MCH-003"]
[null,1,"00:19:52",null,"MCH-003",null,null,"    Lap#  "," Split Time "]
[null,2,"00:20:43",null,"    Lap#  "," Split Time ",null,1,1.2615740740740742E-2]
[null,3,"00:21:05",null,1,1.3796296296296298E-2,null,2,1.3912037037037037E-2]
[null,4,"00:22:03",null,2,1.4386574074074072E-2,null,3,1.4675925925925926E-2]
[null,5,"00:22:06",null,3,1.4641203703703703E-2,null,4,1.4768518518518519E-2]
[null,6,"00:22:24",null,4,1.53125E-2,null,5,1.503472222222222E-2]
[null,7,"00:22:38",null,5,1.5347222222222222E-2,null,6,1.5208333333333332E-2]
[null,8,"00:23:04",null,6,1.5555555555555553E-2,null,7,1.5219907407407409E-2]
[null,9,"00:24:04",null,7,1.5717592592592592E-2,null,8,1.5277777777777777E-2]
[null,10,"00:24:20",null,8,1.6018518518518519E-2,null,9,1.577546296296296E-2]
[null,11,"00:24:21",null,9,1.6712962962962961E-2,null,10,1.5787037037037037E-2]
[null,12,"00:24:25",null,10,1.6898148148148148E-2,null,11,1.5810185185185184E-2]
[null,13,"00:25:10",null,11,1.6909722222222225E-2,null,12,1.5833333333333335E-2]
[null,14,"00:25:22",null,12,1.695601851851852E-2,null,13,1.6354166666666666E-2]
[null,15,"00:25:23",null,13,1.7476851851851851E-2,null,14,1.636574074074074E-2]
[null,16,"00:25:29",null,14,1.7615740740740741E-2,null,15,1.6458333333333332E-2]
[null,17,"00:25:31",null,15,1.7627314814814814E-2,null,16,1.6516203703703703E-2]
[null,18,"00:25:43",null,16,1.7696759259259259E-2,null,17,1.6655092592592593E-2]
[null,19,"00:25:47",null,17,1.7719907407407406E-2,null,18,1.6689814814814817E-2]
[null,20,"00:26:02",null,18,1.7858796296296296E-2,null,19,1.6886574074074075E-2]
[null,21,"00:26:07",null,19,1.7905092592592594E-2,null,20,1.6921296296296299E-2]
[null,22,"00:26:24",null,20,1.8078703703703704E-2,null,21,1.7013888888888887E-2]
[null,23,"00:26:25",null,21,1.8136574074074072E-2,null,22,1.7210648148148149E-2]
[null,24,"00:26:42",null,22,"00:26:24",null,23,"00:24:52"]
[null,25,"00:26:45",null,23,"00:26:25",null,24,"00:24:53"]
[null,26,"00:26:46",null,24,1.8541666666666668E-2,null,25,1.7546296296296296E-2]
[null,27,"00:27:02",null,25,1.8576388888888889E-2,null,26,1.7881944444444443E-2]
[null,28,"00:27:06",null,26,1.8587962962962962E-2,null,27,1.7893518518518517E-2]
[null,29,"00:27:09",null,27,1.877314814814815E-2,null,28,1.8564814814814815E-2]
[null,30,"00:27:19",null,28,1.8819444444444448E-2,null,29,1.8877314814814816E-2]
[null,31,"00:27:21",null,29,1.8854166666666665E-2,null,30,1.8993055555555558E-2]
[null,32,"00:27:25",null,30,1.8969907407407408E-2,null,31,1.9050925925925926E-2]
[null,33,"00:27:32",null,31,1.8993055555555558E-2,null,32,1.9120370370370371E-2]
[null,34,"00:27:56",null,32,1.9039351851851852E-2,null,33,1.9247685185185184E-2]
[null,35,"00:28:03",null,33,1.9120370370370371E-2,null,34,1.9293981481481485E-2]
[null,36,"00:28:04",null,34,1.9398148148148147E-2,null,35,1.9328703703703702E-2]
[null,37,"00:28:45",null,35,1.9479166666666669E-2,null,36,1.9340277777777779E-2]
[null,38,"00:29:02",null,36,1.9490740740740743E-2,null,37,1.9375E-2]
[null,39,"00:29:05",null,37,1.996527777777778E-2,null,38,1.9421296296296294E-2]
[null,40,"00:29:39",null,38,2.0162037037037037E-2,null,39,1.9444444444444445E-2]
[null,41,"00:29:54",null,39,2.0196759259259258E-2,null,40,1.9490740740740743E-2]
[null,42,"00:30:13",null,40,2.0590277777777777E-2,null,41,1.9606481481481482E-2]
[null,43,"00:30:14",null,41,2.0763888888888887E-2,null,42,1.9675925925925927E-2]
[null,44,"00:30:45",null,42,2.0983796296296296E-2,null,43,1.9722222222222221E-2]
[null,45,"00:30:48",null,43,2.0995370370370373E-2,null,44,1.9814814814814816E-2]
["4-Ens",46,"00:30:57",null,44,2.1359375E-2,null,45,0.02]
[null,47,"00:31:14",null,45,2.1388888888888888E-2,null,46,2.0034722222222221E-2]
[null,48,"00:31:25",null,46,2.1493055555555557E-2,null,47,2.0196759259259258E-2]
[null,49,"00:31:35",null,47,2.1689814814814815E-2,null,48,2.0254629629629629E-2]
[null,50,"00:32:14",null,48,2.1817129629629631E-2,null,49,2.1006944444444443E-2]
[null,51,"00:33:14",null,49,2.193287037037037E-2,null,50,2.1203703703703707E-2]
[null,52,"00:34:02",null,50,2.238425925925926E-2,null,51,2.1898148148148149E-2]
[null,53,"00:34:28",null,51,2.3078703703703702E-2,null,52,2.2488425925925926E-2]
[null,54,"00:35:21",null,52,2.3634259259259258E-2,null,53,2.3506944444444445E-2]
[null,null,null,null,53,2.3935185185185184E-2,null,54,2.4386574074074074E-2]
[null,null,null,null,54,2.4548611111111115E-2,null,"Stop time     "]
[null,null,null,null,"Stop time     ",null,null,"Average time  "]
[null,null,null,null,"Average time  ",null,null,"Fastest time  "]
[null,null,null,null,"Fastest time  "]
[null,null,null,null,null,null,null,37368]
[null,null,null,null,37368,null,null,"MCH-004"]
[null,null,null,null,"MCH-004",null,null,"    Lap#  "," Split Time "]
[null,null,null,null,"    Lap#  "," Split Time ",null,1,1.8530092592592595E-2]
[null,null,null,null,"Stop time     ",null,null,2,1.9074074074074073E-2]
[null,null,null,null,null,null,null,3,2.0543981481481479E-2]
[null,null,null,null,37368,null,null,4,2.1412037037037035E-2]
[null,1,"00:26:06",null,"MCH-005",null,null,5,2.1458333333333333E-2]
[null,2,"00:27:09",null,"    Lap#  "," Split Time ",null,6,2.210648148148148E-2]
[null,3,"00:27:21",null,1,1.8124999999999999E-2,null,7,2.2129629629629628E-2]
[null,4,"00:27:28",null,2,1.8854166666666665E-2,null,8,2.2523148148148143E-2]
[null,5,"00:30:46",null,3,1.8993055555555558E-2,null,9,2.2569444444444444E-2]
[null,6,"00:31:31",null,4,1.9074074074074073E-2,null,10,2.2581018518518518E-2]
[null,7,"00:31:40",null,5,2.1365740740740741E-2,null,11,2.2615740740740742E-2]
[null,8,"00:31:45",null,6,2.1886574074074072E-2,null,12,2.2650462962962966E-2]
[null,9,"00:31:49",null,7,2.1990740740740741E-2,null,13,2.2673611111111113E-2]
[null,10,"00:31:56",null,8,2.2048611111111113E-2,null,14,2.2743055555555555E-2]
[null,11,"00:32:02",null,9,2.2094907407407407E-2,null,15,2.3645833333333335E-2]
[null,12,"00:32:18",null,10,2.2175925925925929E-2,null,16,2.3692129629629629E-2]
[null,13,"00:33:07",null,11,2.224537037037037E-2,null,17,2.3958333333333331E-2]
[null,14,"00:33:21",null,12,2.2430555555555554E-2,null,18,2.4050925925925924E-2]
[null,15,"00:33:34",null,13,2.2997685185185187E-2,null,19,2.4120370370370372E-2]
[null,16,"00:33:36",null,14,2.3159722222222224E-2,null,20,2.4409722222222222E-2]
[null,17,"00:33:51",null,15,2.3310185185185187E-2,null,21,2.4456018518518519E-2]
[null,18,"00:33:59",null,16,2.3333333333333334E-2,null,22,2.4467592592592593E-2]
[null,19,"00:33:59",null,17,2.3506944444444445E-2,null,23,2.4560185185185185E-2]
[null,20,"00:34:15",null,18,2.359953703703704E-2,null,24,2.4722222222222225E-2]
[null,21,"00:34:23",null,19,2.359953703703704E-2,null,25,2.4907407407407406E-2]
[null,22,"00:34:32",null,20,2.3784722222222221E-2,null,26,2.4965277777777781E-2]
[null,23,"00:35:14",null,21,2.3877314814814813E-2,null,27,2.5011574074074075E-2]
[null,24,"00:35:26",null,22,2.3981481481481479E-2,null,28,2.5358796296296296E-2]
[null,25,"00:35:30",null,23,2.4467592592592593E-2,null,29,2.5416666666666667E-2]
[null,26,"00:35:42",null,24,2.4606481481481479E-2,null,30,2.56712962962963E-2]
[null,27,"00:36:05",null,25,2.4652777777777777E-2,null,31,2.5821759259259256E-2]
[null,28,"00:36:10",null,26,2.479166666666667E-2,null,32,2.5972222222222219E-2]
[null,29,"00:37:06",null,27,2.5057870370370373E-2,null,33,2.6342592592592588E-2]
[null,30,"00:37:31",null,28,2.5115740740740741E-2,null,34,2.6550925925925926E-2]
[null,31,"00:37:43",null,29,"00:37:06",null,35,"00:38:26"]
[null,32,2.6273148148148153E-2,null,30,2.6053240740740738E-2,null,36,2.6851851851851849E-2]
[null,33,2.6365740740740742E-2,null,31,2.6192129629629631E-2,null,37,2.7083333333333334E-2]
[null,34,2.6689814814814816E-2,null,32,2.6273148148148153E-2,null,38,2.7141203703703706E-2]
[null,35,2.6747685185185183E-2,null,33,2.636088E-2,null,39,2.7349537037037037E-2]
["5-Nagele",36,2.6817129629629632E-2,null,34,2.6692593000000001E-2,null,40,2.7476851851851853E-2]
[null,37,2.6863425925925926E-2,null,35,2.6744212999999999E-2,null,41,2.7916666666666669E-2]
[null,38,2.6875E-2,null,36,2.6817014E-2,null,42,2.8032407407407409E-2]
[null,39,2.6944444444444441E-2,null,37,2.6866550999999999E-2,null,43,2.8171296296296302E-2]
[null,40,2.7037037037037037E-2,null,38,2.6877431E-2,null,44,2.8252314814814813E-2]
[null,41,2.7372685185185184E-2,null,39,2.6946411999999999E-2,null,45,2.8449074074074075E-2]
[null,42,2.7696759259259258E-2,null,40,2.7035416999999999E-2,null,46,2.8784722222222225E-2]
[null,43,2.7719907407407405E-2,null,41,2.7370370000000002E-2,null,47,2.8877314814814817E-2]
[null,44,2.7754629629629629E-2,null,42,2.7701272999999998E-2,null,48,2.8923611111111108E-2]
[null,45,2.7766203703703706E-2,null,43,2.7716088E-2,null,49,2.9618055555555554E-2]
[null,46,2.7777777777777776E-2,null,44,2.7754050999999998E-2,null,50,2.9826388888888892E-2]
[null,47,2.7800925925925923E-2,null,45,2.7761343000000001E-2,null,51,3.1400462962962963E-2]
[null,48,2.7905092592592592E-2,null,46,2.7772569E-2,null,52,3.1527777777777773E-2]
[null,49,2.7986111111111111E-2,null,47,2.7806134E-2,null,53,3.2071759259259258E-2]
[null,50,2.8159722222222221E-2,null,48,2.7908565E-2,null,"Stop time     "]
[null,51,2.8761574074074075E-2,null,49,2.7989582999999998E-2,null,"Average time  "]
[null,52,2.9189814814814811E-2,null,50,2.8158102000000001E-2,null,"Fastest time  "]
[null,53,2.9953703703703705E-2,null,51,2.8756713E-2]
[null,54,3.142361111111111E-2,null,52,2.9192940000000001E-2,null,37368]
[null,null,null,null,53,2.9952777999999999E-2,null,"MCH-005"]
[null,null,null,null,54,3.1420139E-2,null,"    Lap#  "," Split Time "]
[null,null,null,null,"Stop time     ",null,null,1,1.4594907407407405E-2]
[null,null,null,null,"Average time  ",null,null,2,1.4745370370370372E-2]
[null,null,null,null,"Fastest time  ",null,null,3,1.5763888888888886E-2]
[null,null,null,null,null,null,null,4,1.5949074074074074E-2]
[null,null,null,null,37368,null,null,5,1.6041666666666666E-2]
[null,null,null,null,"MCH-006",null,null,6,1.6099537037037037E-2]
[null,null,null,null,"    Lap#  "," Split Time ",null,7,1.6354166666666666E-2]
[null,null,null,null,"Stop time     ",null,null,8,1.636574074074074E-2]
[null,null,null,null,null,null,null,9,1.638888888888889E-2]
[null,null,null,null,37368,null,null,10,1.6446759259259262E-2]
[null,null,null,null,"MCH-007",null,null,11,1.6562500000000001E-2]
[null,null,null,null,"    Lap#  "," Split Time ",null,12,1.6851851851851851E-2]
[null,null,null,null,1,2.30324E-5,null,13,1.7638888888888888E-2]
[null,null,null,null,"Stop time     ",null,null,14,1.7962962962962962E-2]
[null,null,null,null,"Average time  ",null,null,15,1.8206018518518517E-2]
[null,null,null,null,"Fastest time  ",null,null,16,1.8391203703703705E-2]
[null,null,null,null,null,null,null,17,1.8414351851851852E-2]
[null,null,null,null,37368,null,null,18,1.849537037037037E-2]
[null,1,1.2615740740740742E-2,null,"MCH-008",null,null,19,1.8657407407407407E-2]
[null,2,1.3912037037037037E-2,null,"    Lap#  "," Split Time ",null,20,1.8703703703703705E-2]
[null,3,1.4675925925925926E-2,null,1,1.2616319000000001E-2,null,21,1.8865740740740742E-2]
[null,4,1.4768518518518519E-2,null,2,1.3914005E-2,null,22,1.8900462962962963E-2]
[null,5,1.503472222222222E-2,null,3,1.4679051E-2,null,23,1.892361111111111E-2]
[null,6,1.5208333333333332E-2,null,4,1.4766898000000001E-2,null,24,1.8969907407407408E-2]
[null,7,1.5231481481481483E-2,null,5,1.5037152999999999E-2,null,25,1.9027777777777779E-2]
[null,8,1.5277777777777777E-2,null,6,1.5207406999999999E-2,null,26,1.9039351851851852E-2]
[null,9,1.5787037037037037E-2,null,7,1.5228009000000001E-2,null,27,1.9131944444444444E-2]
[null,10,1.579861111111111E-2,null,8,1.5277199E-2,null,28,1.9178240740740742E-2]
[null,11,1.5821759259259261E-2,null,9,1.5782175999999998E-2,null,29,1.923611111111111E-2]
[null,12,1.5833333333333335E-2,null,10,1.5793056E-2,null,30,1.9386574074074073E-2]
[null,13,1.6354166666666666E-2,null,11,1.5817593000000001E-2,null,31,1.9409722222222221E-2]
[null,14,1.636574074074074E-2,null,12,1.5838542000000001E-2,null,32,1.9409722222222221E-2]
[null,15,1.6446759259259262E-2,null,13,1.6351504999999999E-2,null,33,1.9467592592592595E-2]
[null,16,1.6516203703703703E-2,null,14,1.6365971999999999E-2,null,34,1.9490740740740743E-2]
[null,17,1.6655092592592593E-2,null,15,1.6448727E-2,null,35,1.9837962962962963E-2]
["6-Tollebeek",18,1.6689814814814817E-2,null,16,1.6514931E-2,null,36,1.9907407407407408E-2]
[null,19,1.6886574074074075E-2,null,17,1.6655092592592593E-2,null,37,2.0034722222222221E-2]
[null,20,1.6921296296296299E-2,null,18,1.6689814814814817E-2,null,38,2.0127314814814817E-2]
[null,21,1.7013888888888887E-2,null,19,1.6886574074074075E-2,null,39,2.0300925925925927E-2]
[null,22,1.7210648148148149E-2,null,20,1.6921296296296299E-2,null,40,2.0370370370370369E-2]
[null,23,1.726851851851852E-2,null,21,1.7013888888888887E-2,null,41,2.0416666666666666E-2]
[null,24,1.7291666666666667E-2,null,22,1.7210648148148149E-2,null,42,2.0694444444444446E-2]
[null,25,1.7546296296296296E-2,null,23,1.726851851851852E-2,null,43,2.0960648148148148E-2]
[null,26,1.7881944444444443E-2,null,24,1.7291666666666667E-2,null,44,2.1203703703703707E-2]
[null,27,1.7905092592592594E-2,null,25,1.7546296296296296E-2,null,45,2.1203703703703707E-2]
[null,28,1.8564814814814815E-2,null,26,1.7881944444444443E-2,null,46,2.1574074074074075E-2]
[null,29,"00:27:11",null,27,"00:25:47",null,47,"00:31:05"]
[null,30,"00:27:21",null,28,"00:26:44",null,48,"00:31:08"]
[null,31,1.9050925925925926E-2,null,29,"00:27:11",null,49,2.1678240740740738E-2]
[null,32,1.9120370370370371E-2,null,30,"00:27:21",null,50,2.1736111111111112E-2]
[null,33,1.9247685185185184E-2,null,31,"00:27:26",null,51,2.1840277777777778E-2]
[null,34,1.9293981481481485E-2,null,32,"00:27:32",null,52,2.2129629629629628E-2]
[null,35,1.9340277777777779E-2,null,33,"00:27:43",null,53,2.2870370370370371E-2]
[null,36,1.9340277777777779E-2,null,34,"00:27:47",null,54,2.3587962962962963E-2]
[null,37,1.9386574074074073E-2,null,35,"00:27:51",null,"Stop time     "]
[null,38,1.9421296296296294E-2,null,36,"00:27:51",null,"Average time  "]
[null,39,1.9456018518518518E-2,null,37,"00:27:55",null,"Fastest time  "]
[null,40,1.9490740740740743E-2,null,38,"00:27:58"]
[null,41,1.9618055555555555E-2,null,39,"00:28:01",null,37368]
[null,42,1.96875E-2,null,40,"00:28:04",null,"MCH-006"]
[null,43,1.9722222222222221E-2,null,41,"00:28:15",null,"    Lap#  "," Split Time "]
[null,44,1.9814814814814816E-2,null,42,"00:28:21",null,1,1.7361111111111112E-2]
[null,45,0.02,null,43,"00:28:24",null,2,1.8148148148148146E-2]
[null,46,2.0034722222222221E-2,null,44,"00:28:32",null,3,1.8749999999999999E-2]
[null,47,2.0196759259259258E-2,null,45,"00:28:48",null,4,1.9016203703703705E-2]
[null,48,2.0254629629629629E-2,null,46,"00:28:51",null,5,1.9074074074074073E-2]
[null,49,2.1006944444444443E-2,null,47,"00:29:05",null,6,1.9120370370370371E-2]
[null,50,2.1203703703703707E-2,null,48,"00:29:10",null,7,1.9143518518518518E-2]
[null,51,2.1909722222222223E-2,null,49,"00:30:15",null,8,1.9212962962962963E-2]
[null,52,2.2488425925925926E-2,null,50,"00:30:32",null,9,1.9444444444444445E-2]
[null,53,2.3506944444444445E-2,null,51,"00:31:33",null,10,1.982638888888889E-2]
[null,54,2.4363425925925927E-2,null,52,"00:32:23",null,11,1.9872685185185184E-2]
[null,null,null,null,53,"00:33:51",null,12,2.0370370370370369E-2]
[null,null,null,null,54,"00:35:05",null,13,2.0428240740740743E-2]
[null,null,null,null,"Stop time     ",null,null,14,2.0787037037037038E-2]
[null,null,null,null,"Average time  ",null,null,15,2.0937499999999998E-2]
[null,null,null,null,"Fastest time  ",null,null,16,2.1134259259259259E-2]
[null,null,null,null,null,null,null,17,2.1423611111111112E-2]
[null,null,null,null,37368,null,null,18,2.1562499999999998E-2]
[null,1,1.113425925925926E-2,null,"MCH-009",null,null,19,2.1701388888888892E-2]
[null,2,1.2314814814814815E-2,null,"    Lap#  "," Split Time ",null,20,2.1828703703703701E-2]
[null,3,1.2708333333333334E-2,null,1,"00:16:02",null,21,2.1979166666666664E-2]
[null,4,1.283564814814815E-2,null,2,"00:17:44",null,22,2.2118055555555557E-2]
[null,5,1.292824074074074E-2,null,3,"00:18:18",null,23,2.2141203703703705E-2]
[null,6,1.2939814814814814E-2,null,4,"00:18:29",null,24,2.2187499999999999E-2]
[null,7,1.2997685185185183E-2,null,5,"00:18:37",null,25,2.2199074074074076E-2]
[null,8,1.357638888888889E-2,null,6,"00:18:38",null,26,2.2210648148148149E-2]
[null,9,1.3692129629629629E-2,null,7,"00:18:43",null,27,2.2233796296296297E-2]
[null,10,1.4398148148148148E-2,null,8,"00:19:33",null,28,2.2407407407407407E-2]
[null,11,1.4606481481481482E-2,null,9,"00:19:43",null,29,2.2581018518518518E-2]
[null,12,1.4606481481481482E-2,null,10,1.4400926E-2,null,30,2.2835648148148147E-2]
["7-Urk",13,1.4618055555555556E-2,null,11,1.4601273E-2,null,31,2.2928240740740739E-2]
[null,14,1.4907407407407406E-2,null,12,"00:21:02",null,32,2.2997685185185187E-2]
[null,15,1.4930555555555556E-2,null,13,"00:21:03",null,33,2.3333333333333334E-2]
[null,16,1.5011574074074075E-2,null,14,"00:21:28",null,34,2.3379629629629629E-2]
[null,17,1.5474537037037038E-2,null,15,"00:21:30",null,35,2.3472222222222217E-2]
[null,18,1.5555555555555553E-2,null,16,"00:21:37",null,36,2.3495370370370371E-2]
[null,19,1.5578703703703704E-2,null,17,"00:22:17",null,37,2.3576388888888893E-2]
[null,20,1.5613425925925926E-2,null,18,"00:22:24",null,38,2.3587962962962963E-2]
[null,21,1.5810185185185184E-2,null,19,"00:22:26",null,39,2.3634259259259258E-2]
[null,22,1.5833333333333335E-2,null,20,"00:22:29",null,40,2.3912037037037034E-2]
[null,23,1.5844907407407408E-2,null,21,"00:22:46",null,41,2.3981481481481479E-2]
[null,24,1.5949074074074074E-2,null,22,"00:22:48",null,42,2.4062500000000001E-2]
[null,25,1.5960648148148151E-2,null,23,"00:22:49",null,43,2.4305555555555556E-2]
[null,26,1.5972222222222224E-2,null,24,"00:22:58",null,44,2.4375000000000004E-2]
[null,27,1.5983796296296295E-2,null,25,"00:22:59",null,45,2.4432870370370369E-2]
[null,28,1.6087962962962964E-2,null,26,"00:23:00",null,46,2.4548611111111115E-2]
[null,29,1.6099537037037037E-2,null,27,"00:23:01",null,47,2.4664351851851851E-2]
[null,30,1.6111111111111111E-2,null,28,"00:23:10",null,48,2.5127314814814811E-2]
[null,31,1.621527777777778E-2,null,29,"00:23:11",null,49,2.5381944444444443E-2]
[null,32,1.622685185185185E-2,null,30,"00:23:12",null,50,2.5648148148148146E-2]
[null,33,1.6273148148148148E-2,null,31,"00:23:21",null,51,2.585648148148148E-2]
[null,34,1.6446759259259262E-2,null,32,"00:23:22",null,52,2.6400462962962962E-2]
[null,35,1.6875000000000001E-2,null,33,"00:23:26",null,53,2.7083333333333334E-2]
[null,36,1.695601851851852E-2,null,34,"00:23:41",null,54,2.7129629629629632E-2]
[null,37,1.7141203703703704E-2,null,35,"00:24:18"]
[null,38,1.7233796296296296E-2,null,36,"00:24:25"]
[null,39,1.7407407407407406E-2,null,37,"00:24:41"]
[null,40,"00:25:30",null,38,"00:24:49"]
[null,41,"00:25:34",null,39,"00:25:04"]
[null,42,"00:25:36",null,40,1.7708333333333333E-2]
[null,43,"00:25:44",null,41,1.7754629629629631E-2]
[null,44,"00:25:47",null,42,1.7777777777777778E-2]
[null,45,"00:26:37",null,43,1.7870370370370373E-2]
[null,46,"00:26:38",null,44,1.7905092592592594E-2]
[null,47,"00:26:53",null,45,1.8483796296296297E-2]
[null,48,"00:27:17",null,46,1.849537037037037E-2]
[null,49,"00:27:30",null,47,1.8668981481481481E-2]
[null,50,"00:27:50",null,48,1.894675925925926E-2]
[null,51,"00:28:03",null,49,1.909722222222222E-2]
[null,52,"00:28:53",null,50,1.9328703703703702E-2]
[null,53,"00:29:02",null,51,1.9479166666666669E-2]
[null,54,"00:30:35",null,52,2.0057870370370368E-2]
[null,null,null,null,53,2.0162037037037037E-2]
[null,null,null,null,54,2.1238425925925924E-2]
[null,null,null,null,"Stop time     "]
[null,null,null,null,"Average time  "]
[null,null,null,null,"Fastest time  "]
[]
[null,null,null,null,37368]
[null,1,"00:17:51",null,"MCH-010"]
[null,2,"00:18:10",null,"    Lap#  "," Split Time "]
[null,3,"00:18:21",null,1,1.2395833333333335E-2]
[null,4,"00:18:27",null,2,1.2615740740740742E-2]
[null,5,"00:19:02",null,3,1.2743055555555556E-2]
[null,6,"00:19:34",null,4,1.2812499999999999E-2]
[null,7,"00:20:04",null,5,1.3215278E-2]
["8-Espel",8,"00:20:34",null,6,1.3585648000000001E-2]
[null,9,"00:20:46",null,7,1.3934606E-2]
[null,10,"00:20:52",null,8,1.4286574E-2]
[null,11,"00:20:54",null,9,1.4422917E-2]
[null,12,"00:21:00",null,10,1.4492361E-2]
[null,13,"00:21:54",null,11,1.4510069E-2]
[null,14,"00:21:55",null,12,1.4582754999999999E-2]
[null,15,"00:22:06",null,13,1.5205323999999999E-2]
[null,16,"00:22:09",null,14,1.5216435E-2]
[null,17,"00:22:14",null,15,1.5350694E-2]
[null,18,"00:22:14",null,16,1.538287E-2]
[null,19,"00:22:18",null,17,1.5434954000000001E-2]
[null,20,"00:22:23",null,18,1.5441435E-2]
[null,21,"00:22:25",null,19,1.5487730999999999E-2]
[null,22,"00:22:32",null,20,1.5541319E-2]
[null,23,"00:22:34",null,21,1.556956E-2]
[null,24,"00:22:51",null,22,1.5653356E-2]
[null,25,"00:23:10",null,23,1.5668980999999998E-2]
[null,26,"00:23:10",null,24,1.5870833000000001E-2]
[null,27,"00:23:25",null,25,1.6082755000000001E-2]
[null,28,"00:23:27",null,26,1.6088888999999999E-2]
[null,29,"00:23:32",null,27,1.6263194000000002E-2]
[null,30,"00:23:34",null,28,1.6281713E-2]
[null,31,"00:23:36",null,29,1.6347800999999999E-2]
[null,32,"00:23:37",null,30,1.6368519000000002E-2]
[null,33,"00:24:32",null,31,1.6390855999999999E-2]
[null,34,"00:24:39",null,32,1.6397801E-2]
[null,35,"00:24:44",null,33,1.7042245000000001E-2]
[null,36,"00:24:59",null,34,1.7117476999999999E-2]
[null,37,"00:25:27",null,35,1.7180093E-2]
[null,38,"00:25:28",null,36,1.7350810000000001E-2]
[null,39,"00:25:34",null,37,1.7670602000000001E-2]
[null,40,"00:25:45",null,38,1.7679630000000002E-2]
[null,41,"00:25:46",null,39,1.7751157E-2]
[null,42,"00:25:48",null,40,1.7878125000000002E-2]
[null,43,"00:25:49",null,41,1.7896295999999999E-2]
[null,44,"00:25:51",null,42,1.7911805999999999E-2]
[null,45,"00:25:53",null,43,1.7925579000000001E-2]
[null,46,"00:26:18",null,44,1.7948727000000001E-2]
[null,47,"00:27:15",null,45,1.7975463000000001E-2]
[null,48,"00:27:24",null,46,1.8265508999999999E-2]
[null,49,"00:27:26",null,47,1.8923842999999999E-2]
[null,50,1.9143518518518518E-2,null,48,1.9029745000000001E-2]
[null,51,1.9247685185185184E-2,null,49,1.9049305999999998E-2]
[null,52,1.9618055555555555E-2,null,50,1.9140856000000001E-2]
[null,53,1.9733796296296298E-2,null,51,1.9252199000000001E-2]
[null,54,1.9745370370370371E-2,null,52,1.9614236E-2]
[null,null,null,null,53,1.9728587999999998E-2]
[null,null,null,null,54,1.9740856000000001E-2]
[null,null,null,null,"Stop time     "]
[null,null,null,null,"Average time  "]
[null,null,null,null,"Fastest time  "]
[]
[null,null,null,null,37368]
[null,1,1.4594907407407405E-2,null,"MCH-011"]
[null,2,1.4745370370370372E-2,null,"    Lap#  "," Split Time "]
["9-Creil",3,1.577546296296296E-2,null,1,1.4593981000000001E-2]
[null,4,1.5949074074074074E-2,null,2,1.4745370370370372E-2]
[null,5,1.6053240740740739E-2,null,3,1.577546296296296E-2]
[null,6,1.6099537037037037E-2,null,4,1.5949074074074074E-2]
[null,7,1.6342592592592593E-2,null,5,1.6053240740740739E-2]
[null,8,1.636574074074074E-2,null,6,1.6099537037037037E-2]
[null,9,1.638888888888889E-2,null,7,1.6342592592592593E-2]
[null,10,1.6446759259259262E-2,null,8,1.636574074074074E-2]
[null,11,1.6574074074074074E-2,null,9,1.638888888888889E-2]
[null,12,1.6851851851851851E-2,null,10,1.6446759259259262E-2]
[null,13,1.7650462962962962E-2,null,11,1.6574074074074074E-2]
[null,14,1.7962962962962962E-2,null,12,1.6851851851851851E-2]
[null,15,1.8217592592592594E-2,null,13,1.7650462962962962E-2]
[null,16,1.8391203703703705E-2,null,14,1.7962962962962962E-2]
[null,17,1.8425925925925925E-2,null,15,1.8217592592592594E-2]
[null,18,1.849537037037037E-2,null,16,1.8391203703703705E-2]
[null,19,1.8657407407407407E-2,null,17,1.8425925925925925E-2]
[null,20,1.8703703703703705E-2,null,18,1.849537037037037E-2]
[null,21,1.8865740740740742E-2,null,19,1.8657407407407407E-2]
[null,22,1.8900462962962963E-2,null,20,1.8703703703703705E-2]
[null,23,1.892361111111111E-2,null,21,1.8865740740740742E-2]
[null,24,1.8969907407407408E-2,null,22,1.8900462962962963E-2]
[null,25,1.9027777777777779E-2,null,23,1.892361111111111E-2]
[null,26,1.9050925925925926E-2,null,24,1.8969907407407408E-2]
[null,27,1.9143518518518518E-2,null,25,1.9027777777777779E-2]
[null,28,1.9178240740740742E-2,null,26,1.9050925925925926E-2]
[null,29,1.9247685185185184E-2,null,27,1.9143518518518518E-2]
[null,30,1.9386574074074073E-2,null,28,1.9178240740740742E-2]
[null,31,1.9409722222222221E-2,null,29,1.9247685185185184E-2]
[null,32,1.9421296296296294E-2,null,30,1.9386574074074073E-2]
[null,33,1.9467592592592595E-2,null,31,1.9409722222222221E-2]
[null,34,1.9490740740740743E-2,null,32,1.9421296296296294E-2]
[null,35,1.9837962962962963E-2,null,33,1.9467592592592595E-2]
[null,36,1.9907407407407408E-2,null,34,1.9490740740740743E-2]
[null,37,2.0034722222222221E-2,null,35,1.9837962962962963E-2]
[null,38,2.0127314814814817E-2,null,36,1.9907407407407408E-2]
[null,39,2.0324074074074074E-2,null,37,2.0034722222222221E-2]
[null,40,2.0370370370370369E-2,null,38,2.0127314814814817E-2]
[null,41,2.0416666666666666E-2,null,39,2.0324074074074074E-2]
[null,42,2.0694444444444446E-2,null,40,2.0370370370370369E-2]
[null,43,2.0960648148148148E-2,null,41,2.0416666666666666E-2]
[null,44,2.1203703703703707E-2,null,42,2.0694444444444446E-2]
[null,45,2.1203703703703707E-2,null,43,2.0960648148148148E-2]
[null,46,2.1574074074074075E-2,null,44,2.1203703703703707E-2]
[null,47,2.1585648148148145E-2,null,45,2.1203703703703707E-2]
[null,48,2.162037037037037E-2,null,46,2.1574074074074075E-2]
[null,49,2.1678240740740738E-2,null,47,2.1585648148148145E-2]
[null,50,2.1736111111111112E-2,null,48,2.162037037037037E-2]
[null,51,2.1840277777777778E-2,null,49,2.1678240740740738E-2]
[null,52,2.2129629629629628E-2,null,50,2.1736111111111112E-2]
[null,53,2.2881944444444444E-2,null,51,2.1840277777777778E-2]
[null,54,2.3587962962962963E-2,null,52,2.2129629629629628E-2]
[null,null,null,null,53,2.2881944444444444E-2]
[null,null,null,null,54,2.3587962962962963E-2]
[null,null,null,null,"Stop time     "]
[null,null,null,null,"Average time  "]
["10-Rutten",null,null,null,"Fastest time  "]
[]
[null,null,null,null,37368]
[null,1,1.3819444444444445E-2,null,"MCH-012"]
[null,2,1.3969907407407408E-2,null,"    Lap#  "," Split Time "]
[null,3,1.4166666666666666E-2,null,1,1.3814583E-2]
[null,4,1.4884259259259259E-2,null,2,1.3968981E-2]
[null,5,1.5092592592592593E-2,null,3,1.4169097E-2]
[null,6,1.5138888888888889E-2,null,4,1.4889467999999999E-2]
[null,7,1.5185185185185185E-2,null,5,1.5088079000000001E-2]
[null,8,1.554398148148148E-2,null,6,1.5138772999999999E-2]
[null,9,1.5983796296296295E-2,null,7,1.5182523E-2]
[null,10,1.6053240740740739E-2,null,8,1.5549653E-2]
[null,11,1.7013888888888887E-2,null,9,1.5984374999999999E-2]
[null,12,1.7222222222222222E-2,null,10,1.6052315000000001E-2]
[null,13,1.7314814814814814E-2,null,11,1.7009375E-2]
[null,14,1.7523148148148149E-2,null,12,1.7220255E-2]
[null,15,1.7604166666666667E-2,null,13,1.7309606000000002E-2]
[null,16,1.7870370370370373E-2,null,14,1.7527661999999999E-2]
[null,17,1.7962962962962962E-2,null,15,1.7601156999999999E-2]
[null,18,1.8055555555555557E-2,null,16,1.7865162E-2]
[null,19,1.8298611111111113E-2,null,17,1.7966088000000002E-2]
[null,20,1.8402777777777778E-2,null,18,1.8057176000000001E-2]
[null,21,1.8402777777777778E-2,null,19,1.8301735999999999E-2]
[null,22,1.8414351851851852E-2,null,20,1.8400116000000001E-2]
[null,23,1.8900462962962963E-2,null,21,1.8405903000000001E-2]
[null,24,1.9259259259259261E-2,null,22,1.8410532E-2]
[null,25,1.9270833333333334E-2,null,23,1.8903587999999999E-2]
[null,26,1.9293981481481485E-2,null,24,1.9262036999999999E-2]
[null,27,1.9293981481481485E-2,null,25,1.9272106000000001E-2]
[null,28,1.9328703703703702E-2,null,26,1.9294907E-2]
[null,29,1.9398148148148147E-2,null,27,1.9299190000000001E-2]
[null,30,1.9537037037037037E-2,null,28,1.9328588000000001E-2]
[null,31,1.9571759259259257E-2,null,29,1.9397221999999999E-2]
[null,32,1.96875E-2,null,30,1.9533564999999999E-2]
[null,33,1.996527777777778E-2,null,31,1.9575230999999998E-2]
[null,34,1.9988425925925927E-2,null,32,1.9685531999999999E-2]
[null,35,2.0011574074074074E-2,null,33,1.9963656999999999E-2]
[null,36,2.0081018518518519E-2,null,34,1.9987847E-2]
[null,37,2.0127314814814817E-2,null,35,2.0008102E-2]
[null,38,2.0150462962962964E-2,null,36,2.0078009000000001E-2]
[null,39,2.0648148148148148E-2,null,37,2.0132176000000002E-2]
[null,40,2.0833333333333332E-2,null,38,2.0153588E-2]
[null,41,2.0844907407407406E-2,null,39,2.0652315000000001E-2]
[null,42,2.0879629629629626E-2,null,40,2.0837153000000001E-2]
[null,43,2.0937499999999998E-2,null,41,2.0841898000000001E-2]
[null,44,2.1076388888888891E-2,null,42,2.0881250000000001E-2]
[null,45,2.1134259259259259E-2,null,43,2.0938426E-2]
[null,46,2.1157407407407406E-2,null,44,2.1075116000000001E-2]
[null,47,2.1331018518518517E-2,null,45,2.1130092999999999E-2]
[null,48,2.1527777777777781E-2,null,46,2.1161573999999999E-2]
[null,49,2.1550925925925928E-2,null,47,2.1329397999999999E-2]
[null,50,2.1909722222222223E-2,null,48,2.1525463000000002E-2]
[null,51,2.193287037037037E-2,null,49,2.1552894E-2]
[null,52,2.2939814814814816E-2,null,50,2.1905207999999999E-2]
[null,53,2.3553240740740739E-2,null,51,2.1933101999999999E-2]
["11-Bant",null,null,null,52,2.2937152999999998E-2]
[null,null,null,null,53,"00:33:55"]
[]
[null,3,1.7951388888888888E-2]
[null,4,1.8020833333333333E-2]
[null,5,1.8078703703703704E-2]
[null,6,1.8796296296296297E-2]
[null,7,1.9247685185185184E-2]
[null,8,1.9386574074074073E-2]
[null,9,1.9409722222222221E-2]
[null,10,1.9907407407407408E-2]
[null,11,1.9976851851851853E-2]
[null,12,2.0104166666666666E-2]
[null,13,2.0324074074074074E-2]
[null,14,2.0358796296296295E-2]
[null,15,2.0462962962962964E-2]
[null,16,"00:29:54"]
[null,17,"00:29:59"]
[null,18,"00:30:41"]
[null,19,"00:30:56"]
[null,20,"00:31:00"]
[null,21,"00:31:02"]
[null,22,"00:31:08"]
[null,23,"00:31:33"]
[null,24,"00:31:34"]
[null,25,"00:31:40"]
[null,26,"00:32:08"]
[null,27,"00:32:23"]
[null,28,"00:32:25"]
[null,29,"00:32:42"]
[null,30,"00:32:56"]
[null,31,"00:33:22"]
[null,32,"00:33:26"]
[null,33,"00:33:28"]
[null,34,"00:33:34"]
[null,35,"00:33:50"]
[null,36,"00:34:04"]
[null,37,"00:34:08"]
[null,38,"00:34:09"]
[null,39,"00:34:10"]
[null,40,"00:34:12"]
[null,41,"00:34:18"]
[null,42,"00:34:32"]
[null,43,"00:34:34"]
[null,44,"00:34:36"]
[null,45,"00:34:44"]
[null,46,"00:35:07"]
[null,47,"00:35:11"]
[null,48,"00:35:15"]
[null,49,"00:35:18"]
[null,50,"00:35:40"]
[null,51,"00:35:57"]
[null,52,"00:35:58"]
[null,53,"00:36:06"]
[null,54,"00:36:13"]
[]
["12-Emmeloord"]
[]
[]
[]
[]
[]
[]
[]
[]
[]
[]
[]
[]
[]
[]
[]
[]
[]
[]
[]
[]
[]
[]
[]
[]
[]
[]
[]
[]
[]
[]
[]
[]
[]
[]
[]
[]
[]
[]
[]
[]
[]
[]
[]
[]
[]
[]
[]
[]
[]
[]
[]
[]
[]
[]
[]
[]
[]
[]
[]
[]
[]
[]
[]
[]
[]
[]
[]
[]
[]
[]
[]
[]
[]
[]
[]
[]
[]
[]
[]
[]
[null,48,2.0359722222222223E-2,null,null,null,null,48,2.0362268518518519E-2]
[null,49,2.0407523148148147E-2,null,null,null,null,49,2.0407060185185188E-2]
[null,50,2.0589699074074073E-2,null,null,null,null,50,2.0592245370370372E-2]
[null,51,2.0747800925925926E-2,null,null,null,null,51,2.0748148148148148E-2]
[null,52,2.097025462962963E-2,null,null,null,null,52,2.0972800925925923E-2]
[null,53,2.1097916666666664E-2,null,null,null,null,53,2.1101967592592589E-2]
[null,54,2.1133333333333334E-2,null,null,null,null,54,2.1137037037037038E-2]
[null,55,2.1217245370370369E-2,null,null,null,null,55,2.1215856481481481E-2]
[null,56,2.1228819444444446E-2,null,null,null,null,56,2.1232060185185184E-2]
[null,57,2.1579745370370371E-2,null,null,null,null,57,2.1582638888888891E-2]
[null,58,2.1592361111111111E-2,null,null,null,null,58,2.1598842592592593E-2]
[null,59,2.1964120370370373E-2,null,null,null,null,59,2.1957986111111109E-2]
[null,60,2.1980092592592593E-2,null,null,null,null,60,2.1982291666666667E-2]
[null,61,2.209328703703704E-2,null,null,null,null,61,2.209224537037037E-2]
[null,62,2.2110300925925929E-2,null,null,null,null,62,2.211458333333333E-2]
[null,63,2.2289351851851852E-2,null,null,null,null,63,2.2289004629629631E-2]
[null,64,2.2507754629629631E-2,null,null,null,null,64,2.2509953703703702E-2]
[null,65,2.2682870370370371E-2,null,null,null,null,65,2.2679976851851847E-2]
[null,66,2.2908564814814816E-2,null,null,null,null,66,2.2911805555555557E-2]
[null,67,2.3124074074074075E-2,null,null,null,null,67,2.3121990740740742E-2]
[null,68,2.395925925925926E-2,null,null,null,null,68,2.3958217592592593E-2]
[null,69,2.4068865740740738E-2,null,null,null,null,69,2.4068865740740738E-2]
[null,70,2.4830208333333329E-2,null,null,null,null,70,2.4832407407407411E-2]
[null,71,2.5850115740740743E-2,null,null,null,null,71,2.5843634259259257E-2]
[]
["11-Bant"]
[null,1,1.7301967592592591E-2,null,1,1.7299768518518516E-2]
[null,2,1.7731365740740742E-2,null,2,1.7731712962962963E-2]
[null,3,1.7956597222222224E-2,null,3,1.7945023148148147E-2]
[null,4,1.8015277777777779E-2,null,4,1.8014120370370371E-2]
[null,5,1.8074884259259259E-2,null,5,1.8072800925925926E-2]
[null,6,1.8800810185185184E-2,null,6,1.8800115740740742E-2]
[null,7,1.9246759259259259E-2,null,7,1.9240972222222222E-2]
[null,8,1.9381365740740741E-2,null,8,1.9379166666666666E-2]
[null,9,1.9407407407407404E-2,null,9,1.9407060185185187E-2]
[null,10,1.991226851851852E-2,null,10,1.9917013888888887E-2]
[null,11,1.9975925925925928E-2,null,11,1.9977430555555554E-2]
[null,12,2.0107291666666666E-2,null,12,2.0105092592592595E-2]
[null,13,2.0323148148148149E-2,null,13,2.0321759259259258E-2]
[null,14,2.0354629629629629E-2,null,14,2.035497685185185E-2]
[null,15,2.0465740740740739E-2,null,15,2.046423611111111E-2]
[null,16,2.0766666666666666E-2,null,16,2.0765162037037037E-2]
[null,17,2.0825578703703704E-2,null,17,2.0824189814814816E-2]
[null,18,2.1302662037037037E-2,null,18,2.1301504629629629E-2]
[null,19,2.1485300925925929E-2,null,19,2.1479861111111113E-2]
[null,20,2.1526851851851853E-2,null,20,2.152037037037037E-2]
[null,21,2.1555092592592594E-2,null,21,2.1555439814814812E-2]
[null,22,2.1615162037037037E-2,null,22,2.1614004629629632E-2]
[null,23,2.191134259259259E-2,null,23,2.1906712962962965E-2]
[null,24,2.1922222222222221E-2,null,24,2.1918634259259259E-2]
[null,25,2.1989467592592595E-2,null,25,2.1989467592592595E-2]
[null,26,2.2310648148148149E-2,null,26,2.231284722222222E-2]
[null,27,2.2494097222222221E-2,null,27,2.2493634259259262E-2]
[null,28,2.2510995370370369E-2,null,28,2.2512152777777777E-2]
[null,29,2.2712847222222221E-2,null,29,2.271435185185185E-2]
[null,30,2.2866203703703708E-2,null,30,2.2865856481481484E-2]
[null,31,2.316574074074074E-2,null,31,2.316574074074074E-2]
[null,32,2.3217824074074075E-2,null,32,2.3217824074074075E-2]
[null,33,2.3245601851851854E-2,null,33,2.3245601851851854E-2]
[null,34,2.3311458333333337E-2,null,34,2.3312615740740741E-2]
[null,35,2.3493750000000004E-2,null,35,2.3491550925925923E-2]
[null,36,2.365439814814815E-2,null,36,2.3659374999999996E-2]
[null,37,2.3700231481481478E-2,null,37,2.3698148148148145E-2]
[null,38,2.3715856481481477E-2,null,38,2.3715856481481477E-2]
[null,39,2.3726736111111108E-2,null,39,2.3724884259259258E-2]
[null,40,2.3753125E-2,null,40,2.3754513888888888E-2]
[null,41,2.381851851851852E-2,null,41,2.3822569444444441E-2]
[null,42,2.3984953703703706E-2,null,42,2.3985995370370369E-2]
[null,43,2.4007407407407408E-2,null,43,2.4005902777777779E-2]
[null,44,2.4022569444444447E-2,null,44,2.4024768518518518E-2]
[null,45,2.411550925925926E-2,null,45,2.411655092592593E-2]
[null,46,2.4387152777777778E-2,null,46,2.4379861111111109E-2]
[null,47,2.4437037037037035E-2,null,47,2.4441782407407409E-2]
[null,48,2.4479398148148146E-2,null,48,2.4482986111111108E-2]
[null,49,2.451122685185185E-2,null,49,2.451909722222222E-2]
[null,50,2.4773379629629635E-2,null,50,2.476909722222222E-2]
[null,51,2.4966550925925927E-2,null,51,2.4964004629629628E-2]
[null,52,2.498252314814815E-2,null,52,2.4983912037037037E-2]
[null,53,2.5067476851851855E-2,null,53,2.5068865740740742E-2]
[null,54,2.515428240740741E-2,null,54,2.5153935185185185E-2]
[null,55,2.5553935185185183E-2,null,55,2.5554629629629632E-2]
[null,56,2.5698263888888889E-2,null,56,2.5690624999999998E-2]
[null,57,2.5751736111111114E-2,null,57,2.5749999999999999E-2]
[null,58,2.5789467592592593E-2,null,58,2.5785416666666668E-2]
[null,59,2.5799189814814813E-2,null,59,2.5795138888888892E-2]
[null,60,2.6003472222222223E-2,null,60,2.6002777777777777E-2]
[null,61,2.602662037037037E-2,null,61,2.6029513888888887E-2]
[null,62,2.6248379629629628E-2,null,62,2.6247337962962958E-2]
[null,63,2.6431365740740741E-2,null,63,2.643287037037037E-2]
[null,64,2.6807175925925925E-2,null,64,2.680752314814815E-2]
[null,65,2.7032870370370374E-2,null,65,2.7035763888888887E-2]
[null,66,2.7088541666666664E-2,null,66,2.7090393518518521E-2]
[null,67,2.7228240740740737E-2,null,67,2.7228587962962961E-2]
[null,68,2.7326967592592594E-2,null,68,2.7328819444444444E-2]
[null,69,2.7495486111111109E-2,null,69,2.7495138888888892E-2]
[null,70,2.8616782407407407E-2,null,70,2.8614236111111111E-2]
[null,71,3.1878472222222225E-2,null,71,3.1879513888888891E-2]
[]
["12-Emmeloord"]
[null,null,null,null,1,1.3883333333333333E-2,null,1,1.3882986111111112E-2]
[null,null,null,null,2,1.4209953703703704E-2,null,2,1.4207407407407406E-2]
[null,null,null,null,3,1.4328124999999999E-2,null,3,1.4323842592592595E-2]
[null,null,null,null,4,1.4486226851851853E-2,null,4,1.4484375000000001E-2]
[null,null,null,null,5,1.4712268518518519E-2,null,5,1.4710879629629629E-2]
[null,null,null,null,6,1.5461342592592591E-2,null,6,1.5461689814814814E-2]
[null,null,null,null,7,1.5538425925925926E-2,null,7,1.5538425925925926E-2]
[null,null,null,null,8,1.5567013888888889E-2,null,8,1.556261574074074E-2]
[null,null,null,null,9,1.573263888888889E-2,null,9,1.5732291666666665E-2]
[null,null,null,null,10,1.6004282407407408E-2,null,10,1.6004282407407408E-2]
[null,null,null,null,11,1.6054166666666665E-2,null,11,1.6046875000000002E-2]
[null,null,null,null,12,1.6189467592592592E-2,null,12,1.618402777777778E-2]
[null,null,null,null,13,1.6239351851851852E-2,null,13,1.6237847222222223E-2]
[null,null,null,null,14,1.631273148148148E-2,null,14,1.6306944444444443E-2]
[null,null,null,null,15,1.648599537037037E-2,null,15,1.6487152777777778E-2]
[null,null,null,null,16,1.6500810185185188E-2,null,16,1.6498263888888889E-2]
[null,null,null,null,17,1.7384143518518518E-2,null,17,1.7381597222222222E-2]
[null,null,null,null,18,1.757835648148148E-2,null,18,1.7576157407407405E-2]
[null,null,null,null,19,1.7732060185185184E-2,null,19,1.7728472222222222E-2]
[null,null,null,null,20,1.7763194444444446E-2,null,20,1.7753356481481481E-2]
[null,null,null,null,21,1.7877430555555556E-2,null,21,1.7870949074074074E-2]
[null,null,null,null,22,1.7921527777777776E-2,null,22,1.7918634259259259E-2]
[null,null,null,null,23,1.7948726851851851E-2,null,23,1.7943981481481481E-2]
[null,null,null,null,24,1.8066550925925927E-2,null,24,1.8065162037037039E-2]
[null,null,null,null,25,1.8096296296296298E-2,null,25,1.8095486111111111E-2]
[null,null,null,null,26,1.8122685185185186E-2,null,26,1.8120486111111108E-2]
[null,null,null,null,27,1.8252199074074073E-2,null,27,1.824849537037037E-2]
[null,null,null,null,28,1.8521643518518521E-2,null,28,1.851585648148148E-2]
[null,null,null,null,29,1.8591435185185187E-2,null,29,1.8588888888888887E-2]
[null,null,null,null,30,1.8637731481481481E-2,null,30,1.8642013888888889E-2]
[null,null,null,null,31,1.8671412037037035E-2,null,31,1.8672800925925926E-2]
[null,null,null,null,32,1.8783449074074074E-2,null,32,1.8776273148148146E-2]
[null,null,null,null,33,1.9023611111111109E-2,null,33,1.9023263888888888E-2]
[null,null,null,null,34,1.9090162037037037E-2,null,34,1.9087268518518521E-2]
[null,null,null,null,35,1.9186342592592592E-2,null,35,1.918564814814815E-2]
[null,null,null,null,36,1.9252199074074074E-2,null,36,1.9250462962962962E-2]
[null,null,null,null,37,1.9328587962962964E-2,null,37,1.9323148148148148E-2]
[null,null,null,null,38,1.9354282407407407E-2,null,38,1.935347222222222E-2]
[null,null,null,null,39,1.9489120370370368E-2,null,39,1.9486921296296294E-2]
[null,null,null,null,40,1.9519097222222222E-2,null,40,1.9514814814814815E-2]
[null,null,null,null,41,1.9559259259259259E-2,null,41,1.9554976851851851E-2]
[null,null,null,null,42,1.958900462962963E-2,null,42,1.9583912037037035E-2]
[null,null,null,null,43,1.9780324074074075E-2,null,43,1.9775578703703701E-2]
[null,null,null,null,44,1.9887384259259257E-2,null,44,1.9881944444444442E-2]
[null,null,null,null,45,1.9932175925925926E-2,null,45,1.9928587962962964E-2]
[null,null,null,null,46,1.9968055555555555E-2,null,46,1.996400462962963E-2]
[null,null,null,null,47,2.001099537037037E-2,null,47,2.0012152777777778E-2]
[null,null,null,null,48,2.006747685185185E-2,null,48,2.0066435185185184E-2]
[null,null,null,null,49,2.0109374999999999E-2,null,49,2.0108680555555553E-2]
[null,null,null,null,50,2.0291319444444445E-2,null,50,2.0289236111111112E-2]
[null,null,null,null,51,2.0315625E-2,null,51,2.0314930555555555E-2]
[null,null,null,null,52,2.0325347222222224E-2,null,52,2.0323148148148149E-2]
[null,null,null,null,53,2.0398726851851852E-2,null,53,2.039699074074074E-2]
[null,null,null,null,54,2.0608912037037037E-2,null,54,2.0606712962962962E-2]
[null,null,null,null,55,2.0755092592592592E-2,null,55,2.0752199074074076E-2]
[null,null,null,null,56,2.0769097222222224E-2,null,56,2.0765856481481482E-2]
[null,null,null,null,57,2.0816550925925926E-2,null,57,2.0809606481481481E-2]
[null,null,null,null,58,2.1394097222222224E-2,null,58,2.1390162037037041E-2]
[null,null,null,null,59,2.1873379629629628E-2,null,59,2.1873032407407404E-2]
[null,null,null,null,60,2.2004282407407403E-2,null,60,2.200034722222222E-2]
[null,null,null,null,61,2.2073726851851851E-2,null,61,2.2067939814814818E-2]
[null,null,null,null,62,2.2143981481481483E-2,null,62,2.2144675925925925E-2]
[null,null,null,null,63,2.214976851851852E-2,null,63,2.2148611111111109E-2]
[null,null,null,null,64,2.2295138888888885E-2,null,64,2.2297337962962963E-2]
[null,null,null,null,65,2.2661458333333332E-2,null,65,2.2673842592592596E-2]
[null,null,null,null,66,2.2771875E-2,null,66,2.2767824074074072E-2]
[null,null,null,null,67,2.281990740740741E-2,null,67,2.2813425925925928E-2]
[null,null,null,null,68,2.2903819444444442E-2,null,68,2.2897685185185188E-2]
[null,null,null,null,69,2.3222453703703707E-2,null,69,2.3215625000000004E-2]
[null,null,null,null,70,2.3291550925925927E-2,null,70,2.3280324074074071E-2]
[null,null,null,null,71,2.3407986111111112E-2,null,71,2.3404050925925925E-2]